Workbook

Sheet Samenvatting
E2: Meer weten of meteen besparingen in gang zetten? Neem contact met me op!
E5: Telefoon: 033-3037709
E6: Email: david@personalwealth.nl
B8: Aan dit document kan op geen enkele manier rechten worden ontleend
B9: Deze rekentool geeft een sterk vereenvoudigde weergave van de werkelijkheid, zonder met alle aspecten rekening te houden
B10: Voor professioneel advies is het verstandig een expert te raadplegen
B12: Voor box 3 wordt het werkelijk rendement als uitgangspunt gehanteerd
H14: Samenvatting belastingen
B15: Gele cellen invullen! | H15: Belastingvoordeel of nadeel | L15: Bedrag | M15: Percentage
H16: Belastingvoordeel kind door hypotheekrenteaftrek | L16: =-F35 -> 134683.45 | M16: =C25 -> 0.3748
B17: Bedrag | C17: 500000 | D17: <= invullen | H17: Te betalen belasting ouder in box 3 | L17: =D50 -> -129365.11 | M17: =C26 -> 0.36
B18: Rente | C18: 0.04 | D18: <= invullen | H18: Te betalen belasting ouder in de BV | L18: =H50 -> -139588.55 | M18: =C23 -> 0.38845
B19: Vorm | C19: Annuïtair | D19: <= selecteren
B20: VPB tarief in BV | C20: 0.19 | D20: <= selecteren: 19% tot een winst van 200k, daarboven 25,8%
B21: Box 2 tarief | C21: 0.245 | D21: <= selecteren: 24,5% tot € 68.843 dividend per persoon, daarboven 31%
B22: Box 2 meenemen? | C22: ja | D22: <= selecteren: wil je de box 2 heffing naar privé meenemen in de berekening?
B23: Totaal belasting BV | C23: =IF(C22="nee",C20,(C20+(1-C20)*C21)) -> 0.38845
B24: Looptijd | C24: 30 | D24: jaar
B25: Rente-aftrek | C25: 0.3748
B26: Box 3 belasting | C26: 0.36
B29: KIND = leningnemer
C31: Bruto | E31: Te betalen | F31: Rente | H31: Netto
C32: Maandlasten | E32: Rente | F32: Aftrek | H32: Lasten
B33: Eerste maand | C33: =IF(C19="Lineair",Blad3!C14,Blad3!K14) -> 2387.0765 | E33: =IF($C$19="Lineair",Blad3!D14,Blad3!L14) -> 1666.6667 | F33: =E33*-C25 -> -624.66667 | H33: =C33+F33 -> 1762.4098
B34: Eerste jaar | C34: =IF(C19="Lineair",Blad3!C15,Blad3!K15) -> 28644.918 | E34: =IF($C$19="Lineair",Blad3!D15,Blad3!L15) -> 19839.736 | F34: =E34*-C25 -> -7435.9329 | H34: =C34+F34 -> 21208.985
B35: Hele looptijd | C35: =IF(C19="Lineair",Blad3!C16,Blad3!K16) -> 859347.53 | E35: =IF($C$19="Lineair",Blad3!D16,Blad3!L16) -> 359347.53 | F35: =E35*-C25 -> -134683.45 | H35: =C35+F35 -> 724664.08
B37: Gemiddeld per maand | C37: =C35/360 -> 2387.0765 | E37: =E35/360 -> 998.18759 | F37: =F35/360 -> -374.12071 | H37: =H35/360 -> 2012.9558
B41: OUDER = geldverstrekker
C44: Verstrekken vanuit privé | G44: Verstrekken vanuit de BV
C46: Ontvangen | D46: Box 3 | E46: Netto | G46: Ontvangen | H46: BV | I46: Netto
C47: Rente | D47: Belasting | E47: Ontvangsten | G47: Rente | H47: Belasting | I47: Ontvangsten
B48: Eerste maand | C48: =IF($C$19="Lineair",Blad3!D14,Blad3!L14) -> 1666.6667 | D48: =C48*-$C$26 -> -600 | E48: =C48+D48 -> 1066.6667 | G48: =C48 -> 1666.6667 | H48: =G48*-C$23 -> -647.41667 | I48: =G48+H48 -> 1019.25
B49: Eerste jaar | C49: =IF($C$19="Lineair",Blad3!D15,Blad3!L15) -> 19839.736 | D49: =C49*-$C$26 -> -7142.3048 | E49: =C49+D49 -> 12697.431 | G49: =C49 -> 19839.736 | H49: =G49*-$C$23 -> -7706.7453 | I49: =G49+H49 -> 12132.99
B50: Hele looptijd | C50: =IF($C$19="Lineair",Blad3!D16,Blad3!L16) -> 359347.53 | D50: =C50*-$C$26 -> -129365.11 | E50: =C50+D50 -> 229982.42 | G50: =C50 -> 359347.53 | H50: =G50*-$C$23 -> -139588.55 | I50: =G50+H50 -> 219758.98
B52: Gemiddeld per maand | C52: =C50/360 -> 998.18759 | D52: =D50/360 -> -359.34753 | E52: =E50/360 -> 638.84006 | G52: =G50/360 -> 998.18759 | H52: =H50/360 -> -387.74597 | I52: =G52+H52 -> 610.44162

Sheet Detailberekening
F2: Hypotheek vergelijken
F3: Hoofdsom | G3: =Samenvatting!C17 -> 500000
F4: Rentepercentage | G4: =Samenvatting!C18 -> 0.04
F5: Looptijd in maanden | G5: 360
A8: ="Lineaire hypotheek - totale som: € "&FIXED(SUMIF(B11:B610,">=0",F11:F610)) -> Lineaire hypotheek - totale som: € 800.833,33 | H8: ="Annuïteiten hypotheek - totale som: € "&FIXED(SUMIF(I11:I610,">=0",M11:M610)) -> Annuïteiten hypotheek - totale som: € 859.347,53
A10: Periode | B10: Totale schuld | C10: Te betalen rente | D10: Te betalen aflossing | E10: Restschuld | F10: Totale maandbedrag | H10: Periode | I10: Totale schuld | J10: Te betalen rente | K10: Te betalen aflossing | L10: Restschuld | M10: Totale maandbedrag
A11: =IF(B11<>"",1,"") -> 1 | B11: =G3 -> 500000 | C11: =IFERROR(B11*$G$4/12,"") -> 1666.6667 | D11: =IF(A11<>"",$G$3/$G$5,"") -> 1388.8889 | E11: =IF(A11<>"",B11-D11,"") -> 498611.11 | F11: =IF(A11<>"",C11+D11,"") -> 3055.5556 | H11: =A11 -> 1 | I11: =G3 -> 500000 | J11: =IFERROR(I11*$G$4/12,"") -> 1666.6667 | K11: =IFERROR(M11-J11,"") -> 720.40981 | L11: =IFERROR(I11-K11,"") -> 499279.59 | M11: =IF(H11<>"",-PMT($G$4/12,$G$5,$G$3),"") -> 2387.0765
A12: =IF(B12<>"",2,"") -> 2 | B12: =IFERROR(IF(B11-D11>=0.01,B11-D11,""),"") -> 498611.11 | C12: =IFERROR(B12*$G$4/12,"") -> 1662.037 | D12: =IF(A12<>"",$G$3/$G$5,"") -> 1388.8889 | E12: =IF(A12<>"",B12-D12,"") -> 497222.22 | F12: =IF(A12<>"",C12+D12,"") -> 3050.9259 | H12: =A12 -> 2 | I12: =IFERROR(IF(I11-K11>=0.01,I11-K11,""),"") -> 499279.59 | J12: =IFERROR(I12*$G$4/12,"") -> 1664.2653 | K12: =IFERROR(M12-J12,"") -> 722.81118 | L12: =IFERROR(I12-K12,"") -> 498556.78 | M12: =IF(H12<>"",-PMT($G$4/12,$G$5,$G$3),"") -> 2387.0765
A13: =IF(B13<>"",3,"") -> 3 | B13: =IFERROR(IF(B12-D12>=0.01,B12-D12,""),"") -> 497222.22 | C13: =IFERROR(B13*$G$4/12,"") -> 1657.4074 | D13: =IF(A13<>"",$G$3/$G$5,"") -> 1388.8889 | E13: =IF(A13<>"",B13-D13,"") -> 495833.33 | F13: =IF(A13<>"",C13+D13,"") -> 3046.2963 | H13: =A13 -> 3 | I13: =IFERROR(IF(I12-K12>=0.01,I12-K12,""),"") -> 498556.78 | J13: =IFERROR(I13*$G$4/12,"") -> 1661.8559 | K13: =IFERROR(M13-J13,"") -> 725.22055 | L13: =IFERROR(I13-K13,"") -> 497831.56 | M13: =IF(H13<>"",-PMT($G$4/12,$G$5,$G$3),"") -> 2387.0765
A14: =IF(B14<>"",4,"") -> 4 | B14: =IFERROR(IF(B13-D13>=0.01,B13-D13,""),"") -> 495833.33 | C14: =IFERROR(B14*$G$4/12,"") -> 1652.7778 | D14: =IF(A14<>"",$G$3/$G$5,"") -> 1388.8889 | E14: =IF(A14<>"",B14-D14,"") -> 494444.44 | F14: =IF(A14<>"",C14+D14,"") -> 3041.6667 | H14: =A14 -> 4 | I14: =IFERROR(IF(I13-K13>=0.01,I13-K13,""),"") -> 497831.56 | J14: =IFERROR(I14*$G$4/12,"") -> 1659.4385 | K14: =IFERROR(M14-J14,"") -> 727.63795 | L14: =IFERROR(I14-K14,"") -> 497103.92 | M14: =IF(H14<>"",-PMT($G$4/12,$G$5,$G$3),"") -> 2387.0765
A15: =IF(B15<>"",5,"") -> 5 | B15: =IFERROR(IF(B14-D14>=0.01,B14-D14,""),"") -> 494444.44 | C15: =IFERROR(B15*$G$4/12,"") -> 1648.1481 | D15: =IF(A15<>"",$G$3/$G$5,"") -> 1388.8889 | E15: =IF(A15<>"",B15-D15,"") -> 493055.56 | F15: =IF(A15<>"",C15+D15,"") -> 3037.037 | H15: =A15 -> 5 | I15: =IFERROR(IF(I14-K14>=0.01,I14-K14,""),"") -> 497103.92 | J15: =IFERROR(I15*$G$4/12,"") -> 1657.0131 | K15: =IFERROR(M15-J15,"") -> 730.06341 | L15: =IFERROR(I15-K15,"") -> 496373.86 | M15: =IF(H15<>"",-PMT($G$4/12,$G$5,$G$3),"") -> 2387.0765
A16: =IF(B16<>"",6,"") -> 6 | B16: =IFERROR(IF(B15-D15>=0.01,B15-D15,""),"") -> 493055.56 | C16: =IFERROR(B16*$G$4/12,"") -> 1643.5185 | D16: =IF(A16<>"",$G$3/$G$5,"") -> 1388.8889 | E16: =IF(A16<>"",B16-D16,"") -> 491666.67 | F16: =IF(A16<>"",C16+D16,"") -> 3032.4074 | H16: =A16 -> 6 | I16: =IFERROR(IF(I15-K15>=0.01,I15-K15,""),"") -> 496373.86 | J16: =IFERROR(I16*$G$4/12,"") -> 1654.5795 | K16: =IFERROR(M16-J16,"") -> 732.49695 | L16: =IFERROR(I16-K16,"") -> 495641.36 | M16: =IF(H16<>"",-PMT($G$4/12,$G$5,$G$3),"") -> 2387.0765
A17: =IF(B17<>"",7,"") -> 7 | B17: =IFERROR(IF(B16-D16>=0.01,B16-D16,""),"") -> 491666.67 | C17: =IFERROR(B17*$G$4/12,"") -> 1638.8889 | D17: =IF(A17<>"",$G$3/$G$5,"") -> 1388.8889 | E17: =IF(A17<>"",B17-D17,"") -> 490277.78 | F17: =IF(A17<>"",C17+D17,"") -> 3027.7778 | H17: =A17 -> 7 | I17: =IFERROR(IF(I16-K16>=0.01,I16-K16,""),"") -> 495641.36 | J17: =IFERROR(I17*$G$4/12,"") -> 1652.1379 | K17: =IFERROR(M17-J17,"") -> 734.93861 | L17: =IFERROR(I17-K17,"") -> 494906.42 | M17: =IF(H17<>"",-PMT($G$4/12,$G$5,$G$3),"") -> 2387.0765
A18: =IF(B18<>"",8,"") -> 8 | B18: =IFERROR(IF(B17-D17>=0.01,B17-D17,""),"") -> 490277.78 | C18: =IFERROR(B18*$G$4/12,"") -> 1634.2593 | D18: =IF(A18<>"",$G$3/$G$5,"") -> 1388.8889 | E18: =IF(A18<>"",B18-D18,"") -> 488888.89 | F18: =IF(A18<>"",C18+D18,"") -> 3023.1481 | H18: =A18 -> 8 | I18: =IFERROR(IF(I17-K17>=0.01,I17-K17,""),"") -> 494906.42 | J18: =IFERROR(I18*$G$4/12,"") -> 1649.6881 | K18: =IFERROR(M18-J18,"") -> 737.38841 | L18: =IFERROR(I18-K18,"") -> 494169.03 | M18: =IF(H18<>"",-PMT($G$4/12,$G$5,$G$3),"") -> 2387.0765
A19: =IF(B19<>"",9,"") -> 9 | B19: =IFERROR(IF(B18-D18>=0.01,B18-D18,""),"") -> 488888.89 | C19: =IFERROR(B19*$G$4/12,"") -> 1629.6296 | D19: =IF(A19<>"",$G$3/$G$5,"") -> 1388.8889 | E19: =IF(A19<>"",B19-D19,"") -> 487500 | F19: =IF(A19<>"",C19+D19,"") -> 3018.5185 | H19: =A19 -> 9 | I19: =IFERROR(IF(I18-K18>=0.01,I18-K18,""),"") -> 494169.03 | J19: =IFERROR(I19*$G$4/12,"") -> 1647.2301 | K19: =IFERROR(M19-J19,"") -> 739.84637 | L19: =IFERROR(I19-K19,"") -> 493429.19 | M19: =IF(H19<>"",-PMT($G$4/12,$G$5,$G$3),"") -> 2387.0765
A20: =IF(B20<>"",10,"") -> 10 | B20: =IFERROR(IF(B19-D19>=0.01,B19-D19,""),"") -> 487500 | C20: =IFERROR(B20*$G$4/12,"") -> 1625 | D20: =IF(A20<>"",$G$3/$G$5,"") -> 1388.8889 | E20: =IF(A20<>"",B20-D20,"") -> 486111.11 | F20: =IF(A20<>"",C20+D20,"") -> 3013.8889 | H20: =A20 -> 10 | I20: =IFERROR(IF(I19-K19>=0.01,I19-K19,""),"") -> 493429.19 | J20: =IFERROR(I20*$G$4/12,"") -> 1644.764 | K20: =IFERROR(M20-J20,"") -> 742.31252 | L20: =IFERROR(I20-K20,"") -> 492686.87 | M20: =IF(H20<>"",-PMT($G$4/12,$G$5,$G$3),"") -> 2387.0765
A21: =IF(B21<>"",11,"") -> 11 | B21: =IFERROR(IF(B20-D20>=0.01,B20-D20,""),"") -> 486111.11 | C21: =IFERROR(B21*$G$4/12,"") -> 1620.3704 | D21: =IF(A21<>"",$G$3/$G$5,"") -> 1388.8889 | E21: =IF(A21<>"",B21-D21,"") -> 484722.22 | F21: =IF(A21<>"",C21+D21,"") -> 3009.2593 | H21: =A21 -> 11 | I21: =IFERROR(IF(I20-K20>=0.01,I20-K20,""),"") -> 492686.87 | J21: =IFERROR(I21*$G$4/12,"") -> 1642.2896 | K21: =IFERROR(M21-J21,"") -> 744.7869 | L21: =IFERROR(I21-K21,"") -> 491942.09 | M21: =IF(H21<>"",-PMT($G$4/12,$G$5,$G$3),"") -> 2387.0765
A22: =IF(B22<>"",12,"") -> 12 | B22: =IFERROR(IF(B21-D21>=0.01,B21-D21,""),"") -> 484722.22 | C22: =IFERROR(B22*$G$4/12,"") -> 1615.7407 | D22: =IF(A22<>"",$G$3/$G$5,"") -> 1388.8889 | E22: =IF(A22<>"",B22-D22,"") -> 483333.33 | F22: =IF(A22<>"",C22+D22,"") -> 3004.6296 | H22: =A22 -> 12 | I22: =IFERROR(IF(I21-K21>=0.01,I21-K21,""),"") -> 491942.09 | J22: =IFERROR(I22*$G$4/12,"") -> 1639.807 | K22: =IFERROR(M22-J22,"") -> 747.26952 | L22: =IFERROR(I22-K22,"") -> 491194.82 | M22: =IF(H22<>"",-PMT($G$4/12,$G$5,$G$3),"") -> 2387.0765
A23: =IF(B23<>"",13,"") -> 13 | B23: =IFERROR(IF(B22-D22>=0.01,B22-D22,""),"") -> 483333.33 | C23: =IFERROR(B23*$G$4/12,"") -> 1611.1111 | D23: =IF(A23<>"",$G$3/$G$5,"") -> 1388.8889 | E23: =IF(A23<>"",B23-D23,"") -> 481944.44 | F23: =IF(A23<>"",C23+D23,"") -> 3000 | H23: =A23 -> 13 | I23: =IFERROR(IF(I22-K22>=0.01,I22-K22,""),"") -> 491194.82 | J23: =IFERROR(I23*$G$4/12,"") -> 1637.3161 | K23: =IFERROR(M23-J23,"") -> 749.76042 | L23: =IFERROR(I23-K23,"") -> 490445.06 | M23: =IF(H23<>"",-PMT($G$4/12,$G$5,$G$3),"") -> 2387.0765
A24: =IF(B24<>"",14,"") -> 14 | B24: =IFERROR(IF(B23-D23>=0.01,B23-D23,""),"") -> 481944.44 | C24: =IFERROR(B24*$G$4/12,"") -> 1606.4815 | D24: =IF(A24<>"",$G$3/$G$5,"") -> 1388.8889 | E24: =IF(A24<>"",B24-D24,"") -> 480555.56 | F24: =IF(A24<>"",C24+D24,"") -> 2995.3704 | H24: =A24 -> 14 | I24: =IFERROR(IF(I23-K23>=0.01,I23-K23,""),"") -> 490445.06 | J24: =IFERROR(I24*$G$4/12,"") -> 1634.8169 | K24: =IFERROR(M24-J24,"") -> 752.25962 | L24: =IFERROR(I24-K24,"") -> 489692.8 | M24: =IF(H24<>"",-PMT($G$4/12,$G$5,$G$3),"") -> 2387.0765
A25: =IF(B25<>"",15,"") -> 15 | B25: =IFERROR(IF(B24-D24>=0.01,B24-D24,""),"") -> 480555.56 | C25: =IFERROR(B25*$G$4/12,"") -> 1601.8519 | D25: =IF(A25<>"",$G$3/$G$5,"") -> 1388.8889 | E25: =IF(A25<>"",B25-D25,"") -> 479166.67 | F25: =IF(A25<>"",C25+D25,"") -> 2990.7407 | H25: =A25 -> 15 | I25: =IFERROR(IF(I24-K24>=0.01,I24-K24,""),"") -> 489692.8 | J25: =IFERROR(I25*$G$4/12,"") -> 1632.3093 | K25: =IFERROR(M25-J25,"") -> 754.76715 | L25: =IFERROR(I25-K25,"") -> 488938.03 | M25: =IF(H25<>"",-PMT($G$4/12,$G$5,$G$3),"") -> 2387.0765
A26: =IF(B26<>"",16,"") -> 16 | B26: =IFERROR(IF(B25-D25>=0.01,B25-D25,""),"") -> 479166.67 | C26: =IFERROR(B26*$G$4/12,"") -> 1597.2222 | D26: =IF(A26<>"",$G$3/$G$5,"") -> 1388.8889 | E26: =IF(A26<>"",B26-D26,"") -> 477777.78 | F26: =IF(A26<>"",C26+D26,"") -> 2986.1111 | H26: =A26 -> 16 | I26: =IFERROR(IF(I25-K25>=0.01,I25-K25,""),"") -> 488938.03 | J26: =IFERROR(I26*$G$4/12,"") -> 1629.7934 | K26: =IFERROR(M26-J26,"") -> 757.28304 | L26: =IFERROR(I26-K26,"") -> 488180.75 | M26: =IF(H26<>"",-PMT($G$4/12,$G$5,$G$3),"") -> 2387.0765
A27: =IF(B27<>"",17,"") -> 17 | B27: =IFERROR(IF(B26-D26>=0.01,B26-D26,""),"") -> 477777.78 | C27: =IFERROR(B27*$G$4/12,"") -> 1592.5926 | D27: =IF(A27<>"",$G$3/$G$5,"") -> 1388.8889 | E27: =IF(A27<>"",B27-D27,"") -> 476388.89 | F27: =IF(A27<>"",C27+D27,"") -> 2981.4815 | H27: =A27 -> 17 | I27: =IFERROR(IF(I26-K26>=0.01,I26-K26,""),"") -> 488180.75 | J27: =IFERROR(I27*$G$4/12,"") -> 1627.2692 | K27: =IFERROR(M27-J27,"") -> 759.80732 | L27: =IFERROR(I27-K27,"") -> 487420.94 | M27: =IF(H27<>"",-PMT($G$4/12,$G$5,$G$3),"") -> 2387.0765
A28: =IF(B28<>"",18,"") -> 18 | B28: =IFERROR(IF(B27-D27>=0.01,B27-D27,""),"") -> 476388.89 | C28: =IFERROR(B28*$G$4/12,"") -> 1587.963 | D28: =IF(A28<>"",$G$3/$G$5,"") -> 1388.8889 | E28: =IF(A28<>"",B28-D28,"") -> 475000 | F28: =IF(A28<>"",C28+D28,"") -> 2976.8519 | H28: =A28 -> 18 | I28: =IFERROR(IF(I27-K27>=0.01,I27-K27,""),"") -> 487420.94 | J28: =IFERROR(I28*$G$4/12,"") -> 1624.7365 | K28: =IFERROR(M28-J28,"") -> 762.34001 | L28: =IFERROR(I28-K28,"") -> 486658.6 | M28: =IF(H28<>"",-PMT($G$4/12,$G$5,$G$3),"") -> 2387.0765
A29: =IF(B29<>"",19,"") -> 19 | B29: =IFERROR(IF(B28-D28>=0.01,B28-D28,""),"") -> 475000 | C29: =IFERROR(B29*$G$4/12,"") -> 1583.3333 | D29: =IF(A29<>"",$G$3/$G$5,"") -> 1388.8889 | E29: =IF(A29<>"",B29-D29,"") -> 473611.11 | F29: =IF(A29<>"",C29+D29,"") -> 2972.2222 | H29: =A29 -> 19 | I29: =IFERROR(IF(I28-K28>=0.01,I28-K28,""),"") -> 486658.6 | J29: =IFERROR(I29*$G$4/12,"") -> 1622.1953 | K29: =IFERROR(M29-J29,"") -> 764.88114 | L29: =IFERROR(I29-K29,"") -> 485893.72 | M29: =IF(H29<>"",-PMT($G$4/12,$G$5,$G$3),"") -> 2387.0765
A30: =IF(B30<>"",20,"") -> 20 | B30: =IFERROR(IF(B29-D29>=0.01,B29-D29,""),"") -> 473611.11 | C30: =IFERROR(B30*$G$4/12,"") -> 1578.7037 | D30: =IF(A30<>"",$G$3/$G$5,"") -> 1388.8889 | E30: =IF(A30<>"",B30-D30,"") -> 472222.22 | F30: =IF(A30<>"",C30+D30,"") -> 2967.5926 | H30: =A30 -> 20 | I30: =IFERROR(IF(I29-K29>=0.01,I29-K29,""),"") -> 485893.72 | J30: =IFERROR(I30*$G$4/12,"") -> 1619.6457 | K30: =IFERROR(M30-J30,"") -> 767.43075 | L30: =IFERROR(I30-K30,"") -> 485126.29 | M30: =IF(H30<>"",-PMT($G$4/12,$G$5,$G$3),"") -> 2387.0765
A31: =IF(B31<>"",21,"") -> 21 | B31: =IFERROR(IF(B30-D30>=0.01,B30-D30,""),"") -> 472222.22 | C31: =IFERROR(B31*$G$4/12,"") -> 1574.0741 | D31: =IF(A31<>"",$G$3/$G$5,"") -> 1388.8889 | E31: =IF(A31<>"",B31-D31,"") -> 470833.33 | F31: =IF(A31<>"",C31+D31,"") -> 2962.963 | H31: =A31 -> 21 | I31: =IFERROR(IF(I30-K30>=0.01,I30-K30,""),"") -> 485126.29 | J31: =IFERROR(I31*$G$4/12,"") -> 1617.0876 | K31: =IFERROR(M31-J31,"") -> 769.98885 | L31: =IFERROR(I31-K31,"") -> 484356.3 | M31: =IF(H31<>"",-PMT($G$4/12,$G$5,$G$3),"") -> 2387.0765
A32: =IF(B32<>"",22,"") -> 22 | B32: =IFERROR(IF(B31-D31>=0.01,B31-D31,""),"") -> 470833.33 | C32: =IFERROR(B32*$G$4/12,"") -> 1569.4444 | D32: =IF(A32<>"",$G$3/$G$5,"") -> 1388.8889 | E32: =IF(A32<>"",B32-D32,"") -> 469444.44 | F32: =IF(A32<>"",C32+D32,"") -> 2958.3333 | H32: =A32 -> 22 | I32: =IFERROR(IF(I31-K31>=0.01,I31-K31,""),"") -> 484356.3 | J32: =IFERROR(I32*$G$4/12,"") -> 1614.521 | K32: =IFERROR(M32-J32,"") -> 772.55548 | L32: =IFERROR(I32-K32,"") -> 483583.74 | M32: =IF(H32<>"",-PMT($G$4/12,$G$5,$G$3),"") -> 2387.0765
A33: =IF(B33<>"",23,"") -> 23 | B33: =IFERROR(IF(B32-D32>=0.01,B32-D32,""),"") -> 469444.44 | C33: =IFERROR(B33*$G$4/12,"") -> 1564.8148 | D33: =IF(A33<>"",$G$3/$G$5,"") -> 1388.8889 | E33: =IF(A33<>"",B33-D33,"") -> 468055.56 | F33: =IF(A33<>"",C33+D33,"") -> 2953.7037 | H33: =A33 -> 23 | I33: =IFERROR(IF(I32-K32>=0.01,I32-K32,""),"") -> 483583.74 | J33: =IFERROR(I33*$G$4/12,"") -> 1611.9458 | K33: =IFERROR(M33-J33,"") -> 775.13066 | L33: =IFERROR(I33-K33,"") -> 482808.61 | M33: =IF(H33<>"",-PMT($G$4/12,$G$5,$G$3),"") -> 2387.0765
A34: =IF(B34<>"",24,"") -> 24 | B34: =IFERROR(IF(B33-D33>=0.01,B33-D33,""),"") -> 468055.56 | C34: =IFERROR(B34*$G$4/12,"") -> 1560.1852 | D34: =IF(A34<>"",$G$3/$G$5,"") -> 1388.8889 | E34: =IF(A34<>"",B34-D34,"") -> 466666.67 | F34: =IF(A34<>"",C34+D34,"") -> 2949.0741 | H34: =A34 -> 24 | I34: =IFERROR(IF(I33-K33>=0.01,I33-K33,""),"") -> 482808.61 | J34: =IFERROR(I34*$G$4/12,"") -> 1609.362 | K34: =IFERROR(M34-J34,"") -> 777.71443 | L34: =IFERROR(I34-K34,"") -> 482030.9 | M34: =IF(H34<>"",-PMT($G$4/12,$G$5,$G$3),"") -> 2387.0765
A35: =IF(B35<>"",25,"") -> 25 | B35: =IFERROR(IF(B34-D34>=0.01,B34-D34,""),"") -> 466666.67 | C35: =IFERROR(B35*$G$4/12,"") -> 1555.5556 | D35: =IF(A35<>"",$G$3/$G$5,"") -> 1388.8889 | E35: =IF(A35<>"",B35-D35,"") -> 465277.78 | F35: =IF(A35<>"",C35+D35,"") -> 2944.4444 | H35: =A35 -> 25 | I35: =IFERROR(IF(I34-K34>=0.01,I34-K34,""),"") -> 482030.9 | J35: =IFERROR(I35*$G$4/12,"") -> 1606.7697 | K35: =IFERROR(M35-J35,"") -> 780.30681 | L35: =IFERROR(I35-K35,"") -> 481250.59 | M35: =IF(H35<>"",-PMT($G$4/12,$G$5,$G$3),"") -> 2387.0765
A36: =IF(B36<>"",26,"") -> 26 | B36: =IFERROR(IF(B35-D35>=0.01,B35-D35,""),"") -> 465277.78 | C36: =IFERROR(B36*$G$4/12,"") -> 1550.9259 | D36: =IF(A36<>"",$G$3/$G$5,"") -> 1388.8889 | E36: =IF(A36<>"",B36-D36,"") -> 463888.89 | F36: =IF(A36<>"",C36+D36,"") -> 2939.8148 | H36: =A36 -> 26 | I36: =IFERROR(IF(I35-K35>=0.01,I35-K35,""),"") -> 481250.59 | J36: =IFERROR(I36*$G$4/12,"") -> 1604.1686 | K36: =IFERROR(M36-J36,"") -> 782.90784 | L36: =IFERROR(I36-K36,"") -> 480467.68 | M36: =IF(H36<>"",-PMT($G$4/12,$G$5,$G$3),"") -> 2387.0765
A37: =IF(B37<>"",27,"") -> 27 | B37: =IFERROR(IF(B36-D36>=0.01,B36-D36,""),"") -> 463888.89 | C37: =IFERROR(B37*$G$4/12,"") -> 1546.2963 | D37: =IF(A37<>"",$G$3/$G$5,"") -> 1388.8889 | E37: =IF(A37<>"",B37-D37,"") -> 462500 | F37: =IF(A37<>"",C37+D37,"") -> 2935.1852 | H37: =A37 -> 27 | I37: =IFERROR(IF(I36-K36>=0.01,I36-K36,""),"") -> 480467.68 | J37: =IFERROR(I37*$G$4/12,"") -> 1601.5589 | K37: =IFERROR(M37-J37,"") -> 785.51753 | L37: =IFERROR(I37-K37,"") -> 479682.17 | M37: =IF(H37<>"",-PMT($G$4/12,$G$5,$G$3),"") -> 2387.0765
A38: =IF(B38<>"",28,"") -> 28 | B38: =IFERROR(IF(B37-D37>=0.01,B37-D37,""),"") -> 462500 | C38: =IFERROR(B38*$G$4/12,"") -> 1541.6667 | D38: =IF(A38<>"",$G$3/$G$5,"") -> 1388.8889 | E38: =IF(A38<>"",B38-D38,"") -> 461111.11 | F38: =IF(A38<>"",C38+D38,"") -> 2930.5556 | H38: =A38 -> 28 | I38: =IFERROR(IF(I37-K37>=0.01,I37-K37,""),"") -> 479682.17 | J38: =IFERROR(I38*$G$4/12,"") -> 1598.9406 | K38: =IFERROR(M38-J38,"") -> 788.13592 | L38: =IFERROR(I38-K38,"") -> 478894.03 | M38: =IF(H38<>"",-PMT($G$4/12,$G$5,$G$3),"") -> 2387.0765
A39: =IF(B39<>"",29,"") -> 29 | B39: =IFERROR(IF(B38-D38>=0.01,B38-D38,""),"") -> 461111.11 | C39: =IFERROR(B39*$G$4/12,"") -> 1537.037 | D39: =IF(A39<>"",$G$3/$G$5,"") -> 1388.8889 | E39: =IF(A39<>"",B39-D39,"") -> 459722.22 | F39: =IF(A39<>"",C39+D39,"") -> 2925.9259 | H39: =A39 -> 29 | I39: =IFERROR(IF(I38-K38>=0.01,I38-K38,""),"") -> 478894.03 | J39: =IFERROR(I39*$G$4/12,"") -> 1596.3134 | K39: =IFERROR(M39-J39,"") -> 790.76304 | L39: =IFERROR(I39-K39,"") -> 478103.27 | M39: =IF(H39<>"",-PMT($G$4/12,$G$5,$G$3),"") -> 2387.0765
A40: =IF(B40<>"",30,"") -> 30 | B40: =IFERROR(IF(B39-D39>=0.01,B39-D39,""),"") -> 459722.22 | C40: =IFERROR(B40*$G$4/12,"") -> 1532.4074 | D40: =IF(A40<>"",$G$3/$G$5,"") -> 1388.8889 | E40: =IF(A40<>"",B40-D40,"") -> 458333.33 | F40: =IF(A40<>"",C40+D40,"") -> 2921.2963 | H40: =A40 -> 30 | I40: =IFERROR(IF(I39-K39>=0.01,I39-K39,""),"") -> 478103.27 | J40: =IFERROR(I40*$G$4/12,"") -> 1593.6776 | K40: =IFERROR(M40-J40,"") -> 793.39892 | L40: =IFERROR(I40-K40,"") -> 477309.87 | M40: =IF(H40<>"",-PMT($G$4/12,$G$5,$G$3),"") -> 2387.0765
A41: =IF(B41<>"",31,"") -> 31 | B41: =IFERROR(IF(B40-D40>=0.01,B40-D40,""),"") -> 458333.33 | C41: =IFERROR(B41*$G$4/12,"") -> 1527.7778 | D41: =IF(A41<>"",$G$3/$G$5,"") -> 1388.8889 | E41: =IF(A41<>"",B41-D41,"") -> 456944.44 | F41: =IF(A41<>"",C41+D41,"") -> 2916.6667 | H41: =A41 -> 31 | I41: =IFERROR(IF(I40-K40>=0.01,I40-K40,""),"") -> 477309.87 | J41: =IFERROR(I41*$G$4/12,"") -> 1591.0329 | K41: =IFERROR(M41-J41,"") -> 796.04358 | L41: =IFERROR(I41-K41,"") -> 476513.83 | M41: =IF(H41<>"",-PMT($G$4/12,$G$5,$G$3),"") -> 2387.0765
A42: =IF(B42<>"",32,"") -> 32 | B42: =IFERROR(IF(B41-D41>=0.01,B41-D41,""),"") -> 456944.44 | C42: =IFERROR(B42*$G$4/12,"") -> 1523.1481 | D42: =IF(A42<>"",$G$3/$G$5,"") -> 1388.8889 | E42: =IF(A42<>"",B42-D42,"") -> 455555.56 | F42: =IF(A42<>"",C42+D42,"") -> 2912.037 | H42: =A42 -> 32 | I42: =IFERROR(IF(I41-K41>=0.01,I41-K41,""),"") -> 476513.83 | J42: =IFERROR(I42*$G$4/12,"") -> 1588.3794 | K42: =IFERROR(M42-J42,"") -> 798.69706 | L42: =IFERROR(I42-K42,"") -> 475715.13 | M42: =IF(H42<>"",-PMT($G$4/12,$G$5,$G$3),"") -> 2387.0765
A43: =IF(B43<>"",33,"") -> 33 | B43: =IFERROR(IF(B42-D42>=0.01,B42-D42,""),"") -> 455555.56 | C43: =IFERROR(B43*$G$4/12,"") -> 1518.5185 | D43: =IF(A43<>"",$G$3/$G$5,"") -> 1388.8889 | E43: =IF(A43<>"",B43-D43,"") -> 454166.67 | F43: =IF(A43<>"",C43+D43,"") -> 2907.4074 | H43: =A43 -> 33 | I43: =IFERROR(IF(I42-K42>=0.01,I42-K42,""),"") -> 475715.13 | J43: =IFERROR(I43*$G$4/12,"") -> 1585.7171 | K43: =IFERROR(M43-J43,"") -> 801.35938 | L43: =IFERROR(I43-K43,"") -> 474913.77 | M43: =IF(H43<>"",-PMT($G$4/12,$G$5,$G$3),"") -> 2387.0765
A44: =IF(B44<>"",34,"") -> 34 | B44: =IFERROR(IF(B43-D43>=0.01,B43-D43,""),"") -> 454166.67 | C44: =IFERROR(B44*$G$4/12,"") -> 1513.8889 | D44: =IF(A44<>"",$G$3/$G$5,"") -> 1388.8889 | E44: =IF(A44<>"",B44-D44,"") -> 452777.78 | F44: =IF(A44<>"",C44+D44,"") -> 2902.7778 | H44: =A44 -> 34 | I44: =IFERROR(IF(I43-K43>=0.01,I43-K43,""),"") -> 474913.77 | J44: =IFERROR(I44*$G$4/12,"") -> 1583.0459 | K44: =IFERROR(M44-J44,"") -> 804.03058 | L44: =IFERROR(I44-K44,"") -> 474109.74 | M44: =IF(H44<>"",-PMT($G$4/12,$G$5,$G$3),"") -> 2387.0765
A45: =IF(B45<>"",35,"") -> 35 | B45: =IFERROR(IF(B44-D44>=0.01,B44-D44,""),"") -> 452777.78 | C45: =IFERROR(B45*$G$4/12,"") -> 1509.2593 | D45: =IF(A45<>"",$G$3/$G$5,"") -> 1388.8889 | E45: =IF(A45<>"",B45-D45,"") -> 451388.89 | F45: =IF(A45<>"",C45+D45,"") -> 2898.1481 | H45: =A45 -> 35 | I45: =IFERROR(IF(I44-K44>=0.01,I44-K44,""),"") -> 474109.74 | J45: =IFERROR(I45*$G$4/12,"") -> 1580.3658 | K45: =IFERROR(M45-J45,"") -> 806.71068 | L45: =IFERROR(I45-K45,"") -> 473303.03 | M45: =IF(H45<>"",-PMT($G$4/12,$G$5,$G$3),"") -> 2387.0765
A46: =IF(B46<>"",36,"") -> 36 | B46: =IFERROR(IF(B45-D45>=0.01,B45-D45,""),"") -> 451388.89 | C46: =IFERROR(B46*$G$4/12,"") -> 1504.6296 | D46: =IF(A46<>"",$G$3/$G$5,"") -> 1388.8889 | E46: =IF(A46<>"",B46-D46,"") -> 450000 | F46: =IF(A46<>"",C46+D46,"") -> 2893.5185 | H46: =A46 -> 36 | I46: =IFERROR(IF(I45-K45>=0.01,I45-K45,""),"") -> 473303.03 | J46: =IFERROR(I46*$G$4/12,"") -> 1577.6768 | K46: =IFERROR(M46-J46,"") -> 809.39972 | L46: =IFERROR(I46-K46,"") -> 472493.63 | M46: =IF(H46<>"",-PMT($G$4/12,$G$5,$G$3),"") -> 2387.0765
A47: =IF(B47<>"",37,"") -> 37 | B47: =IFERROR(IF(B46-D46>=0.01,B46-D46,""),"") -> 450000 | C47: =IFERROR(B47*$G$4/12,"") -> 1500 | D47: =IF(A47<>"",$G$3/$G$5,"") -> 1388.8889 | E47: =IF(A47<>"",B47-D47,"") -> 448611.11 | F47: =IF(A47<>"",C47+D47,"") -> 2888.8889 | H47: =A47 -> 37 | I47: =IFERROR(IF(I46-K46>=0.01,I46-K46,""),"") -> 472493.63 | J47: =IFERROR(I47*$G$4/12,"") -> 1574.9788 | K47: =IFERROR(M47-J47,"") -> 812.09772 | L47: =IFERROR(I47-K47,"") -> 471681.53 | M47: =IF(H47<>"",-PMT($G$4/12,$G$5,$G$3),"") -> 2387.0765
A48: =IF(B48<>"",38,"") -> 38 | B48: =IFERROR(IF(B47-D47>=0.01,B47-D47,""),"") -> 448611.11 | C48: =IFERROR(B48*$G$4/12,"") -> 1495.3704 | D48: =IF(A48<>"",$G$3/$G$5,"") -> 1388.8889 | E48: =IF(A48<>"",B48-D48,"") -> 447222.22 | F48: =IF(A48<>"",C48+D48,"") -> 2884.2593 | H48: =A48 -> 38 | I48: =IFERROR(IF(I47-K47>=0.01,I47-K47,""),"") -> 471681.53 | J48: =IFERROR(I48*$G$4/12,"") -> 1572.2718 | K48: =IFERROR(M48-J48,"") -> 814.80471 | L48: =IFERROR(I48-K48,"") -> 470866.73 | M48: =IF(H48<>"",-PMT($G$4/12,$G$5,$G$3),"") -> 2387.0765
A49: =IF(B49<>"",39,"") -> 39 | B49: =IFERROR(IF(B48-D48>=0.01,B48-D48,""),"") -> 447222.22 | C49: =IFERROR(B49*$G$4/12,"") -> 1490.7407 | D49: =IF(A49<>"",$G$3/$G$5,"") -> 1388.8889 | E49: =IF(A49<>"",B49-D49,"") -> 445833.33 | F49: =IF(A49<>"",C49+D49,"") -> 2879.6296 | H49: =A49 -> 39 | I49: =IFERROR(IF(I48-K48>=0.01,I48-K48,""),"") -> 470866.73 | J49: =IFERROR(I49*$G$4/12,"") -> 1569.5558 | K49: =IFERROR(M49-J49,"") -> 817.52073 | L49: =IFERROR(I49-K49,"") -> 470049.2 | M49: =IF(H49<>"",-PMT($G$4/12,$G$5,$G$3),"") -> 2387.0765
A50: =IF(B50<>"",40,"") -> 40 | B50: =IFERROR(IF(B49-D49>=0.01,B49-D49,""),"") -> 445833.33 | C50: =IFERROR(B50*$G$4/12,"") -> 1486.1111 | D50: =IF(A50<>"",$G$3/$G$5,"") -> 1388.8889 | E50: =IF(A50<>"",B50-D50,"") -> 444444.44 | F50: =IF(A50<>"",C50+D50,"") -> 2875 | H50: =A50 -> 40 | I50: =IFERROR(IF(I49-K49>=0.01,I49-K49,""),"") -> 470049.2 | J50: =IFERROR(I50*$G$4/12,"") -> 1566.8307 | K50: =IFERROR(M50-J50,"") -> 820.24579 | L50: =IFERROR(I50-K50,"") -> 469228.96 | M50: =IF(H50<>"",-PMT($G$4/12,$G$5,$G$3),"") -> 2387.0765
A51: =IF(B51<>"",41,"") -> 41 | B51: =IFERROR(IF(B50-D50>=0.01,B50-D50,""),"") -> 444444.44 | C51: =IFERROR(B51*$G$4/12,"") -> 1481.4815 | D51: =IF(A51<>"",$G$3/$G$5,"") -> 1388.8889 | E51: =IF(A51<>"",B51-D51,"") -> 443055.56 | F51: =IF(A51<>"",C51+D51,"") -> 2870.3704 | H51: =A51 -> 41 | I51: =IFERROR(IF(I50-K50>=0.01,I50-K50,""),"") -> 469228.96 | J51: =IFERROR(I51*$G$4/12,"") -> 1564.0965 | K51: =IFERROR(M51-J51,"") -> 822.97995 | L51: =IFERROR(I51-K51,"") -> 468405.98 | M51: =IF(H51<>"",-PMT($G$4/12,$G$5,$G$3),"") -> 2387.0765
A52: =IF(B52<>"",42,"") -> 42 | B52: =IFERROR(IF(B51-D51>=0.01,B51-D51,""),"") -> 443055.56 | C52: =IFERROR(B52*$G$4/12,"") -> 1476.8519 | D52: =IF(A52<>"",$G$3/$G$5,"") -> 1388.8889 | E52: =IF(A52<>"",B52-D52,"") -> 441666.67 | F52: =IF(A52<>"",C52+D52,"") -> 2865.7407 | H52: =A52 -> 42 | I52: =IFERROR(IF(I51-K51>=0.01,I51-K51,""),"") -> 468405.98 | J52: =IFERROR(I52*$G$4/12,"") -> 1561.3533 | K52: =IFERROR(M52-J52,"") -> 825.72321 | L52: =IFERROR(I52-K52,"") -> 467580.26 | M52: =IF(H52<>"",-PMT($G$4/12,$G$5,$G$3),"") -> 2387.0765
A53: =IF(B53<>"",43,"") -> 43 | B53: =IFERROR(IF(B52-D52>=0.01,B52-D52,""),"") -> 441666.67 | C53: =IFERROR(B53*$G$4/12,"") -> 1472.2222 | D53: =IF(A53<>"",$G$3/$G$5,"") -> 1388.8889 | E53: =IF(A53<>"",B53-D53,"") -> 440277.78 | F53: =IF(A53<>"",C53+D53,"") -> 2861.1111 | H53: =A53 -> 43 | I53: =IFERROR(IF(I52-K52>=0.01,I52-K52,""),"") -> 467580.26 | J53: =IFERROR(I53*$G$4/12,"") -> 1558.6009 | K53: =IFERROR(M53-J53,"") -> 828.47562 | L53: =IFERROR(I53-K53,"") -> 466751.78 | M53: =IF(H53<>"",-PMT($G$4/12,$G$5,$G$3),"") -> 2387.0765
A54: =IF(B54<>"",44,"") -> 44 | B54: =IFERROR(IF(B53-D53>=0.01,B53-D53,""),"") -> 440277.78 | C54: =IFERROR(B54*$G$4/12,"") -> 1467.5926 | D54: =IF(A54<>"",$G$3/$G$5,"") -> 1388.8889 | E54: =IF(A54<>"",B54-D54,"") -> 438888.89 | F54: =IF(A54<>"",C54+D54,"") -> 2856.4815 | H54: =A54 -> 44 | I54: =IFERROR(IF(I53-K53>=0.01,I53-K53,""),"") -> 466751.78 | J54: =IFERROR(I54*$G$4/12,"") -> 1555.8393 | K54: =IFERROR(M54-J54,"") -> 831.23721 | L54: =IFERROR(I54-K54,"") -> 465920.54 | M54: =IF(H54<>"",-PMT($G$4/12,$G$5,$G$3),"") -> 2387.0765
A55: =IF(B55<>"",45,"") -> 45 | B55: =IFERROR(IF(B54-D54>=0.01,B54-D54,""),"") -> 438888.89 | C55: =IFERROR(B55*$G$4/12,"") -> 1462.963 | D55: =IF(A55<>"",$G$3/$G$5,"") -> 1388.8889 | E55: =IF(A55<>"",B55-D55,"") -> 437500 | F55: =IF(A55<>"",C55+D55,"") -> 2851.8519 | H55: =A55 -> 45 | I55: =IFERROR(IF(I54-K54>=0.01,I54-K54,""),"") -> 465920.54 | J55: =IFERROR(I55*$G$4/12,"") -> 1553.0685 | K55: =IFERROR(M55-J55,"") -> 834.008 | L55: =IFERROR(I55-K55,"") -> 465086.53 | M55: =IF(H55<>"",-PMT($G$4/12,$G$5,$G$3),"") -> 2387.0765
A56: =IF(B56<>"",46,"") -> 46 | B56: =IFERROR(IF(B55-D55>=0.01,B55-D55,""),"") -> 437500 | C56: =IFERROR(B56*$G$4/12,"") -> 1458.3333 | D56: =IF(A56<>"",$G$3/$G$5,"") -> 1388.8889 | E56: =IF(A56<>"",B56-D56,"") -> 436111.11 | F56: =IF(A56<>"",C56+D56,"") -> 2847.2222 | H56: =A56 -> 46 | I56: =IFERROR(IF(I55-K55>=0.01,I55-K55,""),"") -> 465086.53 | J56: =IFERROR(I56*$G$4/12,"") -> 1550.2884 | K56: =IFERROR(M56-J56,"") -> 836.78803 | L56: =IFERROR(I56-K56,"") -> 464249.75 | M56: =IF(H56<>"",-PMT($G$4/12,$G$5,$G$3),"") -> 2387.0765
A57: =IF(B57<>"",47,"") -> 47 | B57: =IFERROR(IF(B56-D56>=0.01,B56-D56,""),"") -> 436111.11 | C57: =IFERROR(B57*$G$4/12,"") -> 1453.7037 | D57: =IF(A57<>"",$G$3/$G$5,"") -> 1388.8889 | E57: =IF(A57<>"",B57-D57,"") -> 434722.22 | F57: =IF(A57<>"",C57+D57,"") -> 2842.5926 | H57: =A57 -> 47 | I57: =IFERROR(IF(I56-K56>=0.01,I56-K56,""),"") -> 464249.75 | J57: =IFERROR(I57*$G$4/12,"") -> 1547.4992 | K57: =IFERROR(M57-J57,"") -> 839.57732 | L57: =IFERROR(I57-K57,"") -> 463410.17 | M57: =IF(H57<>"",-PMT($G$4/12,$G$5,$G$3),"") -> 2387.0765
A58: =IF(B58<>"",48,"") -> 48 | B58: =IFERROR(IF(B57-D57>=0.01,B57-D57,""),"") -> 434722.22 | C58: =IFERROR(B58*$G$4/12,"") -> 1449.0741 | D58: =IF(A58<>"",$G$3/$G$5,"") -> 1388.8889 | E58: =IF(A58<>"",B58-D58,"") -> 433333.33 | F58: =IF(A58<>"",C58+D58,"") -> 2837.963 | H58: =A58 -> 48 | I58: =IFERROR(IF(I57-K57>=0.01,I57-K57,""),"") -> 463410.17 | J58: =IFERROR(I58*$G$4/12,"") -> 1544.7006 | K58: =IFERROR(M58-J58,"") -> 842.37591 | L58: =IFERROR(I58-K58,"") -> 462567.79 | M58: =IF(H58<>"",-PMT($G$4/12,$G$5,$G$3),"") -> 2387.0765
A59: =IF(B59<>"",49,"") -> 49 | B59: =IFERROR(IF(B58-D58>=0.01,B58-D58,""),"") -> 433333.33 | C59: =IFERROR(B59*$G$4/12,"") -> 1444.4444 | D59: =IF(A59<>"",$G$3/$G$5,"") -> 1388.8889 | E59: =IF(A59<>"",B59-D59,"") -> 431944.44 | F59: =IF(A59<>"",C59+D59,"") -> 2833.3333 | H59: =A59 -> 49 | I59: =IFERROR(IF(I58-K58>=0.01,I58-K58,""),"") -> 462567.79 | J59: =IFERROR(I59*$G$4/12,"") -> 1541.8926 | K59: =IFERROR(M59-J59,"") -> 845.18383 | L59: =IFERROR(I59-K59,"") -> 461722.61 | M59: =IF(H59<>"",-PMT($G$4/12,$G$5,$G$3),"") -> 2387.0765
A60: =IF(B60<>"",50,"") -> 50 | B60: =IFERROR(IF(B59-D59>=0.01,B59-D59,""),"") -> 431944.44 | C60: =IFERROR(B60*$G$4/12,"") -> 1439.8148 | D60: =IF(A60<>"",$G$3/$G$5,"") -> 1388.8889 | E60: =IF(A60<>"",B60-D60,"") -> 430555.56 | F60: =IF(A60<>"",C60+D60,"") -> 2828.7037 | H60: =A60 -> 50 | I60: =IFERROR(IF(I59-K59>=0.01,I59-K59,""),"") -> 461722.61 | J60: =IFERROR(I60*$G$4/12,"") -> 1539.0754 | K60: =IFERROR(M60-J60,"") -> 848.00111 | L60: =IFERROR(I60-K60,"") -> 460874.61 | M60: =IF(H60<>"",-PMT($G$4/12,$G$5,$G$3),"") -> 2387.0765
A61: =IF(B61<>"",51,"") -> 51 | B61: =IFERROR(IF(B60-D60>=0.01,B60-D60,""),"") -> 430555.56 | C61: =IFERROR(B61*$G$4/12,"") -> 1435.1852 | D61: =IF(A61<>"",$G$3/$G$5,"") -> 1388.8889 | E61: =IF(A61<>"",B61-D61,"") -> 429166.67 | F61: =IF(A61<>"",C61+D61,"") -> 2824.0741 | H61: =A61 -> 51 | I61: =IFERROR(IF(I60-K60>=0.01,I60-K60,""),"") -> 460874.61 | J61: =IFERROR(I61*$G$4/12,"") -> 1536.2487 | K61: =IFERROR(M61-J61,"") -> 850.82778 | L61: =IFERROR(I61-K61,"") -> 460023.78 | M61: =IF(H61<>"",-PMT($G$4/12,$G$5,$G$3),"") -> 2387.0765
A62: =IF(B62<>"",52,"") -> 52 | B62: =IFERROR(IF(B61-D61>=0.01,B61-D61,""),"") -> 429166.67 | C62: =IFERROR(B62*$G$4/12,"") -> 1430.5556 | D62: =IF(A62<>"",$G$3/$G$5,"") -> 1388.8889 | E62: =IF(A62<>"",B62-D62,"") -> 427777.78 | F62: =IF(A62<>"",C62+D62,"") -> 2819.4444 | H62: =A62 -> 52 | I62: =IFERROR(IF(I61-K61>=0.01,I61-K61,""),"") -> 460023.78 | J62: =IFERROR(I62*$G$4/12,"") -> 1533.4126 | K62: =IFERROR(M62-J62,"") -> 853.66387 | L62: =IFERROR(I62-K62,"") -> 459170.12 | M62: =IF(H62<>"",-PMT($G$4/12,$G$5,$G$3),"") -> 2387.0765
A63: =IF(B63<>"",53,"") -> 53 | B63: =IFERROR(IF(B62-D62>=0.01,B62-D62,""),"") -> 427777.78 | C63: =IFERROR(B63*$G$4/12,"") -> 1425.9259 | D63: =IF(A63<>"",$G$3/$G$5,"") -> 1388.8889 | E63: =IF(A63<>"",B63-D63,"") -> 426388.89 | F63: =IF(A63<>"",C63+D63,"") -> 2814.8148 | H63: =A63 -> 53 | I63: =IFERROR(IF(I62-K62>=0.01,I62-K62,""),"") -> 459170.12 | J63: =IFERROR(I63*$G$4/12,"") -> 1530.5671 | K63: =IFERROR(M63-J63,"") -> 856.50942 | L63: =IFERROR(I63-K63,"") -> 458313.61 | M63: =IF(H63<>"",-PMT($G$4/12,$G$5,$G$3),"") -> 2387.0765
A64: =IF(B64<>"",54,"") -> 54 | B64: =IFERROR(IF(B63-D63>=0.01,B63-D63,""),"") -> 426388.89 | C64: =IFERROR(B64*$G$4/12,"") -> 1421.2963 | D64: =IF(A64<>"",$G$3/$G$5,"") -> 1388.8889 | E64: =IF(A64<>"",B64-D64,"") -> 425000 | F64: =IF(A64<>"",C64+D64,"") -> 2810.1852 | H64: =A64 -> 54 | I64: =IFERROR(IF(I63-K63>=0.01,I63-K63,""),"") -> 458313.61 | J64: =IFERROR(I64*$G$4/12,"") -> 1527.712 | K64: =IFERROR(M64-J64,"") -> 859.36445 | L64: =IFERROR(I64-K64,"") -> 457454.24 | M64: =IF(H64<>"",-PMT($G$4/12,$G$5,$G$3),"") -> 2387.0765
A65: =IF(B65<>"",55,"") -> 55 | B65: =IFERROR(IF(B64-D64>=0.01,B64-D64,""),"") -> 425000 | C65: =IFERROR(B65*$G$4/12,"") -> 1416.6667 | D65: =IF(A65<>"",$G$3/$G$5,"") -> 1388.8889 | E65: =IF(A65<>"",B65-D65,"") -> 423611.11 | F65: =IF(A65<>"",C65+D65,"") -> 2805.5556 | H65: =A65 -> 55 | I65: =IFERROR(IF(I64-K64>=0.01,I64-K64,""),"") -> 457454.24 | J65: =IFERROR(I65*$G$4/12,"") -> 1524.8475 | K65: =IFERROR(M65-J65,"") -> 862.229 | L65: =IFERROR(I65-K65,"") -> 456592.01 | M65: =IF(H65<>"",-PMT($G$4/12,$G$5,$G$3),"") -> 2387.0765
A66: =IF(B66<>"",56,"") -> 56 | B66: =IFERROR(IF(B65-D65>=0.01,B65-D65,""),"") -> 423611.11 | C66: =IFERROR(B66*$G$4/12,"") -> 1412.037 | D66: =IF(A66<>"",$G$3/$G$5,"") -> 1388.8889 | E66: =IF(A66<>"",B66-D66,"") -> 422222.22 | F66: =IF(A66<>"",C66+D66,"") -> 2800.9259 | H66: =A66 -> 56 | I66: =IFERROR(IF(I65-K65>=0.01,I65-K65,""),"") -> 456592.01 | J66: =IFERROR(I66*$G$4/12,"") -> 1521.9734 | K66: =IFERROR(M66-J66,"") -> 865.1031 | L66: =IFERROR(I66-K66,"") -> 455726.91 | M66: =IF(H66<>"",-PMT($G$4/12,$G$5,$G$3),"") -> 2387.0765
A67: =IF(B67<>"",57,"") -> 57 | B67: =IFERROR(IF(B66-D66>=0.01,B66-D66,""),"") -> 422222.22 | C67: =IFERROR(B67*$G$4/12,"") -> 1407.4074 | D67: =IF(A67<>"",$G$3/$G$5,"") -> 1388.8889 | E67: =IF(A67<>"",B67-D67,"") -> 420833.33 | F67: =IF(A67<>"",C67+D67,"") -> 2796.2963 | H67: =A67 -> 57 | I67: =IFERROR(IF(I66-K66>=0.01,I66-K66,""),"") -> 455726.91 | J67: =IFERROR(I67*$G$4/12,"") -> 1519.0897 | K67: =IFERROR(M67-J67,"") -> 867.98677 | L67: =IFERROR(I67-K67,"") -> 454858.92 | M67: =IF(H67<>"",-PMT($G$4/12,$G$5,$G$3),"") -> 2387.0765
A68: =IF(B68<>"",58,"") -> 58 | B68: =IFERROR(IF(B67-D67>=0.01,B67-D67,""),"") -> 420833.33 | C68: =IFERROR(B68*$G$4/12,"") -> 1402.7778 | D68: =IF(A68<>"",$G$3/$G$5,"") -> 1388.8889 | E68: =IF(A68<>"",B68-D68,"") -> 419444.44 | F68: =IF(A68<>"",C68+D68,"") -> 2791.6667 | H68: =A68 -> 58 | I68: =IFERROR(IF(I67-K67>=0.01,I67-K67,""),"") -> 454858.92 | J68: =IFERROR(I68*$G$4/12,"") -> 1516.1964 | K68: =IFERROR(M68-J68,"") -> 870.88006 | L68: =IFERROR(I68-K68,"") -> 453988.04 | M68: =IF(H68<>"",-PMT($G$4/12,$G$5,$G$3),"") -> 2387.0765
A69: =IF(B69<>"",59,"") -> 59 | B69: =IFERROR(IF(B68-D68>=0.01,B68-D68,""),"") -> 419444.44 | C69: =IFERROR(B69*$G$4/12,"") -> 1398.1481 | D69: =IF(A69<>"",$G$3/$G$5,"") -> 1388.8889 | E69: =IF(A69<>"",B69-D69,"") -> 418055.56 | F69: =IF(A69<>"",C69+D69,"") -> 2787.037 | H69: =A69 -> 59 | I69: =IFERROR(IF(I68-K68>=0.01,I68-K68,""),"") -> 453988.04 | J69: =IFERROR(I69*$G$4/12,"") -> 1513.2935 | K69: =IFERROR(M69-J69,"") -> 873.783 | L69: =IFERROR(I69-K69,"") -> 453114.26 | M69: =IF(H69<>"",-PMT($G$4/12,$G$5,$G$3),"") -> 2387.0765
A70: =IF(B70<>"",60,"") -> 60 | B70: =IFERROR(IF(B69-D69>=0.01,B69-D69,""),"") -> 418055.56 | C70: =IFERROR(B70*$G$4/12,"") -> 1393.5185 | D70: =IF(A70<>"",$G$3/$G$5,"") -> 1388.8889 | E70: =IF(A70<>"",B70-D70,"") -> 416666.67 | F70: =IF(A70<>"",C70+D70,"") -> 2782.4074 | H70: =A70 -> 60 | I70: =IFERROR(IF(I69-K69>=0.01,I69-K69,""),"") -> 453114.26 | J70: =IFERROR(I70*$G$4/12,"") -> 1510.3809 | K70: =IFERROR(M70-J70,"") -> 876.69561 | L70: =IFERROR(I70-K70,"") -> 452237.57 | M70: =IF(H70<>"",-PMT($G$4/12,$G$5,$G$3),"") -> 2387.0765
A71: =IF(B71<>"",61,"") -> 61 | B71: =IFERROR(IF(B70-D70>=0.01,B70-D70,""),"") -> 416666.67 | C71: =IFERROR(B71*$G$4/12,"") -> 1388.8889 | D71: =IF(A71<>"",$G$3/$G$5,"") -> 1388.8889 | E71: =IF(A71<>"",B71-D71,"") -> 415277.78 | F71: =IF(A71<>"",C71+D71,"") -> 2777.7778 | H71: =A71 -> 61 | I71: =IFERROR(IF(I70-K70>=0.01,I70-K70,""),"") -> 452237.57 | J71: =IFERROR(I71*$G$4/12,"") -> 1507.4586 | K71: =IFERROR(M71-J71,"") -> 879.61793 | L71: =IFERROR(I71-K71,"") -> 451357.95 | M71: =IF(H71<>"",-PMT($G$4/12,$G$5,$G$3),"") -> 2387.0765
A72: =IF(B72<>"",62,"") -> 62 | B72: =IFERROR(IF(B71-D71>=0.01,B71-D71,""),"") -> 415277.78 | C72: =IFERROR(B72*$G$4/12,"") -> 1384.2593 | D72: =IF(A72<>"",$G$3/$G$5,"") -> 1388.8889 | E72: =IF(A72<>"",B72-D72,"") -> 413888.89 | F72: =IF(A72<>"",C72+D72,"") -> 2773.1481 | H72: =A72 -> 62 | I72: =IFERROR(IF(I71-K71>=0.01,I71-K71,""),"") -> 451357.95 | J72: =IFERROR(I72*$G$4/12,"") -> 1504.5265 | K72: =IFERROR(M72-J72,"") -> 882.54998 | L72: =IFERROR(I72-K72,"") -> 450475.4 | M72: =IF(H72<>"",-PMT($G$4/12,$G$5,$G$3),"") -> 2387.0765
A73: =IF(B73<>"",63,"") -> 63 | B73: =IFERROR(IF(B72-D72>=0.01,B72-D72,""),"") -> 413888.89 | C73: =IFERROR(B73*$G$4/12,"") -> 1379.6296 | D73: =IF(A73<>"",$G$3/$G$5,"") -> 1388.8889 | E73: =IF(A73<>"",B73-D73,"") -> 412500 | F73: =IF(A73<>"",C73+D73,"") -> 2768.5185 | H73: =A73 -> 63 | I73: =IFERROR(IF(I72-K72>=0.01,I72-K72,""),"") -> 450475.4 | J73: =IFERROR(I73*$G$4/12,"") -> 1501.5847 | K73: =IFERROR(M73-J73,"") -> 885.49182 | L73: =IFERROR(I73-K73,"") -> 449589.91 | M73: =IF(H73<>"",-PMT($G$4/12,$G$5,$G$3),"") -> 2387.0765
A74: =IF(B74<>"",64,"") -> 64 | B74: =IFERROR(IF(B73-D73>=0.01,B73-D73,""),"") -> 412500 | C74: =IFERROR(B74*$G$4/12,"") -> 1375 | D74: =IF(A74<>"",$G$3/$G$5,"") -> 1388.8889 | E74: =IF(A74<>"",B74-D74,"") -> 411111.11 | F74: =IF(A74<>"",C74+D74,"") -> 2763.8889 | H74: =A74 -> 64 | I74: =IFERROR(IF(I73-K73>=0.01,I73-K73,""),"") -> 449589.91 | J74: =IFERROR(I74*$G$4/12,"") -> 1498.633 | K74: =IFERROR(M74-J74,"") -> 888.44346 | L74: =IFERROR(I74-K74,"") -> 448701.46 | M74: =IF(H74<>"",-PMT($G$4/12,$G$5,$G$3),"") -> 2387.0765
A75: =IF(B75<>"",65,"") -> 65 | B75: =IFERROR(IF(B74-D74>=0.01,B74-D74,""),"") -> 411111.11 | C75: =IFERROR(B75*$G$4/12,"") -> 1370.3704 | D75: =IF(A75<>"",$G$3/$G$5,"") -> 1388.8889 | E75: =IF(A75<>"",B75-D75,"") -> 409722.22 | F75: =IF(A75<>"",C75+D75,"") -> 2759.2593 | H75: =A75 -> 65 | I75: =IFERROR(IF(I74-K74>=0.01,I74-K74,""),"") -> 448701.46 | J75: =IFERROR(I75*$G$4/12,"") -> 1495.6715 | K75: =IFERROR(M75-J75,"") -> 891.40494 | L75: =IFERROR(I75-K75,"") -> 447810.06 | M75: =IF(H75<>"",-PMT($G$4/12,$G$5,$G$3),"") -> 2387.0765
A76: =IF(B76<>"",66,"") -> 66 | B76: =IFERROR(IF(B75-D75>=0.01,B75-D75,""),"") -> 409722.22 | C76: =IFERROR(B76*$G$4/12,"") -> 1365.7407 | D76: =IF(A76<>"",$G$3/$G$5,"") -> 1388.8889 | E76: =IF(A76<>"",B76-D76,"") -> 408333.33 | F76: =IF(A76<>"",C76+D76,"") -> 2754.6296 | H76: =A76 -> 66 | I76: =IFERROR(IF(I75-K75>=0.01,I75-K75,""),"") -> 447810.06 | J76: =IFERROR(I76*$G$4/12,"") -> 1492.7002 | K76: =IFERROR(M76-J76,"") -> 894.37629 | L76: =IFERROR(I76-K76,"") -> 446915.68 | M76: =IF(H76<>"",-PMT($G$4/12,$G$5,$G$3),"") -> 2387.0765
A77: =IF(B77<>"",67,"") -> 67 | B77: =IFERROR(IF(B76-D76>=0.01,B76-D76,""),"") -> 408333.33 | C77: =IFERROR(B77*$G$4/12,"") -> 1361.1111 | D77: =IF(A77<>"",$G$3/$G$5,"") -> 1388.8889 | E77: =IF(A77<>"",B77-D77,"") -> 406944.44 | F77: =IF(A77<>"",C77+D77,"") -> 2750 | H77: =A77 -> 67 | I77: =IFERROR(IF(I76-K76>=0.01,I76-K76,""),"") -> 446915.68 | J77: =IFERROR(I77*$G$4/12,"") -> 1489.7189 | K77: =IFERROR(M77-J77,"") -> 897.35754 | L77: =IFERROR(I77-K77,"") -> 446018.32 | M77: =IF(H77<>"",-PMT($G$4/12,$G$5,$G$3),"") -> 2387.0765
A78: =IF(B78<>"",68,"") -> 68 | B78: =IFERROR(IF(B77-D77>=0.01,B77-D77,""),"") -> 406944.44 | C78: =IFERROR(B78*$G$4/12,"") -> 1356.4815 | D78: =IF(A78<>"",$G$3/$G$5,"") -> 1388.8889 | E78: =IF(A78<>"",B78-D78,"") -> 405555.56 | F78: =IF(A78<>"",C78+D78,"") -> 2745.3704 | H78: =A78 -> 68 | I78: =IFERROR(IF(I77-K77>=0.01,I77-K77,""),"") -> 446018.32 | J78: =IFERROR(I78*$G$4/12,"") -> 1486.7277 | K78: =IFERROR(M78-J78,"") -> 900.34873 | L78: =IFERROR(I78-K78,"") -> 445117.98 | M78: =IF(H78<>"",-PMT($G$4/12,$G$5,$G$3),"") -> 2387.0765
A79: =IF(B79<>"",69,"") -> 69 | B79: =IFERROR(IF(B78-D78>=0.01,B78-D78,""),"") -> 405555.56 | C79: =IFERROR(B79*$G$4/12,"") -> 1351.8519 | D79: =IF(A79<>"",$G$3/$G$5,"") -> 1388.8889 | E79: =IF(A79<>"",B79-D79,"") -> 404166.67 | F79: =IF(A79<>"",C79+D79,"") -> 2740.7407 | H79: =A79 -> 69 | I79: =IFERROR(IF(I78-K78>=0.01,I78-K78,""),"") -> 445117.98 | J79: =IFERROR(I79*$G$4/12,"") -> 1483.7266 | K79: =IFERROR(M79-J79,"") -> 903.34989 | L79: =IFERROR(I79-K79,"") -> 444214.63 | M79: =IF(H79<>"",-PMT($G$4/12,$G$5,$G$3),"") -> 2387.0765
A80: =IF(B80<>"",70,"") -> 70 | B80: =IFERROR(IF(B79-D79>=0.01,B79-D79,""),"") -> 404166.67 | C80: =IFERROR(B80*$G$4/12,"") -> 1347.2222 | D80: =IF(A80<>"",$G$3/$G$5,"") -> 1388.8889 | E80: =IF(A80<>"",B80-D80,"") -> 402777.78 | F80: =IF(A80<>"",C80+D80,"") -> 2736.1111 | H80: =A80 -> 70 | I80: =IFERROR(IF(I79-K79>=0.01,I79-K79,""),"") -> 444214.63 | J80: =IFERROR(I80*$G$4/12,"") -> 1480.7154 | K80: =IFERROR(M80-J80,"") -> 906.36106 | L80: =IFERROR(I80-K80,"") -> 443308.26 | M80: =IF(H80<>"",-PMT($G$4/12,$G$5,$G$3),"") -> 2387.0765
A81: =IF(B81<>"",71,"") -> 71 | B81: =IFERROR(IF(B80-D80>=0.01,B80-D80,""),"") -> 402777.78 | C81: =IFERROR(B81*$G$4/12,"") -> 1342.5926 | D81: =IF(A81<>"",$G$3/$G$5,"") -> 1388.8889 | E81: =IF(A81<>"",B81-D81,"") -> 401388.89 | F81: =IF(A81<>"",C81+D81,"") -> 2731.4815 | H81: =A81 -> 71 | I81: =IFERROR(IF(I80-K80>=0.01,I80-K80,""),"") -> 443308.26 | J81: =IFERROR(I81*$G$4/12,"") -> 1477.6942 | K81: =IFERROR(M81-J81,"") -> 909.38226 | L81: =IFERROR(I81-K81,"") -> 442398.88 | M81: =IF(H81<>"",-PMT($G$4/12,$G$5,$G$3),"") -> 2387.0765
A82: =IF(B82<>"",72,"") -> 72 | B82: =IFERROR(IF(B81-D81>=0.01,B81-D81,""),"") -> 401388.89 | C82: =IFERROR(B82*$G$4/12,"") -> 1337.963 | D82: =IF(A82<>"",$G$3/$G$5,"") -> 1388.8889 | E82: =IF(A82<>"",B82-D82,"") -> 400000 | F82: =IF(A82<>"",C82+D82,"") -> 2726.8519 | H82: =A82 -> 72 | I82: =IFERROR(IF(I81-K81>=0.01,I81-K81,""),"") -> 442398.88 | J82: =IFERROR(I82*$G$4/12,"") -> 1474.6629 | K82: =IFERROR(M82-J82,"") -> 912.41354 | L82: =IFERROR(I82-K82,"") -> 441486.47 | M82: =IF(H82<>"",-PMT($G$4/12,$G$5,$G$3),"") -> 2387.0765
A83: =IF(B83<>"",73,"") -> 73 | B83: =IFERROR(IF(B82-D82>=0.01,B82-D82,""),"") -> 400000 | C83: =IFERROR(B83*$G$4/12,"") -> 1333.3333 | D83: =IF(A83<>"",$G$3/$G$5,"") -> 1388.8889 | E83: =IF(A83<>"",B83-D83,"") -> 398611.11 | F83: =IF(A83<>"",C83+D83,"") -> 2722.2222 | H83: =A83 -> 73 | I83: =IFERROR(IF(I82-K82>=0.01,I82-K82,""),"") -> 441486.47 | J83: =IFERROR(I83*$G$4/12,"") -> 1471.6216 | K83: =IFERROR(M83-J83,"") -> 915.45492 | L83: =IFERROR(I83-K83,"") -> 440571.01 | M83: =IF(H83<>"",-PMT($G$4/12,$G$5,$G$3),"") -> 2387.0765
A84: =IF(B84<>"",74,"") -> 74 | B84: =IFERROR(IF(B83-D83>=0.01,B83-D83,""),"") -> 398611.11 | C84: =IFERROR(B84*$G$4/12,"") -> 1328.7037 | D84: =IF(A84<>"",$G$3/$G$5,"") -> 1388.8889 | E84: =IF(A84<>"",B84-D84,"") -> 397222.22 | F84: =IF(A84<>"",C84+D84,"") -> 2717.5926 | H84: =A84 -> 74 | I84: =IFERROR(IF(I83-K83>=0.01,I83-K83,""),"") -> 440571.01 | J84: =IFERROR(I84*$G$4/12,"") -> 1468.57 | K84: =IFERROR(M84-J84,"") -> 918.50643 | L84: =IFERROR(I84-K84,"") -> 439652.51 | M84: =IF(H84<>"",-PMT($G$4/12,$G$5,$G$3),"") -> 2387.0765
A85: =IF(B85<>"",75,"") -> 75 | B85: =IFERROR(IF(B84-D84>=0.01,B84-D84,""),"") -> 397222.22 | C85: =IFERROR(B85*$G$4/12,"") -> 1324.0741 | D85: =IF(A85<>"",$G$3/$G$5,"") -> 1388.8889 | E85: =IF(A85<>"",B85-D85,"") -> 395833.33 | F85: =IF(A85<>"",C85+D85,"") -> 2712.963 | H85: =A85 -> 75 | I85: =IFERROR(IF(I84-K84>=0.01,I84-K84,""),"") -> 439652.51 | J85: =IFERROR(I85*$G$4/12,"") -> 1465.5084 | K85: =IFERROR(M85-J85,"") -> 921.56812 | L85: =IFERROR(I85-K85,"") -> 438730.94 | M85: =IF(H85<>"",-PMT($G$4/12,$G$5,$G$3),"") -> 2387.0765
A86: =IF(B86<>"",76,"") -> 76 | B86: =IFERROR(IF(B85-D85>=0.01,B85-D85,""),"") -> 395833.33 | C86: =IFERROR(B86*$G$4/12,"") -> 1319.4444 | D86: =IF(A86<>"",$G$3/$G$5,"") -> 1388.8889 | E86: =IF(A86<>"",B86-D86,"") -> 394444.44 | F86: =IF(A86<>"",C86+D86,"") -> 2708.3333 | H86: =A86 -> 76 | I86: =IFERROR(IF(I85-K85>=0.01,I85-K85,""),"") -> 438730.94 | J86: =IFERROR(I86*$G$4/12,"") -> 1462.4365 | K86: =IFERROR(M86-J86,"") -> 924.64001 | L86: =IFERROR(I86-K86,"") -> 437806.3 | M86: =IF(H86<>"",-PMT($G$4/12,$G$5,$G$3),"") -> 2387.0765
A87: =IF(B87<>"",77,"") -> 77 | B87: =IFERROR(IF(B86-D86>=0.01,B86-D86,""),"") -> 394444.44 | C87: =IFERROR(B87*$G$4/12,"") -> 1314.8148 | D87: =IF(A87<>"",$G$3/$G$5,"") -> 1388.8889 | E87: =IF(A87<>"",B87-D87,"") -> 393055.56 | F87: =IF(A87<>"",C87+D87,"") -> 2703.7037 | H87: =A87 -> 77 | I87: =IFERROR(IF(I86-K86>=0.01,I86-K86,""),"") -> 437806.3 | J87: =IFERROR(I87*$G$4/12,"") -> 1459.3543 | K87: =IFERROR(M87-J87,"") -> 927.72215 | L87: =IFERROR(I87-K87,"") -> 436878.58 | M87: =IF(H87<>"",-PMT($G$4/12,$G$5,$G$3),"") -> 2387.0765
A88: =IF(B88<>"",78,"") -> 78 | B88: =IFERROR(IF(B87-D87>=0.01,B87-D87,""),"") -> 393055.56 | C88: =IFERROR(B88*$G$4/12,"") -> 1310.1852 | D88: =IF(A88<>"",$G$3/$G$5,"") -> 1388.8889 | E88: =IF(A88<>"",B88-D88,"") -> 391666.67 | F88: =IF(A88<>"",C88+D88,"") -> 2699.0741 | H88: =A88 -> 78 | I88: =IFERROR(IF(I87-K87>=0.01,I87-K87,""),"") -> 436878.58 | J88: =IFERROR(I88*$G$4/12,"") -> 1456.2619 | K88: =IFERROR(M88-J88,"") -> 930.81456 | L88: =IFERROR(I88-K88,"") -> 435947.76 | M88: =IF(H88<>"",-PMT($G$4/12,$G$5,$G$3),"") -> 2387.0765
A89: =IF(B89<>"",79,"") -> 79 | B89: =IFERROR(IF(B88-D88>=0.01,B88-D88,""),"") -> 391666.67 | C89: =IFERROR(B89*$G$4/12,"") -> 1305.5556 | D89: =IF(A89<>"",$G$3/$G$5,"") -> 1388.8889 | E89: =IF(A89<>"",B89-D89,"") -> 390277.78 | F89: =IF(A89<>"",C89+D89,"") -> 2694.4444 | H89: =A89 -> 79 | I89: =IFERROR(IF(I88-K88>=0.01,I88-K88,""),"") -> 435947.76 | J89: =IFERROR(I89*$G$4/12,"") -> 1453.1592 | K89: =IFERROR(M89-J89,"") -> 933.91727 | L89: =IFERROR(I89-K89,"") -> 435013.84 | M89: =IF(H89<>"",-PMT($G$4/12,$G$5,$G$3),"") -> 2387.0765
A90: =IF(B90<>"",80,"") -> 80 | B90: =IFERROR(IF(B89-D89>=0.01,B89-D89,""),"") -> 390277.78 | C90: =IFERROR(B90*$G$4/12,"") -> 1300.9259 | D90: =IF(A90<>"",$G$3/$G$5,"") -> 1388.8889 | E90: =IF(A90<>"",B90-D90,"") -> 388888.89 | F90: =IF(A90<>"",C90+D90,"") -> 2689.8148 | H90: =A90 -> 80 | I90: =IFERROR(IF(I89-K89>=0.01,I89-K89,""),"") -> 435013.84 | J90: =IFERROR(I90*$G$4/12,"") -> 1450.0461 | K90: =IFERROR(M90-J90,"") -> 937.03033 | L90: =IFERROR(I90-K90,"") -> 434076.81 | M90: =IF(H90<>"",-PMT($G$4/12,$G$5,$G$3),"") -> 2387.0765
A91: =IF(B91<>"",81,"") -> 81 | B91: =IFERROR(IF(B90-D90>=0.01,B90-D90,""),"") -> 388888.89 | C91: =IFERROR(B91*$G$4/12,"") -> 1296.2963 | D91: =IF(A91<>"",$G$3/$G$5,"") -> 1388.8889 | E91: =IF(A91<>"",B91-D91,"") -> 387500 | F91: =IF(A91<>"",C91+D91,"") -> 2685.1852 | H91: =A91 -> 81 | I91: =IFERROR(IF(I90-K90>=0.01,I90-K90,""),"") -> 434076.81 | J91: =IFERROR(I91*$G$4/12,"") -> 1446.9227 | K91: =IFERROR(M91-J91,"") -> 940.15376 | L91: =IFERROR(I91-K91,"") -> 433136.66 | M91: =IF(H91<>"",-PMT($G$4/12,$G$5,$G$3),"") -> 2387.0765
A92: =IF(B92<>"",82,"") -> 82 | B92: =IFERROR(IF(B91-D91>=0.01,B91-D91,""),"") -> 387500 | C92: =IFERROR(B92*$G$4/12,"") -> 1291.6667 | D92: =IF(A92<>"",$G$3/$G$5,"") -> 1388.8889 | E92: =IF(A92<>"",B92-D92,"") -> 386111.11 | F92: =IF(A92<>"",C92+D92,"") -> 2680.5556 | H92: =A92 -> 82 | I92: =IFERROR(IF(I91-K91>=0.01,I91-K91,""),"") -> 433136.66 | J92: =IFERROR(I92*$G$4/12,"") -> 1443.7889 | K92: =IFERROR(M92-J92,"") -> 943.28761 | L92: =IFERROR(I92-K92,"") -> 432193.37 | M92: =IF(H92<>"",-PMT($G$4/12,$G$5,$G$3),"") -> 2387.0765
A93: =IF(B93<>"",83,"") -> 83 | B93: =IFERROR(IF(B92-D92>=0.01,B92-D92,""),"") -> 386111.11 | C93: =IFERROR(B93*$G$4/12,"") -> 1287.037 | D93: =IF(A93<>"",$G$3/$G$5,"") -> 1388.8889 | E93: =IF(A93<>"",B93-D93,"") -> 384722.22 | F93: =IF(A93<>"",C93+D93,"") -> 2675.9259 | H93: =A93 -> 83 | I93: =IFERROR(IF(I92-K92>=0.01,I92-K92,""),"") -> 432193.37 | J93: =IFERROR(I93*$G$4/12,"") -> 1440.6446 | K93: =IFERROR(M93-J93,"") -> 946.4319 | L93: =IFERROR(I93-K93,"") -> 431246.94 | M93: =IF(H93<>"",-PMT($G$4/12,$G$5,$G$3),"") -> 2387.0765
A94: =IF(B94<>"",84,"") -> 84 | B94: =IFERROR(IF(B93-D93>=0.01,B93-D93,""),"") -> 384722.22 | C94: =IFERROR(B94*$G$4/12,"") -> 1282.4074 | D94: =IF(A94<>"",$G$3/$G$5,"") -> 1388.8889 | E94: =IF(A94<>"",B94-D94,"") -> 383333.33 | F94: =IF(A94<>"",C94+D94,"") -> 2671.2963 | H94: =A94 -> 84 | I94: =IFERROR(IF(I93-K93>=0.01,I93-K93,""),"") -> 431246.94 | J94: =IFERROR(I94*$G$4/12,"") -> 1437.4898 | K94: =IFERROR(M94-J94,"") -> 949.58667 | L94: =IFERROR(I94-K94,"") -> 430297.35 | M94: =IF(H94<>"",-PMT($G$4/12,$G$5,$G$3),"") -> 2387.0765
A95: =IF(B95<>"",85,"") -> 85 | B95: =IFERROR(IF(B94-D94>=0.01,B94-D94,""),"") -> 383333.33 | C95: =IFERROR(B95*$G$4/12,"") -> 1277.7778 | D95: =IF(A95<>"",$G$3/$G$5,"") -> 1388.8889 | E95: =IF(A95<>"",B95-D95,"") -> 381944.44 | F95: =IF(A95<>"",C95+D95,"") -> 2666.6667 | H95: =A95 -> 85 | I95: =IFERROR(IF(I94-K94>=0.01,I94-K94,""),"") -> 430297.35 | J95: =IFERROR(I95*$G$4/12,"") -> 1434.3245 | K95: =IFERROR(M95-J95,"") -> 952.75196 | L95: =IFERROR(I95-K95,"") -> 429344.6 | M95: =IF(H95<>"",-PMT($G$4/12,$G$5,$G$3),"") -> 2387.0765
A96: =IF(B96<>"",86,"") -> 86 | B96: =IFERROR(IF(B95-D95>=0.01,B95-D95,""),"") -> 381944.44 | C96: =IFERROR(B96*$G$4/12,"") -> 1273.1481 | D96: =IF(A96<>"",$G$3/$G$5,"") -> 1388.8889 | E96: =IF(A96<>"",B96-D96,"") -> 380555.56 | F96: =IF(A96<>"",C96+D96,"") -> 2662.037 | H96: =A96 -> 86 | I96: =IFERROR(IF(I95-K95>=0.01,I95-K95,""),"") -> 429344.6 | J96: =IFERROR(I96*$G$4/12,"") -> 1431.1487 | K96: =IFERROR(M96-J96,"") -> 955.9278 | L96: =IFERROR(I96-K96,"") -> 428388.67 | M96: =IF(H96<>"",-PMT($G$4/12,$G$5,$G$3),"") -> 2387.0765
A97: =IF(B97<>"",87,"") -> 87 | B97: =IFERROR(IF(B96-D96>=0.01,B96-D96,""),"") -> 380555.56 | C97: =IFERROR(B97*$G$4/12,"") -> 1268.5185 | D97: =IF(A97<>"",$G$3/$G$5,"") -> 1388.8889 | E97: =IF(A97<>"",B97-D97,"") -> 379166.67 | F97: =IF(A97<>"",C97+D97,"") -> 2657.4074 | H97: =A97 -> 87 | I97: =IFERROR(IF(I96-K96>=0.01,I96-K96,""),"") -> 428388.67 | J97: =IFERROR(I97*$G$4/12,"") -> 1427.9622 | K97: =IFERROR(M97-J97,"") -> 959.11423 | L97: =IFERROR(I97-K97,"") -> 427429.56 | M97: =IF(H97<>"",-PMT($G$4/12,$G$5,$G$3),"") -> 2387.0765
A98: =IF(B98<>"",88,"") -> 88 | B98: =IFERROR(IF(B97-D97>=0.01,B97-D97,""),"") -> 379166.67 | C98: =IFERROR(B98*$G$4/12,"") -> 1263.8889 | D98: =IF(A98<>"",$G$3/$G$5,"") -> 1388.8889 | E98: =IF(A98<>"",B98-D98,"") -> 377777.78 | F98: =IF(A98<>"",C98+D98,"") -> 2652.7778 | H98: =A98 -> 88 | I98: =IFERROR(IF(I97-K97>=0.01,I97-K97,""),"") -> 427429.56 | J98: =IFERROR(I98*$G$4/12,"") -> 1424.7652 | K98: =IFERROR(M98-J98,"") -> 962.31128 | L98: =IFERROR(I98-K98,"") -> 426467.25 | M98: =IF(H98<>"",-PMT($G$4/12,$G$5,$G$3),"") -> 2387.0765
A99: =IF(B99<>"",89,"") -> 89 | B99: =IFERROR(IF(B98-D98>=0.01,B98-D98,""),"") -> 377777.78 | C99: =IFERROR(B99*$G$4/12,"") -> 1259.2593 | D99: =IF(A99<>"",$G$3/$G$5,"") -> 1388.8889 | E99: =IF(A99<>"",B99-D99,"") -> 376388.89 | F99: =IF(A99<>"",C99+D99,"") -> 2648.1481 | H99: =A99 -> 89 | I99: =IFERROR(IF(I98-K98>=0.01,I98-K98,""),"") -> 426467.25 | J99: =IFERROR(I99*$G$4/12,"") -> 1421.5575 | K99: =IFERROR(M99-J99,"") -> 965.51898 | L99: =IFERROR(I99-K99,"") -> 425501.73 | M99: =IF(H99<>"",-PMT($G$4/12,$G$5,$G$3),"") -> 2387.0765
A100: =IF(B100<>"",90,"") -> 90 | B100: =IFERROR(IF(B99-D99>=0.01,B99-D99,""),"") -> 376388.89 | C100: =IFERROR(B100*$G$4/12,"") -> 1254.6296 | D100: =IF(A100<>"",$G$3/$G$5,"") -> 1388.8889 | E100: =IF(A100<>"",B100-D100,"") -> 375000 | F100: =IF(A100<>"",C100+D100,"") -> 2643.5185 | H100: =A100 -> 90 | I100: =IFERROR(IF(I99-K99>=0.01,I99-K99,""),"") -> 425501.73 | J100: =IFERROR(I100*$G$4/12,"") -> 1418.3391 | K100: =IFERROR(M100-J100,"") -> 968.73738 | L100: =IFERROR(I100-K100,"") -> 424532.99 | M100: =IF(H100<>"",-PMT($G$4/12,$G$5,$G$3),"") -> 2387.0765
A101: =IF(B101<>"",91,"") -> 91 | B101: =IFERROR(IF(B100-D100>=0.01,B100-D100,""),"") -> 375000 | C101: =IFERROR(B101*$G$4/12,"") -> 1250 | D101: =IF(A101<>"",$G$3/$G$5,"") -> 1388.8889 | E101: =IF(A101<>"",B101-D101,"") -> 373611.11 | F101: =IF(A101<>"",C101+D101,"") -> 2638.8889 | H101: =A101 -> 91 | I101: =IFERROR(IF(I100-K100>=0.01,I100-K100,""),"") -> 424532.99 | J101: =IFERROR(I101*$G$4/12,"") -> 1415.11 | K101: =IFERROR(M101-J101,"") -> 971.9665 | L101: =IFERROR(I101-K101,"") -> 423561.03 | M101: =IF(H101<>"",-PMT($G$4/12,$G$5,$G$3),"") -> 2387.0765
A102: =IF(B102<>"",92,"") -> 92 | B102: =IFERROR(IF(B101-D101>=0.01,B101-D101,""),"") -> 373611.11 | C102: =IFERROR(B102*$G$4/12,"") -> 1245.3704 | D102: =IF(A102<>"",$G$3/$G$5,"") -> 1388.8889 | E102: =IF(A102<>"",B102-D102,"") -> 372222.22 | F102: =IF(A102<>"",C102+D102,"") -> 2634.2593 | H102: =A102 -> 92 | I102: =IFERROR(IF(I101-K101>=0.01,I101-K101,""),"") -> 423561.03 | J102: =IFERROR(I102*$G$4/12,"") -> 1411.8701 | K102: =IFERROR(M102-J102,"") -> 975.20639 | L102: =IFERROR(I102-K102,"") -> 422585.82 | M102: =IF(H102<>"",-PMT($G$4/12,$G$5,$G$3),"") -> 2387.0765
A103: =IF(B103<>"",93,"") -> 93 | B103: =IFERROR(IF(B102-D102>=0.01,B102-D102,""),"") -> 372222.22 | C103: =IFERROR(B103*$G$4/12,"") -> 1240.7407 | D103: =IF(A103<>"",$G$3/$G$5,"") -> 1388.8889 | E103: =IF(A103<>"",B103-D103,"") -> 370833.33 | F103: =IF(A103<>"",C103+D103,"") -> 2629.6296 | H103: =A103 -> 93 | I103: =IFERROR(IF(I102-K102>=0.01,I102-K102,""),"") -> 422585.82 | J103: =IFERROR(I103*$G$4/12,"") -> 1408.6194 | K103: =IFERROR(M103-J103,"") -> 978.45708 | L103: =IFERROR(I103-K103,"") -> 421607.36 | M103: =IF(H103<>"",-PMT($G$4/12,$G$5,$G$3),"") -> 2387.0765
A104: =IF(B104<>"",94,"") -> 94 | B104: =IFERROR(IF(B103-D103>=0.01,B103-D103,""),"") -> 370833.33 | C104: =IFERROR(B104*$G$4/12,"") -> 1236.1111 | D104: =IF(A104<>"",$G$3/$G$5,"") -> 1388.8889 | E104: =IF(A104<>"",B104-D104,"") -> 369444.44 | F104: =IF(A104<>"",C104+D104,"") -> 2625 | H104: =A104 -> 94 | I104: =IFERROR(IF(I103-K103>=0.01,I103-K103,""),"") -> 421607.36 | J104: =IFERROR(I104*$G$4/12,"") -> 1405.3579 | K104: =IFERROR(M104-J104,"") -> 981.7186 | L104: =IFERROR(I104-K104,"") -> 420625.64 | M104: =IF(H104<>"",-PMT($G$4/12,$G$5,$G$3),"") -> 2387.0765
...

Sheet Blad3
A1: Lineair
A2: Annuïtair
C10: Lineair | K10: Annuïtair
C12: Bruto | D12: Rente | E12: Rente | F12: Netto | K12: Bruto | L12: Rente | M12: Rente | N12: Netto
C13: Maandlasten | E13: Aftrek | F13: Maandlatsen | K13: Maandlasten | M13: Aftrek | N13: Maandlatsen
B14: Maand 1 | C14: =Detailberekening!C11+Detailberekening!D11 -> 3055.5556 | D14: =Detailberekening!C11 -> 1666.6667 | J14: Maand 1 | K14: =Detailberekening!J11+Detailberekening!K11 -> 2387.0765 | L14: =Detailberekening!J11 -> 1666.6667
B15: Jaar 1 | C15: =SUM(Detailberekening!C11:D22) -> 36361.111 | D15: =SUM(Detailberekening!C11:C22) -> 19694.444 | J15: Jaar 1 | K15: =SUM(Detailberekening!J11:K22) -> 28644.918 | L15: =SUM(Detailberekening!J11:J22) -> 19839.736
B16: Hele looptijd | C16: =SUM(Detailberekening!F11:F370) -> 800833.33 | D16: =SUM(Detailberekening!C11:C396) -> 300833.33 | J16: Hele looptijd | K16: =SUM(Detailberekening!M11:M458) -> 859347.53 | L16: =SUM(Detailberekening!J11:J455) -> 359347.53
D28: Incl. box 2 | E28: Excl. Box 2
C29: Winst onder € 200.000 en laag box 2 tarief | D29: 0.38845 | E29: 0.19
C30: Winst boven € 200.000 en laag box 2 tarief | D30: =G39/100 -> 0.43979 | E30: 0.258 | F30: 0.258 | H30: 0.245 | I30: 0.31
C31: Winst onder € 200.000 en hoog box 2 tarief | D31: =H39/100 -> 0.4411 | E31: 0.19
C32: Winst boven € 200.000 en hoog box 2 tarief | D32: 0.48802 | E32: 0.258
G33: 100 | H33: 100
G34: =G33*F30 -> 25.8 | H34: 19
G35: =G33-G34 -> 74.2 | H35: =H33-H34 -> 81
G36: =G35*H30 -> 18.179 | H36: =H35*I30 -> 25.11
G37: =G35-G36 -> 56.021 | H37: =H35-H36 -> 55.89
G39: =100-G37 -> 43.979 | H39: =100-H37 -> 44.11
C40: 0.19
C41: 0.258
C43: 0.245
C44: 0.31
C51: ja
C52: nee
