Workbook

Sheet Samenvatting
E2: Meer weten of meteen besparingen in gang zetten? Neem contact met me op!
E5: Telefoon: 033-3037709
E6: Email: david@personalwealth.nl
B8: Aan dit document kan op geen enkele manier rechten worden ontleend
B9: Deze rekentool geeft een sterk vereenvoudigde weergave van de werkelijkheid, zonder met alle aspecten rekening te houden
B10: Voor professioneel advies is het verstandig een expert te raadplegen
B12: Voor box 3 wordt het werkelijk rendement als uitgangspunt gehanteerd
H14: Samenvatting belastingen
B15: Gele cellen invullen! | H15: Belastingvoordeel of nadeel | L15: Bedrag | M15: Percentage
H16: Belastingvoordeel kind door hypotheekrenteaftrek | L16: =-F35 -> 134683.45 | M16: =C25 -> 0.3748
B17: Bedrag | C17: 500000 | D17: <= invullen | H17: Te betalen belasting ouder in box 3 | L17: =D50 -> -129365.11 | M17: =C26 -> 0.36
B18: Rente | C18: 0.04 | D18: <= invullen | H18: Te betalen belasting ouder in de BV | L18: =H50 -> -139588.55 | M18: =C23 -> 0.38845
B19: Vorm | C19: Annuïtair | D19: <= selecteren
B20: VPB tarief in BV | C20: 0.19 | D20: <= selecteren: 19% tot een winst van 200k, daarboven 25,8%
B21: Box 2 tarief | C21: 0.245 | D21: <= selecteren: 24,5% tot € 68.843 dividend per persoon, daarboven 31%
B22: Box 2 meenemen? | C22: ja | D22: <= selecteren: wil je de box 2 heffing naar privé meenemen in de berekening?
B23: Totaal belasting BV | C23: =IF(C22="nee",C20,(C20+(1-C20)*C21)) -> 0.38845
B24: Looptijd | C24: 30 | D24: jaar
B25: Rente-aftrek | C25: 0.3748
B26: Box 3 belasting | C26: 0.36
B29: KIND = leningnemer
C31: Bruto | E31: Te betalen | F31: Rente | H31: Netto
C32: Maandlasten | E32: Rente | F32: Aftrek | H32: Lasten
B33: Eerste maand | C33: =IF(C19="Lineair",Blad3!C14,Blad3!K14) -> 2387.0765 | E33: =IF($C$19="Lineair",Blad3!D14,Blad3!L14) -> 1666.6667 | F33: =E33*-C25 -> -624.66667 | H33: =C33+F33 -> 1762.4098
B34: Eerste jaar | C34: =IF(C19="Lineair",Blad3!C15,Blad3!K15) -> 28644.918 | E34: =IF($C$19="Lineair",Blad3!D15,Blad3!L15) -> 19839.736 | F34: =E34*-C25 -> -7435.9329 | H34: =C34+F34 -> 21208.985
B35: Hele looptijd | C35: =IF(C19="Lineair",Blad3!C16,Blad3!K16) -> 859347.53 | E35: =IF($C$19="Lineair",Blad3!D16,Blad3!L16) -> 359347.53 | F35: =E35*-C25 -> -134683.45 | H35: =C35+F35 -> 724664.08
B37: Gemiddeld per maand | C37: =C35/360 -> 2387.0765 | E37: =E35/360 -> 998.18759 | F37: =F35/360 -> -374.12071 | H37: =H35/360 -> 2012.9558
B41: OUDER = geldverstrekker
C44: Verstrekken vanuit privé | G44: Verstrekken vanuit de BV
C46: Ontvangen | D46: Box 3 | E46: Netto | G46: Ontvangen | H46: BV | I46: Netto
C47: Rente | D47: Belasting | E47: Ontvangsten | G47: Rente | H47: Belasting | I47: Ontvangsten
B48: Eerste maand | C48: =IF($C$19="Lineair",Blad3!D14,Blad3!L14) -> 1666.6667 | D48: =C48*-$C$26 -> -600 | E48: =C48+D48 -> 1066.6667 | G48: =C48 -> 1666.6667 | H48: =G48*-C$23 -> -647.41667 | I48: =G48+H48 -> 1019.25
B49: Eerste jaar | C49: =IF($C$19="Lineair",Blad3!D15,Blad3!L15) -> 19839.736 | D49: =C49*-$C$26 -> -7142.3048 | E49: =C49+D49 -> 12697.431 | G49: =C49 -> 19839.736 | H49: =G49*-$C$23 -> -7706.7453 | I49: =G49+H49 -> 12132.99
B50: Hele looptijd | C50: =IF($C$19="Lineair",Blad3!D16,Blad3!L16) -> 359347.53 | D50: =C50*-$C$26 -> -129365.11 | E50: =C50+D50 -> 229982.42 | G50: =C50 -> 359347.53 | H50: =G50*-$C$23 -> -139588.55 | I50: =G50+H50 -> 219758.98
B52: Gemiddeld per maand | C52: =C50/360 -> 998.18759 | D52: =D50/360 -> -359.34753 | E52: =E50/360 -> 638.84006 | G52: =G50/360 -> 998.18759 | H52: =H50/360 -> -387.74597 | I52: =G52+H52 -> 610.44162

Sheet Detailberekening
F2: Hypotheek vergelijken
F3: Hoofdsom | G3: =Samenvatting!C17 -> 500000
F4: Rentepercentage | G4: =Samenvatting!C18 -> 0.04
F5: Looptijd in maanden | G5: 360
A8: ="Lineaire hypotheek - totale som: € "&FIXED(SUMIF(B11:B610,">=0",F11:F610)) -> Lineaire hypotheek - totale som: € 800.833,33 | H8: ="Annuïteiten hypotheek - totale som: € "&FIXED(SUMIF(I11:I610,">=0",M11:M610)) -> Annuïteiten hypotheek - totale som: € 859.347,53
A10: Periode | B10: Totale schuld | C10: Te betalen rente | D10: Te betalen aflossing | E10: Restschuld | F10: Totale maandbedrag | H10: Periode | I10: Totale schuld | J10: Te betalen rente | K10: Te betalen aflossing | L10: Restschuld | M10: Totale maandbedrag
A11: =IF(B11<>"",1,"") -> 1 | B11: =G3 -> 500000 | C11: =IFERROR(B11*$G$4/12,"") -> 1666.6667 | D11: =IF(A11<>"",$G$3/$G$5,"") -> 1388.8889 | E11: =IF(A11<>"",B11-D11,"") -> 498611.11 | F11: =IF(A11<>"",C11+D11,"") -> 3055.5556 | H11: =A11 -> 1 | I11: =G3 -> 500000 | J11: =IFERROR(I11*$G$4/12,"") -> 1666.6667 | K11: =IFERROR(M11-J11,"") -> 720.40981 | L11: =IFERROR(I11-K11,"") -> 499279.59 | M11: =IF(H11<>"",-PMT($G$4/12,$G$5,$G$3),"") -> 2387.0765
A12: =IF(B12<>"",2,"") -> 2 | B12: =IFERROR(IF(B11-D11>=0.01,B11-D11,""),"") -> 498611.11 | C12: =IFERROR(B12*$G$4/12,"") -> 1662.037 | D12: =IF(A12<>"",$G$3/$G$5,"") -> 1388.8889 | E12: =IF(A12<>"",B12-D12,"") -> 497222.22 | F12: =IF(A12<>"",C12+D12,"") -> 3050.9259 | H12: =A12 -> 2 | I12: =IFERROR(IF(I11-K11>=0.01,I11-K11,""),"") -> 499279.59 | J12: =IFERROR(I12*$G$4/12,"") -> 1664.2653 | K12: =IFERROR(M12-J12,"") -> 722.81118 | L12: =IFERROR(I12-K12,"") -> 498556.78 | M12: =IF(H12<>"",-PMT($G$4/12,$G$5,$G$3),"") -> 2387.0765
A13: =IF(B13<>"",3,"") -> 3 | B13: =IFERROR(IF(B12-D12>=0.01,B12-D12,""),"") -> 497222.22 | C13: =IFERROR(B13*$G$4/12,"") -> 1657.4074 | D13: =IF(A13<>"",$G$3/$G$5,"") -> 1388.8889 | E13: =IF(A13<>"",B13-D13,"") -> 495833.33 | F13: =IF(A13<>"",C13+D13,"") -> 3046.2963 | H13: =A13 -> 3 | I13: =IFERROR(IF(I12-K12>=0.01,I12-K12,""),"") -> 498556.78 | J13: =IFERROR(I13*$G$4/12,"") -> 1661.8559 | K13: =IFERROR(M13-J13,"") -> 725.22055 | L13: =IFERROR(I13-K13,"") -> 497831.56 | M13: =IF(H13<>"",-PMT($G$4/12,$G$5,$G$3),"") -> 2387.0765
A14: =IF(B14<>"",4,"") -> 4 | B14: =IFERROR(IF(B13-D13>=0.01,B13-D13,""),"") -> 495833.33 | C14: =IFERROR(B14*$G$4/12,"") -> 1652.7778 | D14: =IF(A14<>"",$G$3/$G$5,"") -> 1388.8889 | E14: =IF(A14<>"",B14-D14,"") -> 494444.44 | F14: =IF(A14<>"",C14+D14,"") -> 3041.6667 | H14: =A14 -> 4 | I14: =IFERROR(IF(I13-K13>=0.01,I13-K13,""),"") -> 497831.56 | J14: =IFERROR(I14*$G$4/12,"") -> 1659.4385 | K14: =IFERROR(M14-J14,"") -> 727.63795 | L14: =IFERROR(I14-K14,"") -> 497103.92 | M14: =IF(H14<>"",-PMT($G$4/12,$G$5,$G$3),"") -> 2387.0765
A15: =IF(B15<>"",5,"") -> 5 | B15: =IFERROR(IF(B14-D14>=0.01,B14-D14,""),"") -> 494444.44 | C15: =IFERROR(B15*$G$4/12,"") -> 1648.1481 | D15: =IF(A15<>"",$G$3/$G$5,"") -> 1388.8889 | E15: =IF(A15<>"",B15-D15,"") -> 493055.56 | F15: =IF(A15<>"",C15+D15,"") -> 3037.037 | H15: =A15 -> 5 | I15: =IFERROR(IF(I14-K14>=0.01,I14-K14,""),"") -> 497103.92 | J15: =IFERROR(I15*$G$4/12,"") -> 1657.0131 | K15: =IFERROR(M15-J15,"") -> 730.06341 | L15: =IFERROR(I15-K15,"") -> 496373.86 | M15: =IF(H15<>"",-PMT($G$4/12,$G$5,$G$3),"") -> 2387.0765
A16: =IF(B16<>"",6,"") -> 6 | B16: =IFERROR(IF(B15-D15>=0.01,B15-D15,""),"") -> 493055.56 | C16: =IFERROR(B16*$G$4/12,"") -> 1643.5185 | D16: =IF(A16<>"",$G$3/$G$5,"") -> 1388.8889 | E16: =IF(A16<>"",B16-D16,"") -> 491666.67 | F16: =IF(A16<>"",C16+D16,"") -> 3032.4074 | H16: =A16 -> 6 | I16: =IFERROR(IF(I15-K15>=0.01,I15-K15,""),"") -> 496373.86 | J16: =IFERROR(I16*$G$4/12,"") -> 1654.5795 | K16: =IFERROR(M16-J16,"") -> 732.49695 | L16: =IFERROR(I16-K16,"") -> 495641.36 | M16: =IF(H16<>"",-PMT($G$4/12,$G$5,$G$3),"") -> 2387.0765
A17: =IF(B17<>"",7,"") -> 7 | B17: =IFERROR(IF(B16-D16>=0.01,B16-D16,""),"") -> 491666.67 | C17: =IFERROR(B17*$G$4/12,"") -> 1638.8889 | D17: =IF(A17<>"",$G$3/$G$5,"") -> 1388.8889 | E17: =IF(A17<>"",B17-D17,"") -> 490277.78 | F17: =IF(A17<>"",C17+D17,"") -> 3027.7778 | H17: =A17 -> 7 | I17: =IFERROR(IF(I16-K16>=0.01,I16-K16,""),"") -> 495641.36 | J17: =IFERROR(I17*$G$4/12,"") -> 1652.1379 | K17: =IFERROR(M17-J17,"") -> 734.93861 | L17: =IFERROR(I17-K17,"") -> 494906.42 | M17: =IF(H17<>"",-PMT($G$4/12,$G$5,$G$3),"") -> 2387.0765
A18: =IF(B18<>"",8,"") -> 8 | B18: =IFERROR(IF(B17-D17>=0.01,B17-D17,""),"") -> 490277.78 | C18: =IFERROR(B18*$G$4/12,"") -> 1634.2593 | D18: =IF(A18<>"",$G$3/$G$5,"") -> 1388.8889 | E18: =IF(A18<>"",B18-D18,"") -> 488888.89 | F18: =IF(A18<>"",C18+D18,"") -> 3023.1481 | H18: =A18 -> 8 | I18: =IFERROR(IF(I17-K17>=0.01,I17-K17,""),"") -> 494906.42 | J18: =IFERROR(I18*$G$4/12,"") -> 1649.6881 | K18: =IFERROR(M18-J18,"") -> 737.38841 | L18: =IFERROR(I18-K18,"") -> 494169.03 | M18: =IF(H18<>"",-PMT($G$4/12,$G$5,$G$3),"") -> 2387.0765
A19: =IF(B19<>"",9,"") -> 9 | B19: =IFERROR(IF(B18-D18>=0.01,B18-D18,""),"") -> 488888.89 | C19: =IFERROR(B19*$G$4/12,"") -> 1629.6296 | D19: =IF(A19<>"",$G$3/$G$5,"") -> 1388.8889 | E19: =IF(A19<>"",B19-D19,"") -> 487500 | F19: =IF(A19<>"",C19+D19,"") -> 3018.5185 | H19: =A19 -> 9 | I19: =IFERROR(IF(I18-K18>=0.01,I18-K18,""),"") -> 494169.03 | J19: =IFERROR(I19*$G$4/12,"") -> 1647.2301 | K19: =IFERROR(M19-J19,"") -> 739.84637 | L19: =IFERROR(I19-K19,"") -> 493429.19 | M19: =IF(H19<>"",-PMT($G$4/12,$G$5,$G$3),"") -> 2387.0765
A20: =IF(B20<>"",10,"") -> 10 | B20: =IFERROR(IF(B19-D19>=0.01,B19-D19,""),"") -> 487500 | C20: =IFERROR(B20*$G$4/12,"") -> 1625 | D20: =IF(A20<>"",$G$3/$G$5,"") -> 1388.8889 | E20: =IF(A20<>"",B20-D20,"") -> 486111.11 | F20: =IF(A20<>"",C20+D20,"") -> 3013.8889 | H20: =A20 -> 10 | I20: =IFERROR(IF(I19-K19>=0.01,I19-K19,""),"") -> 493429.19 | J20: =IFERROR(I20*$G$4/12,"") -> 1644.764 | K20: =IFERROR(M20-J20,"") -> 742.31252 | L20: =IFERROR(I20-K20,"") -> 492686.87 | M20: =IF(H20<>"",-PMT($G$4/12,$G$5,$G$3),"") -> 2387.0765
A21: =IF(B21<>"",11,"") -> 11 | B21: =IFERROR(IF(B20-D20>=0.01,B20-D20,""),"") -> 486111.11 | C21: =IFERROR(B21*$G$4/12,"") -> 1620.3704 | D21: =IF(A21<>"",$G$3/$G$5,"") -> 1388.8889 | E21: =IF(A21<>"",B21-D21,"") -> 484722.22 | F21: =IF(A21<>"",C21+D21,"") -> 3009.2593 | H21: =A21 -> 11 | I21: =IFERROR(IF(I20-K20>=0.01,I20-K20,""),"") -> 492686.87 | J21: =IFERROR(I21*$G$4/12,"") -> 1642.2896 | K21: =IFERROR(M21-J21,"") -> 744.7869 | L21: =IFERROR(I21-K21,"") -> 491942.09 | M21: =IF(H21<>"",-PMT($G$4/12,$G$5,$G$3),"") -> 2387.0765
A22: =IF(B22<>"",12,"") -> 12 | B22: =IFERROR(IF(B21-D21>=0.01,B21-D21,""),"") -> 484722.22 | C22: =IFERROR(B22*$G$4/12,"") -> 1615.7407 | D22: =IF(A22<>"",$G$3/$G$5,"") -> 1388.8889 | E22: =IF(A22<>"",B22-D22,"") -> 483333.33 | F22: =IF(A22<>"",C22+D22,"") -> 3004.6296 | H22: =A22 -> 12 | I22: =IFERROR(IF(I21-K21>=0.01,I21-K21,""),"") -> 491942.09 | J22: =IFERROR(I22*$G$4/12,"") -> 1639.807 | K22: =IFERROR(M22-J22,"") -> 747.26952 | L22: =IFERROR(I22-K22,"") -> 491194.82 | M22: =IF(H22<>"",-PMT($G$4/12,$G$5,$G$3),"") -> 2387.0765
A23: =IF(B23<>"",13,"") -> 13 | B23: =IFERROR(IF(B22-D22>=0.01,B22-D22,""),"") -> 483333.33 | C23: =IFERROR(B23*$G$4/12,"") -> 1611.1111 | D23: =IF(A23<>"",$G$3/$G$5,"") -> 1388.8889 | E23: =IF(A23<>"",B23-D23,"") -> 481944.44 | F23: =IF(A23<>"",C23+D23,"") -> 3000 | H23: =A23 -> 13 | I23: =IFERROR(IF(I22-K22>=0.01,I22-K22,""),"") -> 491194.82 | J23: =IFERROR(I23*$G$4/12,"") -> 1637.3161 | K23: =IFERROR(M23-J23,"") -> 749.76042 | L23: =IFERROR(I23-K23,"") -> 490445.06 | M23: =IF(H23<>"",-PMT($G$4/12,$G$5,$G$3),"") -> 2387.0765
A24: =IF(B24<>"",14,"") -> 14 | B24: =IFERROR(IF(B23-D23>=0.01,B23-D23,""),"") -> 481944.44 | C24: =IFERROR(B24*$G$4/12,"") -> 1606.4815 | D24: =IF(A24<>"",$G$3/$G$5,"") -> 1388.8889 | E24: =IF(A24<>"",B24-D24,"") -> 480555.56 | F24: =IF(A24<>"",C24+D24,"") -> 2995.3704 | H24: =A24 -> 14 | I24: =IFERROR(IF(I23-K23>=0.01,I23-K23,""),"") -> 490445.06 | J24: =IFERROR(I24*$G$4/12,"") -> 1634.8169 | K24: =IFERROR(M24-J24,"") -> 752.25962 | L24: =IFERROR(I24-K24,"") -> 489692.8 | M24: =IF(H24<>"",-PMT($G$4/12,$G$5,$G$3),"") -> 2387.0765
A25: =IF(B25<>"",15,"") -> 15 | B25: =IFERROR(IF(B24-D24>=0.01,B24-D24,""),"") -> 480555.56 | C25: =IFERROR(B25*$G$4/12,"") -> 1601.8519 | D25: =IF(A25<>"",$G$3/$G$5,"") -> 1388.8889 | E25: =IF(A25<>"",B25-D25,"") -> 479166.67 | F25: =IF(A25<>"",C25+D25,"") -> 2990.7407 | H25: =A25 -> 15 | I25: =IFERROR(IF(I24-K24>=0.01,I24-K24,""),"") -> 489692.8 | J25: =IFERROR(I25*$G$4/12,"") -> 1632.3093 | K25: =IFERROR(M25-J25,"") -> 754.76715 | L25: =IFERROR(I25-K25,"") -> 488938.03 | M25: =IF(H25<>"",-PMT($G$4/12,$G$5,$G$3),"") -> 2387.0765
A26: =IF(B26<>"",16,"") -> 16 | B26: =IFERROR(IF(B25-D25>=0.01,B25-D25,""),"") -> 479166.67 | C26: =IFERROR(B26*$G$4/12,"") -> 1597.2222 | D26: =IF(A26<>"",$G$3/$G$5,"") -> 1388.8889 | E26: =IF(A26<>"",B26-D26,"") -> 477777.78 | F26: =IF(A26<>"",C26+D26,"") -> 2986.1111 | H26: =A26 -> 16 | I26: =IFERROR(IF(I25-K25>=0.01,I25-K25,""),"") -> 488938.03 | J26: =IFERROR(I26*$G$4/12,"") -> 1629.7934 | K26: =IFERROR(M26-J26,"") -> 757.28304 | L26: =IFERROR(I26-K26,"") -> 488180.75 | M26: =IF(H26<>"",-PMT($G$4/12,$G$5,$G$3),"") -> 2387.0765
A27: =IF(B27<>"",17,"") -> 17 | B27: =IFERROR(IF(B26-D26>=0.01,B26-D26,""),"") -> 477777.78 | C27: =IFERROR(B27*$G$4/12,"") -> 1592.5926 | D27: =IF(A27<>"",$G$3/$G$5,"") -> 1388.8889 | E27: =IF(A27<>"",B27-D27,"") -> 476388.89 | F27: =IF(A27<>"",C27+D27,"") -> 2981.4815 | H27: =A27 -> 17 | I27: =IFERROR(IF(I26-K26>=0.01,I26-K26,""),"") -> 488180.75 | J27: =IFERROR(I27*$G$4/12,"") -> 1627.2692 | K27: =IFERROR(M27-J27,"") -> 759.80732 | L27: =IFERROR(I27-K27,"") -> 487420.94 | M27: =IF(H27<>"",-PMT($G$4/12,$G$5,$G$3),"") -> 2387.0765
A28: =IF(B28<>"",18,"") -> 18 | B28: =IFERROR(IF(B27-D27>=0.01,B27-D27,""),"") -> 476388.89 | C28: =IFERROR(B28*$G$4/12,"") -> 1587.963 | D28: =IF(A28<>"",$G$3/$G$5,"") -> 1388.8889 | E28: =IF(A28<>"",B28-D28,"") -> 475000 | F28: =IF(A28<>"",C28+D28,"") -> 2976.8519 | H28: =A28 -> 18 | I28: =IFERROR(IF(I27-K27>=0.01,I27-K27,""),"") -> 487420.94 | J28: =IFERROR(I28*$G$4/12,"") -> 1624.7365 | K28: =IFERROR(M28-J28,"") -> 762.34001 | L28: =IFERROR(I28-K28,"") -> 486658.6 | M28: =IF(H28<>"",-PMT($G$4/12,$G$5,$G$3),"") -> 2387.0765
A29: =IF(B29<>"",19,"") -> 19 | B29: =IFERROR(IF(B28-D28>=0.01,B28-D28,""),"") -> 475000 | C29: =IFERROR(B29*$G$4/12,"") -> 1583.3333 | D29: =IF(A29<>"",$G$3/$G$5,"") -> 1388.8889 | E29: =IF(A29<>"",B29-D29,"") -> 473611.11 | F29: =IF(A29<>"",C29+D29,"") -> 2972.2222 | H29: =A29 -> 19 | I29: =IFERROR(IF(I28-K28>=0.01,I28-K28,""),"") -> 486658.6 | J29: =IFERROR(I29*$G$4/12,"") -> 1622.1953 | K29: =IFERROR(M29-J29,"") -> 764.88114 | L29: =IFERROR(I29-K29,"") -> 485893.72 | M29: =IF(H29<>"",-PMT($G$4/12,$G$5,$G$3),"") -> 2387.0765
A30: =IF(B30<>"",20,"") -> 20 | B30: =IFERROR(IF(B29-D29>=0.01,B29-D29,""),"") -> 473611.11 | C30: =IFERROR(B30*$G$4/12,"") -> 1578.7037 | D30: =IF(A30<>"",$G$3/$G$5,"") -> 1388.8889 | E30: =IF(A30<>"",B30-D30,"") -> 472222.22 | F30: =IF(A30<>"",C30+D30,"") -> 2967.5926 | H30: =A30 -> 20 | I30: =IFERROR(IF(I29-K29>=0.01,I29-K29,""),"") -> 485893.72 | J30: =IFERROR(I30*$G$4/12,"") -> 1619.6457 | K30: =IFERROR(M30-J30,"") -> 767.43075 | L30: =IFERROR(I30-K30,"") -> 485126.29 | M30: =IF(H30<>"",-PMT($G$4/12,$G$5,$G$3),"") -> 2387.0765
A31: =IF(B31<>"",21,"") -> 21 | B31: =IFERROR(IF(B30-D30>=0.01,B30-D30,""),"") -> 472222.22 | C31: =IFERROR(B31*$G$4/12,"") -> 1574.0741 | D31: =IF(A31<>"",$G$3/$G$5,"") -> 1388.8889 | E31: =IF(A31<>"",B31-D31,"") -> 470833.33 | F31: =IF(A31<>"",C31+D31,"") -> 2962.963 | H31: =A31 -> 21 | I31: =IFERROR(IF(I30-K30>=0.01,I30-K30,""),"") -> 485126.29 | J31: =IFERROR(I31*$G$4/12,"") -> 1617.0876 | K31: =IFERROR(M31-J31,"") -> 769.98885 | L31: =IFERROR(I31-K31,"") -> 484356.3 | M31: =IF(H31<>"",-PMT($G$4/12,$G$5,$G$3),"") -> 2387.0765
A32: =IF(B32<>"",22,"") -> 22 | B32: =IFERROR(IF(B31-D31>=0.01,B31-D31,""),"") -> 470833.33 | C32: =IFERROR(B32*$G$4/12,"") -> 1569.4444 | D32: =IF(A32<>"",$G$3/$G$5,"") -> 1388.8889 | E32: =IF(A32<>"",B32-D32,"") -> 469444.44 | F32: =IF(A32<>"",C32+D32,"") -> 2958.3333 | H32: =A32 -> 22 | I32: =IFERROR(IF(I31-K31>=0.01,I31-K31,""),"") -> 484356.3 | J32: =IFERROR(I32*$G$4/12,"") -> 1614.521 | K32: =IFERROR(M32-J32,"") -> 772.55548 | L32: =IFERROR(I32-K32,"") -> 483583.74 | M32: =IF(H32<>"",-PMT($G$4/12,$G$5,$G$3),"") -> 2387.0765
A33: =IF(B33<>"",23,"") -> 23 | B33: =IFERROR(IF(B32-D32>=0.01,B32-D32,""),"") -> 469444.44 | C33: =IFERROR(B33*$G$4/12,"") -> 1564.8148 | D33: =IF(A33<>"",$G$3/$G$5,"") -> 1388.8889 | E33: =IF(A33<>"",B33-D33,"") -> 468055.56 | F33: =IF(A33<>"",C33+D33,"") -> 2953.7037 | H33: =A33 -> 23 | I33: =IFERROR(IF(I32-K32>=0.01,I32-K32,""),"") -> 483583.74 | J33: =IFERROR(I33*$G$4/12,"") -> 1611.9458 | K33: =IFERROR(M33-J33,"") -> 775.13066 | L33: =IFERROR(I33-K33,"") -> 482808.61 | M33: =IF(H33<>"",-PMT($G$4/12,$G$5,$G$3),"") -> 2387.0765
A34: =IF(B34<>"",24,"") -> 24 | B34: =IFERROR(IF(B33-D33>=0.01,B33-D33,""),"") -> 468055.56 | C34: =IFERROR(B34*$G$4/12,"") -> 1560.1852 | D34: =IF(A34<>"",$G$3/$G$5,"") -> 1388.8889 | E34: =IF(A34<>"",B34-D34,"") -> 466666.67 | F34: =IF(A34<>"",C34+D34,"") -> 2949.0741 | H34: =A34 -> 24 | I34: =IFERROR(IF(I33-K33>=0.01,I33-K33,""),"") -> 482808.61 | J34: =IFERROR(I34*$G$4/12,"") -> 1609.362 | K34: =IFERROR(M34-J34,"") -> 777.71443 | L34: =IFERROR(I34-K34,"") -> 482030.9 | M34: =IF(H34<>"",-PMT($G$4/12,$G$5,$G$3),"") -> 2387.0765
A35: =IF(B35<>"",25,"") -> 25 | B35: =IFERROR(IF(B34-D34>=0.01,B34-D34,""),"") -> 466666.67 | C35: =IFERROR(B35*$G$4/12,"") -> 1555.5556 | D35: =IF(A35<>"",$G$3/$G$5,"") -> 1388.8889 | E35: =IF(A35<>"",B35-D35,"") -> 465277.78 | F35: =IF(A35<>"",C35+D35,"") -> 2944.4444 | H35: =A35 -> 25 | I35: =IFERROR(IF(I34-K34>=0.01,I34-K34,""),"") -> 482030.9 | J35: =IFERROR(I35*$G$4/12,"") -> 1606.7697 | K35: =IFERROR(M35-J35,"") -> 780.30681 | L35: =IFERROR(I35-K35,"") -> 481250.59 | M35: =IF(H35<>"",-PMT($G$4/12,$G$5,$G$3),"") -> 2387.0765
A36: =IF(B36<>"",26,"") -> 26 | B36: =IFERROR(IF(B35-D35>=0.01,B35-D35,""),"") -> 465277.78 | C36: =IFERROR(B36*$G$4/12,"") -> 1550.9259 | D36: =IF(A36<>"",$G$3/$G$5,"") -> 1388.8889 | E36: =IF(A36<>"",B36-D36,"") -> 463888.89 | F36: =IF(A36<>"",C36+D36,"") -> 2939.8148 | H36: =A36 -> 26 | I36: =IFERROR(IF(I35-K35>=0.01,I35-K35,""),"") -> 481250.59 | J36: =IFERROR(I36*$G$4/12,"") -> 1604.1686 | K36: =IFERROR(M36-J36,"") -> 782.90784 | L36: =IFERROR(I36-K36,"") -> 480467.68 | M36: =IF(H36<>"",-PMT($G$4/12,$G$5,$G$3),"") -> 2387.0765
A37: =IF(B37<>"",27,"") -> 27 | B37: =IFERROR(IF(B36-D36>=0.01,B36-D36,""),"") -> 463888.89 | C37: =IFERROR(B37*$G$4/12,"") -> 1546.2963 | D37: =IF(A37<>"",$G$3/$G$5,"") -> 1388.8889 | E37: =IF(A37<>"",B37-D37,"") -> 462500 | F37: =IF(A37<>"",C37+D37,"") -> 2935.1852 | H37: =A37 -> 27 | I37: =IFERROR(IF(I36-K36>=0.01,I36-K36,""),"") -> 480467.68 | J37: =IFERROR(I37*$G$4/12,"") -> 1601.5589 | K37: =IFERROR(M37-J37,"") -> 785.51753 | L37: =IFERROR(I37-K37,"") -> 479682.17 | M37: =IF(H37<>"",-PMT($G$4/12,$G$5,$G$3),"") -> 2387.0765
A38: =IF(B38<>"",28,"") -> 28 | B38: =IFERROR(IF(B37-D37>=0.01,B37-D37,""),"") -> 462500 | C38: =IFERROR(B38*$G$4/12,"") -> 1541.6667 | D38: =IF(A38<>"",$G$3/$G$5,"") -> 1388.8889 | E38: =IF(A38<>"",B38-D38,"") -> 461111.11 | F38: =IF(A38<>"",C38+D38,"") -> 2930.5556 | H38: =A38 -> 28 | I38: =IFERROR(IF(I37-K37>=0.01,I37-K37,""),"") -> 479682.17 | J38: =IFERROR(I38*$G$4/12,"") -> 1598.9406 | K38: =IFERROR(M38-J38,"") -> 788.13592 | L38: =IFERROR(I38-K38,"") -> 478894.03 | M38: =IF(H38<>"",-PMT($G$4/12,$G$5,$G$3),"") -> 2387.0765
A39: =IF(B39<>"",29,"") -> 29 | B39: =IFERROR(IF(B38-D38>=0.01,B38-D38,""),"") -> 461111.11 | C39: =IFERROR(B39*$G$4/12,"") -> 1537.037 | D39: =IF(A39<>"",$G$3/$G$5,"") -> 1388.8889 | E39: =IF(A39<>"",B39-D39,"") -> 459722.22 | F39: =IF(A39<>"",C39+D39,"") -> 2925.9259 | H39: =A39 -> 29 | I39: =IFERROR(IF(I38-K38>=0.01,I38-K38,""),"") -> 478894.03 | J39: =IFERROR(I39*$G$4/12,"") -> 1596.3134 | K39: =IFERROR(M39-J39,"") -> 790.76304 | L39: =IFERROR(I39-K39,"") -> 478103.27 | M39: =IF(H39<>"",-PMT($G$4/12,$G$5,$G$3),"") -> 2387.0765
A40: =IF(B40<>"",30,"") -> 30 | B40: =IFERROR(IF(B39-D39>=0.01,B39-D39,""),"") -> 459722.22 | C40: =IFERROR(B40*$G$4/12,"") -> 1532.4074 | D40: =IF(A40<>"",$G$3/$G$5,"") -> 1388.8889 | E40: =IF(A40<>"",B40-D40,"") -> 458333.33 | F40: =IF(A40<>"",C40+D40,"") -> 2921.2963 | H40: =A40 -> 30 | I40: =IFERROR(IF(I39-K39>=0.01,I39-K39,""),"") -> 478103.27 | J40: =IFERROR(I40*$G$4/12,"") -> 1593.6776 | K40: =IFERROR(M40-J40,"") -> 793.39892 | L40: =IFERROR(I40-K40,"") -> 477309.87 | M40: =IF(H40<>"",-PMT($G$4/12,$G$5,$G$3),"") -> 2387.0765
A41: =IF(B41<>"",31,"") -> 31 | B41: =IFERROR(IF(B40-D40>=0.01,B40-D40,""),"") -> 458333.33 | C41: =IFERROR(B41*$G$4/12,"") -> 1527.7778 | D41: =IF(A41<>"",$G$3/$G$5,"") -> 1388.8889 | E41: =IF(A41<>"",B41-D41,"") -> 456944.44 | F41: =IF(A41<>"",C41+D41,"") -> 2916.6667 | H41: =A41 -> 31 | I41: =IFERROR(IF(I40-K40>=0.01,I40-K40,""),"") -> 477309.87 | J41: =IFERROR(I41*$G$4/12,"") -> 1591.0329 | K41: =IFERROR(M41-J41,"") -> 796.04358 | L41: =IFERROR(I41-K41,"") -> 476513.83 | M41: =IF(H41<>"",-PMT($G$4/12,$G$5,$G$3),"") -> 2387.0765
A42: =IF(B42<>"",32,"") -> 32 | B42: =IFERROR(IF(B41-D41>=0.01,B41-D41,""),"") -> 456944.44 | C42: =IFERROR(B42*$G$4/12,"") -> 1523.1481 | D42: =IF(A42<>"",$G$3/$G$5,"") -> 1388.8889 | E42: =IF(A42<>"",B42-D42,"") -> 455555.56 | F42: =IF(A42<>"",C42+D42,"") -> 2912.037 | H42: =A42 -> 32 | I42: =IFERROR(IF(I41-K41>=0.01,I41-K41,""),"") -> 476513.83 | J42: =IFERROR(I42*$G$4/12,"") -> 1588.3794 | K42: =IFERROR(M42-J42,"") -> 798.69706 | L42: =IFERROR(I42-K42,"") -> 475715.13 | M42: =IF(H42<>"",-PMT($G$4/12,$G$5,$G$3),"") -> 2387.0765
A43: =IF(B43<>"",33,"") -> 33 | B43: =IFERROR(IF(B42-D42>=0.01,B42-D42,""),"") -> 455555.56 | C43: =IFERROR(B43*$G$4/12,"") -> 1518.5185 | D43: =IF(A43<>"",$G$3/$G$5,"") -> 1388.8889 | E43: =IF(A43<>"",B43-D43,"") -> 454166.67 | F43: =IF(A43<>"",C43+D43,"") -> 2907.4074 | H43: =A43 -> 33 | I43: =IFERROR(IF(I42-K42>=0.01,I42-K42,""),"") -> 475715.13 | J43: =IFERROR(I43*$G$4/12,"") -> 1585.7171 | K43: =IFERROR(M43-J43,"") -> 801.35938 | L43: =IFERROR(I43-K43,"") -> 474913.77 | M43: =IF(H43<>"",-PMT($G$4/12,$G$5,$G$3),"") -> 2387.0765
A44: =IF(B44<>"",34,"") -> 34 | B44: =IFERROR(IF(B43-D43>=0.01,B43-D43,""),"") -> 454166.67 | C44: =IFERROR(B44*$G$4/12,"") -> 1513.8889 | D44: =IF(A44<>"",$G$3/$G$5,"") -> 1388.8889 | E44: =IF(A44<>"",B44-D44,"") -> 452777.78 | F44: =IF(A44<>"",C44+D44,"") -> 2902.7778 | H44: =A44 -> 34 | I44: =IFERROR(IF(I43-K43>=0.01,I43-K43,""),"") -> 474913.77 | J44: =IFERROR(I44*$G$4/12,"") -> 1583.0459 | K44: =IFERROR(M44-J44,"") -> 804.03058 | L44: =IFERROR(I44-K44,"") -> 474109.74 | M44: =IF(H44<>"",-PMT($G$4/12,$G$5,$G$3),"") -> 2387.0765
...

Sheet Blad3
A1: Lineair
A2: Annuïtair
C10: Lineair | K10: Annuïtair
C12: Bruto | D12: Rente | E12: Rente | F12: Netto | K12: Bruto | L12: Rente | M12: Rente | N12: Netto
C13: Maandlasten | E13: Aftrek | F13: Maandlatsen | K13: Maandlasten | M13: Aftrek | N13: Maandlatsen
B14: Maand 1 | C14: =Detailberekening!C11+Detailberekening!D11 -> 3055.5556 | D14: =Detailberekening!C11 -> 1666.6667 | J14: Maand 1 | K14: =Detailberekening!J11+Detailberekening!K11 -> 2387.0765 | L14: =Detailberekening!J11 -> 1666.6667
B15: Jaar 1 | C15: =SUM(Detailberekening!C11:D22) -> 36361.111 | D15: =SUM(Detailberekening!C11:C22) -> 19694.444 | J15: Jaar 1 | K15: =SUM(Detailberekening!J11:K22) -> 28644.918 | L15: =SUM(Detailberekening!J11:J22) -> 19839.736
B16: Hele looptijd | C16: =SUM(Detailberekening!F11:F370) -> 800833.33 | D16: =SUM(Detailberekening!C11:C396) -> 300833.33 | J16: Hele looptijd | K16: =SUM(Detailberekening!M11:M458) -> 859347.53 | L16: =SUM(Detailberekening!J11:J455) -> 359347.53
D28: Incl. box 2 | E28: Excl. Box 2
C29: Winst onder € 200.000 en laag box 2 tarief | D29: 0.38845 | E29: 0.19
C30: Winst boven € 200.000 en laag box 2 tarief | D30: =G39/100 -> 0.43979 | E30: 0.258 | F30: 0.258 | H30: 0.245 | I30: 0.31
C31: Winst onder € 200.000 en hoog box 2 tarief | D31: =H39/100 -> 0.4411 | E31: 0.19
C32: Winst boven € 200.000 en hoog box 2 tarief | D32: 0.48802 | E32: 0.258
G33: 100 | H33: 100
G34: =G33*F30 -> 25.8 | H34: 19
G35: =G33-G34 -> 74.2 | H35: =H33-H34 -> 81
G36: =G35*H30 -> 18.179 | H36: =H35*I30 -> 25.11
G37: =G35-G36 -> 56.021 | H37: =H35-H36 -> 55.89
G39: =100-G37 -> 43.979 | H39: =100-H37 -> 44.11
C40: 0.19
C41: 0.258
C43: 0.245
C44: 0.31
C51: ja
C52: nee
