Workbook

Sheet Invoerblad
E2: Meer weten of meteen besparingen in gang zetten? Neem contact met me op!
E5: Telefoon: 06 - 80227361
E6: Email: david@personalwealth.nl
B8: Aan dit document kan op geen enkele manier rechten worden ontleend
B9: Deze rekentool geeft een sterk vereenvoudigde weergave van de werkelijkheid, zonder met alle aspecten rekening te houden
B10: Voor professioneel advies is het verstandig een expert te raadplegen
B13: Vul de gele cellen in
B14: Leeftijd | C14: 50
B15: Uitgaven op jaarbasis | C15: 60000 | D15: Hierbij gaat het om de totale uitgaven inclusief hypotheek
B16: Verwachte inkomsten AOW + pensioen | C16: 30000 | D16: Dit kan je inschatten op basis van mijnpensioenoverzicht, hierbij de url: | K16: Link
B17: Verwachte lijfrente inkomsten per jaar na pensionering | C17: 10000 | D17: Zie toelichting bij regel 31 en 32
B19: Belegbaar vermogen in de BV | C19: 1500000
B20: Box 2 belasting over het vermogen in de BV | C20: 0.245 | D20: In 2026 betaal je 24,5% box 2 heffing tot een bedrag van € 68.843 per fiscaal partner
B21: Privéwaarde belegd vermogen in de BV | C21: =C19*(1-C20) -> 1132500 | D21: Dit is de waarde van het belegbaar vermogen in de BV nadat box 2 belasting is betaald
B23: Belegbaar vermogen in privé | C23: 100000
B24: Totale privéwaarde belegbaar vermogen | C24: =C23+C21 -> 1232500 | D24: Dit is de optelsom van het belegbaar vermogen privé en de privéwaarde van het belegd vermogen in de BV
B26: Verwacht netto rendement op vermogen na belasting | C26: 0.04 | D26: Dit is het rendement na box 3 of VPB heffing
B27: Verwachte inflatie | C27: 0.021 | D27: Op basis van het langjarige gemiddelde
B28: Verwachte AOW leeftijd | C28: 69 | D28: Je kunt hier je AOW leeftijd berekenen (afronden op jaren): | K28: Link
B29: Indexatie AOW/pensioen/lijfrente | C29: 0.01 | D29: Over het algemeen blijven pensioenverhogingen achter bij de inflatie
B31: Bij een bancaire lijfrente kan de uitkering hier berekend worden: | D31: Link
B32: Bij een verzekerde lijfrente kan de uitkering hier berekend worden: | D32: Link
B34: Er wordt geen rekening gehouden met heffingskortingen
B35: De schijven van de inkomstenbelasting worden geïndexeerd met de inflatie
B86: Toekomstplan

Sheet Berekening
A1: AOW + Pensioen | B1: Lijfrente | E1: Jaar | F1: Leeftijd | G1: AOW + penisoen | H1: Lijfrente inkomsten | I1: Totaal inkomsten | J1: Inkomsten belasting | K1: Netto inkomen | L1: Uitgaven | M1: Tekort/overschot | N1: Check | P1: Vermogen begin jaar | Q1: Onttrekking of storting | R1: Vermogen na onttrekking | S1: Netto rendement | T1: Vermogen einde jaar | AH1: Inkomen | AI1: Schijf 1 | AJ1: Schijf 2 | AK1: Schijf 3 | AL1: Belasting | AN1: Check
A2: =Invoerblad!C16 -> 30000 | B2: =Invoerblad!C17 -> 10000 | E2: 2026 | F2: =Invoerblad!C14 -> 50 | G2: =IF(F2>=Invoerblad!$C$28,A2,0) -> 0 | H2: =IF(F2>=Invoerblad!$C$28,B2,0) -> 0 | I2: =G2+H2 -> 0 | J2: =AL2 -> 0 | K2: =I2-J2 -> 0 | L2: =Invoerblad!C15 -> 60000 | M2: =K2-L2 -> -60000 | N2: =G2+H2-J2-L2-M2 -> 0 | P2: =Invoerblad!C24 -> 1232500 | Q2: =M2 -> -60000 | R2: =MAX((P2+Q2),0) -> 1172500 | S2: =((P2+R2)/2)*Invoerblad!$C$26 -> 48100 | T2: =MAX((R2+S2),0) -> 1220600 | V2: 38883 | W2: 0.3575 | X2: 78426 | Y2: 0.3756 | Z2: 0.495 | AB2: 38883 | AC2: 0.178 | AD2: 78426 | AE2: 0.3756 | AF2: 0.495 | AH2: =I2 -> 0 | AI2: =MIN(AB2,AH2) -> 0 | AJ2: =AH2-AI2-AK2 -> 0 | AK2: =MAX((AH2-AD2),0) -> 0 | AL2: =AI2*AC2+AJ2*AE2+AK2*AF2 -> 0 | AN2: =AH2-AI2-AJ2-AK2 -> 0
A3: =A2*(1+Invoerblad!$C$29) -> 30300 | B3: =B2*(1+Invoerblad!$C$29) -> 10100 | E3: 2027 | F3: =F2+1 -> 51 | G3: =IF(F3>=Invoerblad!$C$28,A3,0) -> 0 | H3: =IF(F3>=Invoerblad!$C$28,B3,0) -> 0 | I3: =G3+H3 -> 0 | J3: =AL3 -> 0 | K3: =I3-J3 -> 0 | L3: =L2*(1+Invoerblad!$C$27) -> 61260 | M3: =K3-L3 -> -61260 | N3: =G3+H3-J3-L3-M3 -> 0 | P3: =T2 -> 1220600 | Q3: =M3 -> -61260 | R3: =MAX((P3+Q3),0) -> 1159340 | S3: =((P3+R3)/2)*Invoerblad!$C$26 -> 47598.8 | T3: =MAX((R3+S3),0) -> 1206938.8 | V3: =V2*(1+Invoerblad!$C$27) -> 39699.543 | W3: =W2 -> 0.3575 | X3: =X2*(1+Invoerblad!$C$27) -> 80072.946 | Y3: =$Y$2 -> 0.3756 | Z3: =$Z$2 -> 0.495 | AB3: =V3 -> 39699.543 | AC3: =AC2 -> 0.178 | AD3: =X3 -> 80072.946 | AE3: =AE2 -> 0.3756 | AF3: =AF2 -> 0.495 | AH3: =I3 -> 0 | AI3: =MIN(AB3,AH3) -> 0 | AJ3: =AH3-AI3-AK3 -> 0 | AK3: =MAX((AH3-AD3),0) -> 0 | AL3: =AI3*AC3+AJ3*AE3+AK3*AF3 -> 0 | AN3: =AH3-AI3-AJ3-AK3 -> 0
A4: =A3*(1+Invoerblad!$C$29) -> 30603 | B4: =B3*(1+Invoerblad!$C$29) -> 10201 | E4: 2028 | F4: =F3+1 -> 52 | G4: =IF(F4>=Invoerblad!$C$28,A4,0) -> 0 | H4: =IF(F4>=Invoerblad!$C$28,B4,0) -> 0 | I4: =G4+H4 -> 0 | J4: =AL4 -> 0 | K4: =I4-J4 -> 0 | L4: =L3*(1+Invoerblad!$C$27) -> 62546.46 | M4: =K4-L4 -> -62546.46 | N4: =G4+H4-J4-L4-M4 -> 0 | P4: =T3 -> 1206938.8 | Q4: =M4 -> -62546.46 | R4: =MAX((P4+Q4),0) -> 1144392.3 | S4: =((P4+R4)/2)*Invoerblad!$C$26 -> 47026.623 | T4: =MAX((R4+S4),0) -> 1191419 | V4: =V3*(1+Invoerblad!$C$27) -> 40533.233 | W4: =W3 -> 0.3575 | X4: =X3*(1+Invoerblad!$C$27) -> 81754.478 | Y4: =$Y$2 -> 0.3756 | Z4: =$Z$2 -> 0.495 | AB4: =V4 -> 40533.233 | AC4: =AC3 -> 0.178 | AD4: =X4 -> 81754.478 | AE4: =AE3 -> 0.3756 | AF4: =AF3 -> 0.495 | AH4: =I4 -> 0 | AI4: =MIN(AB4,AH4) -> 0 | AJ4: =AH4-AI4-AK4 -> 0 | AK4: =MAX((AH4-AD4),0) -> 0 | AL4: =AI4*AC4+AJ4*AE4+AK4*AF4 -> 0 | AN4: =AH4-AI4-AJ4-AK4 -> 0
A5: =A4*(1+Invoerblad!$C$29) -> 30909.03 | B5: =B4*(1+Invoerblad!$C$29) -> 10303.01 | E5: 2029 | F5: =F4+1 -> 53 | G5: =IF(F5>=Invoerblad!$C$28,A5,0) -> 0 | H5: =IF(F5>=Invoerblad!$C$28,B5,0) -> 0 | I5: =G5+H5 -> 0 | J5: =AL5 -> 0 | K5: =I5-J5 -> 0 | L5: =L4*(1+Invoerblad!$C$27) -> 63859.936 | M5: =K5-L5 -> -63859.936 | N5: =G5+H5-J5-L5-M5 -> 0 | P5: =T4 -> 1191419 | Q5: =M5 -> -63859.936 | R5: =MAX((P5+Q5),0) -> 1127559 | S5: =((P5+R5)/2)*Invoerblad!$C$26 -> 46379.56 | T5: =MAX((R5+S5),0) -> 1173938.6 | V5: =V4*(1+Invoerblad!$C$27) -> 41384.431 | W5: =W4 -> 0.3575 | X5: =X4*(1+Invoerblad!$C$27) -> 83471.322 | Y5: =$Y$2 -> 0.3756 | Z5: =$Z$2 -> 0.495 | AB5: =V5 -> 41384.431 | AC5: =AC4 -> 0.178 | AD5: =X5 -> 83471.322 | AE5: =AE4 -> 0.3756 | AF5: =AF4 -> 0.495 | AH5: =I5 -> 0 | AI5: =MIN(AB5,AH5) -> 0 | AJ5: =AH5-AI5-AK5 -> 0 | AK5: =MAX((AH5-AD5),0) -> 0 | AL5: =AI5*AC5+AJ5*AE5+AK5*AF5 -> 0 | AN5: =AH5-AI5-AJ5-AK5 -> 0
A6: =A5*(1+Invoerblad!$C$29) -> 31218.12 | B6: =B5*(1+Invoerblad!$C$29) -> 10406.04 | E6: 2030 | F6: =F5+1 -> 54 | G6: =IF(F6>=Invoerblad!$C$28,A6,0) -> 0 | H6: =IF(F6>=Invoerblad!$C$28,B6,0) -> 0 | I6: =G6+H6 -> 0 | J6: =AL6 -> 0 | K6: =I6-J6 -> 0 | L6: =L5*(1+Invoerblad!$C$27) -> 65200.994 | M6: =K6-L6 -> -65200.994 | N6: =G6+H6-J6-L6-M6 -> 0 | P6: =T5 -> 1173938.6 | Q6: =M6 -> -65200.994 | R6: =MAX((P6+Q6),0) -> 1108737.6 | S6: =((P6+R6)/2)*Invoerblad!$C$26 -> 45653.524 | T6: =MAX((R6+S6),0) -> 1154391.1 | V6: =V5*(1+Invoerblad!$C$27) -> 42253.504 | W6: =W5 -> 0.3575 | X6: =X5*(1+Invoerblad!$C$27) -> 85224.22 | Y6: =$Y$2 -> 0.3756 | Z6: =$Z$2 -> 0.495 | AB6: =V6 -> 42253.504 | AC6: =AC5 -> 0.178 | AD6: =X6 -> 85224.22 | AE6: =AE5 -> 0.3756 | AF6: =AF5 -> 0.495 | AH6: =I6 -> 0 | AI6: =MIN(AB6,AH6) -> 0 | AJ6: =AH6-AI6-AK6 -> 0 | AK6: =MAX((AH6-AD6),0) -> 0 | AL6: =AI6*AC6+AJ6*AE6+AK6*AF6 -> 0 | AN6: =AH6-AI6-AJ6-AK6 -> 0
A7: =A6*(1+Invoerblad!$C$29) -> 31530.302 | B7: =B6*(1+Invoerblad!$C$29) -> 10510.101 | E7: 2031 | F7: =F6+1 -> 55 | G7: =IF(F7>=Invoerblad!$C$28,A7,0) -> 0 | H7: =IF(F7>=Invoerblad!$C$28,B7,0) -> 0 | I7: =G7+H7 -> 0 | J7: =AL7 -> 0 | K7: =I7-J7 -> 0 | L7: =L6*(1+Invoerblad!$C$27) -> 66570.215 | M7: =K7-L7 -> -66570.215 | N7: =G7+H7-J7-L7-M7 -> 0 | P7: =T6 -> 1154391.1 | Q7: =M7 -> -66570.215 | R7: =MAX((P7+Q7),0) -> 1087820.9 | S7: =((P7+R7)/2)*Invoerblad!$C$26 -> 44844.24 | T7: =MAX((R7+S7),0) -> 1132665.1 | V7: =V6*(1+Invoerblad!$C$27) -> 43140.828 | W7: =W6 -> 0.3575 | X7: =X6*(1+Invoerblad!$C$27) -> 87013.928 | Y7: =$Y$2 -> 0.3756 | Z7: =$Z$2 -> 0.495 | AB7: =V7 -> 43140.828 | AC7: =AC6 -> 0.178 | AD7: =X7 -> 87013.928 | AE7: =AE6 -> 0.3756 | AF7: =AF6 -> 0.495 | AH7: =I7 -> 0 | AI7: =MIN(AB7,AH7) -> 0 | AJ7: =AH7-AI7-AK7 -> 0 | AK7: =MAX((AH7-AD7),0) -> 0 | AL7: =AI7*AC7+AJ7*AE7+AK7*AF7 -> 0 | AN7: =AH7-AI7-AJ7-AK7 -> 0
A8: =A7*(1+Invoerblad!$C$29) -> 31845.605 | B8: =B7*(1+Invoerblad!$C$29) -> 10615.202 | E8: 2032 | F8: =F7+1 -> 56 | G8: =IF(F8>=Invoerblad!$C$28,A8,0) -> 0 | H8: =IF(F8>=Invoerblad!$C$28,B8,0) -> 0 | I8: =G8+H8 -> 0 | J8: =AL8 -> 0 | K8: =I8-J8 -> 0 | L8: =L7*(1+Invoerblad!$C$27) -> 67968.19 | M8: =K8-L8 -> -67968.19 | N8: =G8+H8-J8-L8-M8 -> 0 | P8: =T7 -> 1132665.1 | Q8: =M8 -> -67968.19 | R8: =MAX((P8+Q8),0) -> 1064697 | S8: =((P8+R8)/2)*Invoerblad!$C$26 -> 43947.242 | T8: =MAX((R8+S8),0) -> 1108644.2 | V8: =V7*(1+Invoerblad!$C$27) -> 44046.785 | W8: =W7 -> 0.3575 | X8: =X7*(1+Invoerblad!$C$27) -> 88841.221 | Y8: =$Y$2 -> 0.3756 | Z8: =$Z$2 -> 0.495 | AB8: =V8 -> 44046.785 | AC8: =AC7 -> 0.178 | AD8: =X8 -> 88841.221 | AE8: =AE7 -> 0.3756 | AF8: =AF7 -> 0.495 | AH8: =I8 -> 0 | AI8: =MIN(AB8,AH8) -> 0 | AJ8: =AH8-AI8-AK8 -> 0 | AK8: =MAX((AH8-AD8),0) -> 0 | AL8: =AI8*AC8+AJ8*AE8+AK8*AF8 -> 0 | AN8: =AH8-AI8-AJ8-AK8 -> 0
A9: =A8*(1+Invoerblad!$C$29) -> 32164.061 | B9: =B8*(1+Invoerblad!$C$29) -> 10721.354 | E9: 2033 | F9: =F8+1 -> 57 | G9: =IF(F9>=Invoerblad!$C$28,A9,0) -> 0 | H9: =IF(F9>=Invoerblad!$C$28,B9,0) -> 0 | I9: =G9+H9 -> 0 | J9: =AL9 -> 0 | K9: =I9-J9 -> 0 | L9: =L8*(1+Invoerblad!$C$27) -> 69395.522 | M9: =K9-L9 -> -69395.522 | N9: =G9+H9-J9-L9-M9 -> 0 | P9: =T8 -> 1108644.2 | Q9: =M9 -> -69395.522 | R9: =MAX((P9+Q9),0) -> 1039248.7 | S9: =((P9+R9)/2)*Invoerblad!$C$26 -> 42957.857 | T9: =MAX((R9+S9),0) -> 1082206.5 | V9: =V8*(1+Invoerblad!$C$27) -> 44971.768 | W9: =W8 -> 0.3575 | X9: =X8*(1+Invoerblad!$C$27) -> 90706.886 | Y9: =$Y$2 -> 0.3756 | Z9: =$Z$2 -> 0.495 | AB9: =V9 -> 44971.768 | AC9: =AC8 -> 0.178 | AD9: =X9 -> 90706.886 | AE9: =AE8 -> 0.3756 | AF9: =AF8 -> 0.495 | AH9: =I9 -> 0 | AI9: =MIN(AB9,AH9) -> 0 | AJ9: =AH9-AI9-AK9 -> 0 | AK9: =MAX((AH9-AD9),0) -> 0 | AL9: =AI9*AC9+AJ9*AE9+AK9*AF9 -> 0 | AN9: =AH9-AI9-AJ9-AK9 -> 0
A10: =A9*(1+Invoerblad!$C$29) -> 32485.701 | B10: =B9*(1+Invoerblad!$C$29) -> 10828.567 | E10: 2034 | F10: =F9+1 -> 58 | G10: =IF(F10>=Invoerblad!$C$28,A10,0) -> 0 | H10: =IF(F10>=Invoerblad!$C$28,B10,0) -> 0 | I10: =G10+H10 -> 0 | J10: =AL10 -> 0 | K10: =I10-J10 -> 0 | L10: =L9*(1+Invoerblad!$C$27) -> 70852.828 | M10: =K10-L10 -> -70852.828 | N10: =G10+H10-J10-L10-M10 -> 0 | P10: =T9 -> 1082206.5 | Q10: =M10 -> -70852.828 | R10: =MAX((P10+Q10),0) -> 1011353.7 | S10: =((P10+R10)/2)*Invoerblad!$C$26 -> 41871.205 | T10: =MAX((R10+S10),0) -> 1053224.9 | V10: =V9*(1+Invoerblad!$C$27) -> 45916.175 | W10: =W9 -> 0.3575 | X10: =X9*(1+Invoerblad!$C$27) -> 92611.731 | Y10: =$Y$2 -> 0.3756 | Z10: =$Z$2 -> 0.495 | AB10: =V10 -> 45916.175 | AC10: =AC9 -> 0.178 | AD10: =X10 -> 92611.731 | AE10: =AE9 -> 0.3756 | AF10: =AF9 -> 0.495 | AH10: =I10 -> 0 | AI10: =MIN(AB10,AH10) -> 0 | AJ10: =AH10-AI10-AK10 -> 0 | AK10: =MAX((AH10-AD10),0) -> 0 | AL10: =AI10*AC10+AJ10*AE10+AK10*AF10 -> 0 | AN10: =AH10-AI10-AJ10-AK10 -> 0
A11: =A10*(1+Invoerblad!$C$29) -> 32810.558 | B11: =B10*(1+Invoerblad!$C$29) -> 10936.853 | E11: 2035 | F11: =F10+1 -> 59 | G11: =IF(F11>=Invoerblad!$C$28,A11,0) -> 0 | H11: =IF(F11>=Invoerblad!$C$28,B11,0) -> 0 | I11: =G11+H11 -> 0 | J11: =AL11 -> 0 | K11: =I11-J11 -> 0 | L11: =L10*(1+Invoerblad!$C$27) -> 72340.737 | M11: =K11-L11 -> -72340.737 | N11: =G11+H11-J11-L11-M11 -> 0 | P11: =T10 -> 1053224.9 | Q11: =M11 -> -72340.737 | R11: =MAX((P11+Q11),0) -> 980884.17 | S11: =((P11+R11)/2)*Invoerblad!$C$26 -> 40682.182 | T11: =MAX((R11+S11),0) -> 1021566.4 | V11: =V10*(1+Invoerblad!$C$27) -> 46880.415 | W11: =W10 -> 0.3575 | X11: =X10*(1+Invoerblad!$C$27) -> 94556.577 | Y11: =$Y$2 -> 0.3756 | Z11: =$Z$2 -> 0.495 | AB11: =V11 -> 46880.415 | AC11: =AC10 -> 0.178 | AD11: =X11 -> 94556.577 | AE11: =AE10 -> 0.3756 | AF11: =AF10 -> 0.495 | AH11: =I11 -> 0 | AI11: =MIN(AB11,AH11) -> 0 | AJ11: =AH11-AI11-AK11 -> 0 | AK11: =MAX((AH11-AD11),0) -> 0 | AL11: =AI11*AC11+AJ11*AE11+AK11*AF11 -> 0 | AN11: =AH11-AI11-AJ11-AK11 -> 0
A12: =A11*(1+Invoerblad!$C$29) -> 33138.664 | B12: =B11*(1+Invoerblad!$C$29) -> 11046.221 | E12: 2036 | F12: =F11+1 -> 60 | G12: =IF(F12>=Invoerblad!$C$28,A12,0) -> 0 | H12: =IF(F12>=Invoerblad!$C$28,B12,0) -> 0 | I12: =G12+H12 -> 0 | J12: =AL12 -> 0 | K12: =I12-J12 -> 0 | L12: =L11*(1+Invoerblad!$C$27) -> 73859.893 | M12: =K12-L12 -> -73859.893 | N12: =G12+H12-J12-L12-M12 -> 0 | P12: =T11 -> 1021566.4 | Q12: =M12 -> -73859.893 | R12: =MAX((P12+Q12),0) -> 947706.46 | S12: =((P12+R12)/2)*Invoerblad!$C$26 -> 39385.456 | T12: =MAX((R12+S12),0) -> 987091.91 | V12: =V11*(1+Invoerblad!$C$27) -> 47864.903 | W12: =W11 -> 0.3575 | X12: =X11*(1+Invoerblad!$C$27) -> 96542.265 | Y12: =$Y$2 -> 0.3756 | Z12: =$Z$2 -> 0.495 | AB12: =V12 -> 47864.903 | AC12: =AC11 -> 0.178 | AD12: =X12 -> 96542.265 | AE12: =AE11 -> 0.3756 | AF12: =AF11 -> 0.495 | AH12: =I12 -> 0 | AI12: =MIN(AB12,AH12) -> 0 | AJ12: =AH12-AI12-AK12 -> 0 | AK12: =MAX((AH12-AD12),0) -> 0 | AL12: =AI12*AC12+AJ12*AE12+AK12*AF12 -> 0 | AN12: =AH12-AI12-AJ12-AK12 -> 0
A13: =A12*(1+Invoerblad!$C$29) -> 33470.05 | B13: =B12*(1+Invoerblad!$C$29) -> 11156.683 | E13: 2037 | F13: =F12+1 -> 61 | G13: =IF(F13>=Invoerblad!$C$28,A13,0) -> 0 | H13: =IF(F13>=Invoerblad!$C$28,B13,0) -> 0 | I13: =G13+H13 -> 0 | J13: =AL13 -> 0 | K13: =I13-J13 -> 0 | L13: =L12*(1+Invoerblad!$C$27) -> 75410.95 | M13: =K13-L13 -> -75410.95 | N13: =G13+H13-J13-L13-M13 -> 0 | P13: =T12 -> 987091.91 | Q13: =M13 -> -75410.95 | R13: =MAX((P13+Q13),0) -> 911680.96 | S13: =((P13+R13)/2)*Invoerblad!$C$26 -> 37975.458 | T13: =MAX((R13+S13),0) -> 949656.42 | V13: =V12*(1+Invoerblad!$C$27) -> 48870.066 | W13: =W12 -> 0.3575 | X13: =X12*(1+Invoerblad!$C$27) -> 98569.653 | Y13: =$Y$2 -> 0.3756 | Z13: =$Z$2 -> 0.495 | AB13: =V13 -> 48870.066 | AC13: =AC12 -> 0.178 | AD13: =X13 -> 98569.653 | AE13: =AE12 -> 0.3756 | AF13: =AF12 -> 0.495 | AH13: =I13 -> 0 | AI13: =MIN(AB13,AH13) -> 0 | AJ13: =AH13-AI13-AK13 -> 0 | AK13: =MAX((AH13-AD13),0) -> 0 | AL13: =AI13*AC13+AJ13*AE13+AK13*AF13 -> 0 | AN13: =AH13-AI13-AJ13-AK13 -> 0
A14: =A13*(1+Invoerblad!$C$29) -> 33804.751 | B14: =B13*(1+Invoerblad!$C$29) -> 11268.25 | E14: 2038 | F14: =F13+1 -> 62 | G14: =IF(F14>=Invoerblad!$C$28,A14,0) -> 0 | H14: =IF(F14>=Invoerblad!$C$28,B14,0) -> 0 | I14: =G14+H14 -> 0 | J14: =AL14 -> 0 | K14: =I14-J14 -> 0 | L14: =L13*(1+Invoerblad!$C$27) -> 76994.58 | M14: =K14-L14 -> -76994.58 | N14: =G14+H14-J14-L14-M14 -> 0 | P14: =T13 -> 949656.42 | Q14: =M14 -> -76994.58 | R14: =MAX((P14+Q14),0) -> 872661.84 | S14: =((P14+R14)/2)*Invoerblad!$C$26 -> 36446.365 | T14: =MAX((R14+S14),0) -> 909108.21 | V14: =V13*(1+Invoerblad!$C$27) -> 49896.338 | W14: =W13 -> 0.3575 | X14: =X13*(1+Invoerblad!$C$27) -> 100639.62 | Y14: =$Y$2 -> 0.3756 | Z14: =$Z$2 -> 0.495 | AB14: =V14 -> 49896.338 | AC14: =AC13 -> 0.178 | AD14: =X14 -> 100639.62 | AE14: =AE13 -> 0.3756 | AF14: =AF13 -> 0.495 | AH14: =I14 -> 0 | AI14: =MIN(AB14,AH14) -> 0 | AJ14: =AH14-AI14-AK14 -> 0 | AK14: =MAX((AH14-AD14),0) -> 0 | AL14: =AI14*AC14+AJ14*AE14+AK14*AF14 -> 0 | AN14: =AH14-AI14-AJ14-AK14 -> 0
... A52: =A51*(1+Invoerblad!$C$29) -> 49338.955 | B52: =B51*(1+Invoerblad!$C$29) -> 16446.318 | E52: 2076 | F52: =F51+1 -> 100 | G52: =IF(F52>=Invoerblad!$C$28,A52,0) -> 49338.955 | H52: =IF(F52>=Invoerblad!$C$28,B52,0) -> 16446.318 | I52: =G52+H52 -> 65785.273 | J52: =AL52 -> 11709.779 | K52: =I52-J52 -> 54075.494 | L52: =L51*(1+Invoerblad!$C$27) -> 169604.88 | M52: =K52-L52 -> -115529.39 | N52: =G52+H52-J52-L52-M52 -> 0 | P52: =T51 -> 3.5405978e-28 | Q52: =M52 -> -115529.39 | R52: =MAX((P52+Q52),0) -> 0 | S52: =((P52+R52)/2)*Invoerblad!$C$26 -> 7.0811957e-30 | T52: =MAX((R52+S52),0) -> 7.0811957e-30 | V52: =V51*(1+Invoerblad!$C$27) -> 109912.45 | W52: =W51 -> 0.3575 | X52: =X51*(1+Invoerblad!$C$27) -> 221690.54 | Y52: =$Y$2 -> 0.3756 | Z52: =$Z$2 -> 0.495 | AB52: =V52 -> 109912.45 | AC52: =AC51 -> 0.178 | AD52: =X52 -> 221690.54 | AE52: =AE51 -> 0.3756 | AF52: =AF51 -> 0.495 | AH52: =I52 -> 65785.273 | AI52: =MIN(AB52,AH52) -> 65785.273 | AJ52: =AH52-AI52-AK52 -> 0 | AK52: =MAX((AH52-AD52),0) -> 0 | AL52: =AI52*AC52+AJ52*AE52+AK52*AF52 -> 11709.779 | AN52: =AH52-AI52-AJ52-AK52 -> 0

Sheet Blad3
C5: 0.245
C6: 0.31
