Workbook

Sheet Rekentool
F2: Meer weten of meteen besparingen in gang zetten? Neem contact met me op!
F5: Telefoon: 033-3037709
F6: Email: david@personalwealth.nl
C8: Aan dit document kan op geen enkele manier rechten worden ontleend
C9: Deze rekentool geeft een sterk vereenvoudigde weergave van de werkelijkheid, zonder met alle aspecten rekening te houden
C10: Voor professioneel advies is het verstandig een expert te raadplegen
C13: Invoer gegevens (gele cellen) | F13: Vergelijk scenario 1 en 2
C15: Winst vóór DGA salaris | D15: 100000 | G15: Scenario 1 | H15: Scenario 2 | J15: Delta
C17: Cataloguswaarde auto van de zaak | F17: Inkomstenbelasting + bijdrage ZVW | G17: =D79 -> 19016.778 | H17: =G79 -> 24887.179 | J17: =H17-G17 -> 5870.4
C18: Bijtellingspercentage auto van de zaak | D18: 0.22 | F18: Box 2 belasting | G18: =-D89 -> 8334.9 | H18: =-G89 -> 5953.5 | J18: =H18-G18 -> -2381.4
C19: Hypotheekrente aftrekbaar box 1 | F19: Vennootschapsbelasting | G19: =-D85 -> 7980 | H19: =-G85 -> 5700 | J19: =H19-G19 -> -2280
C20: WOZ waarde woning | F20: Totaal belasting | G20: =G17+G18+G19 -> 35331.678 | H20: =H17+H18+H19 -> 36540.679 | J20: =H20-G20 -> 1209
C21: Inleg lijfrente
C22: AOV premie en persoonsgebonden aftrek | F22: Netto inkomen | G22: =D43-G17 -> 38983.221 | H22: =G43-H17 -> 45112.821 | J22: =H22-G22 -> 6129.6
C23: Inkomen in box 3 (voordeel sparen en beleggen) | F23: Netto dividend | G23: =D88-G18 -> 25685.1 | H23: =G88-H18 -> 18346.5 | J23: =H23-G23 -> -7338.6
C24: Fiscaal partner | D24: ja | F24: Totaal netto ontvangst prive | G24: =G22+G23 -> 64668.321 | H24: =H22+H23 -> 63459.321 | J24: =H24-G24 -> -1209
D27: Scenario 1 | E27: Scenario 2
C28: DGA salaris | D28: 58000 | E28: 70000
C29: Dividenduitering | D29: 34020 | E29: 24300
C31: Maximaal uit te keren dividend | D31: =D86 -> 34020 | E31: =G86 -> 24300
C35: Scenario 1 | F35: Scenario 2
C37: Gedetailleerde berekening | F37: Gedetailleerde berekening
C39: BV | F39: BV
C41: Winst uit onderneming | D41: =D15 -> 100000 | F41: Winst uit onderneming | G41: =D15 -> 100000
C43: Salaris DGA | D43: =D28 -> 58000 | F43: Salaris DGA | G43: =E28 -> 70000
C45: Bijtelling auto | D45: =D17*D18 -> 0 | F45: Bijtelling auto | G45: =D17*D18 -> 0
C48: Winst na ondernemersaftrek | D48: =SUM(D43:D47) -> 58000 | F48: Winst na ondernemersaftrek | G48: =SUM(G43:G47) -> 70000
A50: 0.127
C52: Belastbaar inkomen | D52: =D48 -> 58000 | F52: Belastbaar inkomen | G52: =G48 -> 70000
C54: Aftrek lijfrente | D54: =-D21 -> 0 | F54: Aftrek lijfrente | G54: =-D21 -> 0
C55: Aftrek AOV premie | D55: =-D22 -> 0 | F55: Aftrek AOV premie | G55: =-D22 -> 0
C57: Belastbaar inkomen voor aftrek eigen woning | D57: =D52+D54+D55 -> 58000 | F57: Belastbaar inkomen voor aftrek eigen woning | G57: =G52+G54+G55 -> 70000
C59: Inkomen uit eigen woning | D59: =-Blad3!D10 -> 0 | F59: Inkomen uit eigen woning | G59: =-Blad3!D10 -> 0
C61: Belastbaar inkomen box 1 | D61: =D57+D59 -> 58000 | F61: Belastbaar inkomen box 1 | G61: =G57+G59 -> 70000
A63: 0.3575 | C63: Heffing schijf 1 | D63: =A63*Blad3!L18 -> 13900.672 | F63: Heffing schijf 1 | G63: =A63*Blad3!M18 -> 13900.672
A64: 0.3756 | C64: Heffing schijf 2 | D64: =A64*Blad3!L19 -> 7180.3452 | F64: Heffing schijf 2 | G64: =A64*Blad3!M19 -> 11687.545
A65: 0.495 | C65: Heffing schijf 3 | D65: =A65*Blad3!L20 -> 0 | F65: Heffing schijf 3 | G65: =A65*Blad3!M20 -> 0
C66: Heffing box 1 | D66: =SUM(D63:D65) -> 21081.018 | F66: Heffing box 1 | G66: =SUM(G63:G65) -> 25588.218
C68: Correctie aftrekposten niet geheel aftrekbaar | D68: =Blad3!D48 -> 0 | F68: Correctie aftrekposten niet geheel aftrekbaar | G68: =Blad3!E48 -> 0
C69: Totale heffing box 1 | D69: =SUM(D66:D68) -> 21081.018 | F69: Totale heffing box 1 | G69: =SUM(G66:G68) -> 25588.218
A71: 0.0485 | C71: Inkomensafhankelijke zorgpremie | D71: =IF(D52>79409,79409*A71,D52*A71) -> 2813 | F71: Inkomensafhankelijke zorgpremie | G71: =IF(G52>79409,79409*A71,G52*A71) -> 3395
C73: Totale heffing box 1 | D73: =D69 -> 21081.018 | F73: Totale heffing box 1 | G73: =G69 -> 25588.218
C74: Arbeidskorting | D74: =-Blad3!R71 -> -4877.2392 | F74: Arbeidskorting | G74: =-Blad3!S71 -> -4096.0392
C75: Algemene heffingskorting | D75: =-Blad3!R87 -> 0 | F75: Algemene heffingskorting | G75: =-Blad3!U87 -> 0
C76: Totale heffing box 1 | D76: =D73+D74+D75 -> 16203.778 | F76: Totale heffing box 1 | G76: =G73+G74+G75 -> 21492.179
C79: Totaal belastingdruk incl. zvw | D79: =D76+D71 -> 19016.778 | F79: Totaal belastingdruk incl. zvw | G79: =G76+G71 -> 24887.179
C80: Netto inkomen | D80: =D43-D79 -> 38983.221 | F80: Netto inkomen | G80: =G43-G79 -> 45112.821
C84: Winst BV voor VPB | D84: =D41-D43 -> 42000 | F84: Winst BV voor VPB | G84: =G41-G43 -> 30000
C85: Vennootschapsbelasting | D85: =-Blad4!E19 -> -7980 | F85: Vennootschapsbelasting | G85: =-Blad4!L19 -> -5700
C86: Nettowinst BV | D86: =D84+D85 -> 34020 | F86: Nettowinst BV | G86: =G84+G85 -> 24300
C88: Uitkering als dividend | D88: =D29 -> 34020 | F88: Uitkering als dividend | G88: =E29 -> 24300
C89: Belasting box 2 | D89: =IF(D24="ja",-Blad4!N33,-Blad4!M33) -> -8334.9 | F89: Belasting box 2 | G89: =IF(D24="ja",-Blad4!N48,-Blad4!M48) -> -5953.5
C90: Netto uitkering | D90: =D88+D89 -> 25685.1 | F90: Netto uitkering | G90: =G88+G89 -> 18346.5

Sheet DGA salaris
B37: Klik hier voor meer informatie

Sheet Blad4
A5: BV1 | I5: BV2
C7: VPB 2025 | J7: VPB 2025
C9: 0 | D9: 200000 | E9: 0.19 | J9: 0 | K9: 200000 | L9: 0.19
C10: 200000 | E10: 0.258 | J10: 200000 | L10: 0.258
C13: Winst | J13: Winst
C14: =Rekentool!D84 -> 42000 | J14: =Rekentool!G84 -> 30000
B16: Laag tarief | C16: =MIN(200000,C14) -> 42000 | D16: 0.19 | E16: =C16*D16 -> 7980 | I16: Laag tarief | J16: =MIN(200000,J14) -> 30000 | K16: 0.19 | L16: =J16*K16 -> 5700
B17: Hoog tarief | C17: =C14-C16 -> 0 | D17: 0.258 | E17: =C17*D17 -> 0 | I17: Hoog tarief | J17: =J14-J16 -> 0 | K17: 0.258 | L17: =J17*K17 -> 0
E19: =E16+E17 -> 7980 | L19: =L16+L17 -> 5700
A22: BV1 | C22: Box 2 belasting
A24: Zonder FP | B24: 68843 | D24: Laag | E24: 0.245 | M24: BV1
A25: Met FP | B25: =B24*2 -> 137686 | D25: Hoog | E25: 0.31
M26: Belasting
J27: Geen FP | K27: Wel FP | M27: Geen FP | N27: Wel FP
B28: Geen fiscaal partner | F28: Wel fiscaal partner | I28: Dividend | J28: =Rekentool!D88 -> 34020 | K28: =Rekentool!D88 -> 34020
A30: Laag | B30: 0 | C30: =B24 -> 68843 | F30: 0 | G30: =C30*2 -> 137686 | I30: Laag | J30: =MIN(C30,J28) -> 34020 | K30: =MIN(K28,G30) -> 34020 | M30: =J30*E24 -> 8334.9 | N30: =E24*K30 -> 8334.9 | P30: =M30*H24 -> 0 | Q30: =H24*N30 -> 0
A31: Hoog | B31: =C30 -> 68843 | F31: =G30 -> 137686 | I31: Hoog | J31: =J28-J30 -> 0 | K31: =K28-K30 -> 0 | M31: =J31*E25 -> 0 | N31: =K31*E25 -> 0 | P31: =M31*H25 -> 0 | Q31: =N31*H25 -> 0
M33: =SUM(M30:M31) -> 8334.9 | N33: =SUM(N30:N31) -> 8334.9 | P33: =SUM(P30:P31) -> 0 | Q33: =SUM(Q30:Q31) -> 0
A37: BV2 | C37: Box 2 belasting
A39: Zonder FP | B39: =B24 -> 68843 | D39: Laag | E39: 0.245 | M39: BV1
A40: Met FP | B40: =B39*2 -> 137686 | D40: Hoog | E40: 0.31
M41: Belasting
J42: Geen FP | K42: Wel FP | M42: Geen FP | N42: Wel FP
B43: Geen fiscaal partner | F43: Wel fiscaal partner | I43: Dividend | J43: =Rekentool!G88 -> 24300 | K43: =Rekentool!G88 -> 24300
A45: Laag | B45: 0 | C45: =B39 -> 68843 | F45: 0 | G45: =C45*2 -> 137686 | I45: Laag | J45: =MIN(C45,J43) -> 24300 | K45: =MIN(K43,G45) -> 24300 | M45: =J45*E39 -> 5953.5 | N45: =E39*K45 -> 5953.5
A46: Hoog | B46: =C45 -> 68843 | F46: =G45 -> 137686 | I46: Hoog | J46: =J43-J45 -> 0 | K46: =K43-K45 -> 0 | M46: =J46*E40 -> 0 | N46: =K46*E40 -> 0
M48: =SUM(M45:M46) -> 5953.5 | N48: =SUM(N45:N46) -> 5953.5

Sheet Blad3
B2: WOZ waarde woning | D2: =Rekentool!D20 -> 0
B4: Eigenwoningforfait < grens | C4: 1330000 | D4: =IF(D2<C4,D2*E4,C4*E4) -> 0 | E4: 0.0035
B5: Eigenwoningforfait > grens | C5: 1330000 | D5: =IF(D2<C5,0,(D2-C5)*E5) -> 0 | E5: 0.0235
B6: Eigenwoningforfair | D6: =D4+D5 -> 0
B7: Hypotheekrente | D7: =Rekentool!D19 -> 0
B8: Tussensaldo inkomsten eigen woning | D8: =-D7+D6 -> 0
B9: EWF correcie ivm Wet Hillwn | D9: =IF(D8>0,D8*D12,0) -> 0
B10: Totale aftrek | D10: =D9-D8 -> 0
B12: Correctie Wet Hillen | D12: 0.7333 | F12: Eemanszaak | L12: BV1 | M12: BV2
F14: Met HRA | G14: Zonder HRA
F16: =Rekentool!#REF! -> #REF! | G16: =F16+D7 -> #REF! | L16: =Rekentool!D61 -> 58000 | M16: =Rekentool!G61 -> 70000
C17: Tarief | D17: Tot
B18: Tarief schijf 1 | C18: 0.3582 | D18: 38883 | F18: =IF(F16>D18,D18,F16) -> #REF! | G18: =IF(G16>D18,D18,G16) -> #REF! | L18: =IF(L16>D18,D18,L16) -> 38883 | M18: =IF(M16>D18,D18,M16) -> 38883
B19: Tarief schijf 2 | C19: 0.3748 | D19: 78426 | F19: =F16-F20-F18 -> #REF! | G19: =G16-G20-G18 -> #REF! | L19: =L16-L20-L18 -> 19117 | M19: =M16-M20-M18 -> 31117
B20: Tarief schijf 3 | C20: 0.495 | F20: =IF(F16>D19,F16-D19,0) -> #REF! | G20: =IF(G16>D19,G16-D19,0) -> #REF! | L20: =IF(L16>D19,L16-D19,0) -> 0 | M20: =IF(M16>D19,M16-D19,0) -> 0
C24: Huidige situatie | D24: Zonder HRA
B25: 1 | C25: =Blad3!F18 -> #REF! | D25: =G18 -> #REF! | F25: =C18*C25 -> #REF! | G25: =D25*C18 -> #REF!
B26: 2 | C26: =Blad3!F19 -> #REF! | D26: =G19 -> #REF! | F26: =C19*C26 -> #REF! | G26: =D26*C19 -> #REF!
B27: 3 | C27: =Blad3!F20 -> #REF! | D27: =G20 -> #REF! | F27: =C20*C27 -> #REF! | G27: =D27*C20 -> #REF!
F28: =SUM(F25:F27) -> #REF! | G28: =SUM(G25:G27) -> #REF!
B32: EWF in inkmoen | C32: =IF(D8>0,-D10,D6) -> 0 | D32: =IF(D8>0,-D10,D6) -> 0
C34: Eenmanszaak | D34: BV1 | E34: BV2
B35: Berekening aftrekbeperking
B36: Totaal inkomen | C36: =Rekentool!#REF!+Rekentool!#REF!+C32 -> #REF! | D36: =Rekentool!D52+D32 -> 58000 | E36: =Rekentool!G52+Blad3!D32 -> 70000
B37: Af; volledig aftrekbrae uitgave | C37: =Rekentool!#REF! -> #REF! | D37: =(Rekentool!D54+Rekentool!D55) -> 0 | E37: =(Rekentool!G54+Rekentool!G55) -> 0
B38: Inkomen na volledig aftrekbrae uitgaven | C38: =C36+C37 -> #REF! | D38: =D36+D37 -> 58000 | E38: =E36+E37 -> 70000
B40: Hoogste tariefschijf | C40: 78426 | D40: =C40 -> 78426 | E40: =D40 -> 78426
B42: Te corrigeren bedrag | C42: =MIN((C38-C40),25618) -> #REF! | D42: =MAX((D38-D40),0) -> 0 | E42: =MAX((E38-E40),0) -> 0 | F42: 19268.489 | G42: =C42-F42 -> #REF!
C43: =MAX((C38-C40-F20),0) -> #REF! | D43: =MAX((D38-D40-L20),0) -> 0 | E43: =MAX((E38-E40-M20),0) -> 0
G44: =19333-19268 -> 65
B45: Maximale aftrek hypotheekrente | C45: 0.3748 | D45: 0.3748 | E45: 0.3748
B46: Toptarief | C46: 0.495 | D46: 0.495 | E46: 0.495
C47: =C46-C45 -> 0.1202 | D47: =D46-D45 -> 0.1202 | E47: =E46-E45 -> 0.1202
B48: Correctie | C48: =C47*C43 -> #REF! | D48: =D47*D43 -> 0 | E48: =E47*E43 -> 0
C50: =C42*12.02% -> #REF!
B64: Arbeidsinkomen
B65: Van | C65: Tot | D65: Arbeidskorting | F65: Bedrag | G65: Percentage | I65: Eenamsnzaaak | J65: BV11 | K65: BV2 | M65: Eenmanszaak | P65: BV1 | Q65: BV2 | R65: BV1 mee | S65: BV2 mee
B66: 0 | C66: 11965 | D66: 8,053% x arbeidsinkomen | G66: 0.08324 | I66: =Rekentool!#REF!+Rekentool!#REF! -> #REF! | J66: =Rekentool!$D$52 -> 58000 | K66: =Rekentool!$G$52 -> 70000 | M66: =G66*I66 -> #REF! | N66: =IF(Rekentool!D15<Blad3!C66,Blad3!M66,0) -> 0 | P66: =J66*G66 -> 4827.92 | Q66: =G66*K66 -> 5826.8 | R66: =IF(J66<Blad3!C66,Blad3!P66,0) -> 0 | S66: =IF(K66<Blad3!C66,Blad3!Q66,0) -> 0
B67: 12169 | C67: 25845 | D67: € 980 + 30,030% x (arbeidsinkomen - € 12.169) | F67: 996 | G67: 0.31009 | I67: =Rekentool!#REF!+Rekentool!#REF! -> #REF! | J67: =Rekentool!$D$52 -> 58000 | K67: =Rekentool!$G$52 -> 70000 | L67: 12169 | M67: =F67+(G67*(I67-L67)) -> #REF! | N67: =IF(AND(Rekentool!D15>Blad3!C66,Rekentool!D15<Blad3!C67),Blad3!M67,0) -> 0 | P67: =F67+(G67*(J67-L67)) -> 15207.735 | Q67: =F67+(G67*(K67-L67)) -> 18928.815 | R67: =IF(AND(J67>Blad3!C66=J67<Blad3!C67),Blad3!P67,0) -> 0 | S67: {=IF(AND(K67>Blad3!C66=K67<Blad3!C67),Blad3!P=Q67,0)} -> 0
B68: 26288 | C68: 45592 | D68: € 5.220 + 2,258% x (arbeidsinkomen - € 26.288) | F68: 5300 | G68: 0.0195 | I68: =Rekentool!#REF!+Rekentool!#REF! -> #REF! | J68: =Rekentool!$D$52 -> 58000 | K68: =Rekentool!$G$52 -> 70000 | L68: 26288 | M68: =F68-(G68*(I68-L68)) -> #REF! | N68: =IF(AND(Rekentool!D15>Blad3!C67,Rekentool!D15<Blad3!C68),Blad3!M68,0) -> 0 | P68: =F68-(G68*(J68-L68)) -> 4681.616 | Q68: =F68-(G68*(K68-L68)) -> 4447.616 | R68: =IF(AND(J68>Blad3!C67,J68<Blad3!C68),Blad3!P68,0) -> 0 | S68: =IF(AND(K68>Blad3!C67,K68<Blad3!C68),Blad3!Q68,0) -> 0
B69: 45593 | C69: 132920 | D69: € 5.599 - 6,510% x (arbeidsinkomen - € 43.071) | F69: 5685 | G69: 0.0651 | I69: =Rekentool!#REF!+Rekentool!#REF! -> #REF! | J69: =Rekentool!$D$52 -> 58000 | K69: =Rekentool!$G$52 -> 70000 | L69: =C68 -> 45592 | M69: =F69-(G69*(I69-L69)) -> #REF! | N69: =IF(AND(Rekentool!D15>Blad3!C68,Rekentool!D15<Blad3!C69),Blad3!M69,0) -> #REF! | P69: =MAX(F69-(G69*(J69-L69)),0) -> 4877.2392 | Q69: =MAX(F69-(G69*(K69-L69)),0) -> 4096.0392 | R69: =IF(AND(J69>Blad3!C68,J666<Blad3!C69),Blad3!P69,0) -> 4877.2392 | S69: =IF(AND(K69>Blad3!C68,J666<Blad3!C69),Blad3!Q69,0) -> 4096.0392
B70: 129078 | D70: € 0
L71: Arbeidskorting | N71: =SUM(N66:N69) -> #REF! | R71: =SUM(R66:R69) -> 4877.2392 | S71: =SUM(S66:S69) -> 4096.0392
B74: Verzamelinkomen | C74: Eenmanszaak | D74: BV1 | E74: BV2
B76: Box1 | C76: =Rekentool!#REF! -> #REF! | D76: =Rekentool!D61 -> 58000 | E76: =Rekentool!G61 -> 70000
B77: Box2 | D77: =Rekentool!D88 -> 34020 | E77: =Rekentool!G88 -> 24300
B78: Box3 | C78: =Rekentool!D23 -> 0 | D78: =Rekentool!D23 -> 0 | E78: =Rekentool!D23 -> 0
B79: Totaal | C79: =C76+C77+C78 -> #REF! | D79: =D76+D77+D78 -> 92020 | E79: =E76+E77+E78 -> 94300
B81: Algemene heffingskorting | O81: Eenmanszaak | Q81: BV1 | T81: BV12
B83: Van | C83: Tot | D83: Algemene heffingskorting | E83: Bedrag | G83: Eenmanszaak | H83: BV1 | J83: BV2 | N83: Totaal | O83: Meenemen | R83: Meenemen | U83: Meenemen
C84: 29736 | D84: 3115 | E84: 3115 | N84: =SUM(E84:I84) -> 3115 | O84: =(IF(C79<C84,Blad3!N84,0)) -> #REF! | Q84: =N84 -> 3115 | R84: =IF(D79<C84,Blad3!Q84,0) -> 0 | T84: =Q84 -> 3115 | U84: =IF(E79<C84,Blad3!Q84,0) -> 0
B85: 29736 | C85: 78426 | D85: € 3.068 - 6,337% x (verzamelinkomen - € 28.406) | E85: 3115 | F85: 0.06398 | G85: =C79 -> #REF! | H85: =D79 -> 92020 | I85: 29736 | J85: =E79 -> 94300 | K85: 29736 | N85: =E85-(F85*(G85-I85)) -> #REF! | O85: =IF(AND(C79>C84,C79<C85),Blad3!N85,0) -> #REF! | Q85: =E85-(F85*(H85-I85)) -> -869.93032 | R85: =IF(AND(D79>C84,D79<C85),Blad3!Q85,0) -> 0 | T85: =E85-(F85*(J85-K85)) -> -1015.8047 | U85: =IF(AND(E79>C84,E79<C85),Blad3!T85,0) -> 0
B86: 78426 | D86: € 0 | E86: 0 | N86: 0 | O86: =IF(Rekentool!D15>C86,Blad3!N86,0) -> 0
O87: =SUM(O84:O86) -> #REF! | R87: =R84+R85 -> 0 | U87: =U84+U85 -> 0
B94: Startersaftrek | C94: -2123
B98: Franchise lijfrente 2025 | C98: 18475
C100: Eenmanszaak | D100: BV
B101: Inkomen | C101: =Rekentool!D15 -> 100000 | D101: =Rekentool!D43 -> 58000
B102: Franchise | C102: =C98 -> 18475 | D102: =C98 -> 18475
B103: Inkmoen min franfhise | C103: =C101-C102 -> 81525 | D103: =D101-D102 -> 39525
B104: Jaarruimte | C104: =C103*0.3 -> 24457.5 | D104: =D103*0.3 -> 11857.5
B106: maximaal | C106: 35798 | D106: 35798
B108: Te benutten jaarruimte | C108: =MIN(C104,C106) -> 24457.5 | D108: =MIN(D104,D106) -> 11857.5

Sheet ja-nee
A1: ja
A2: nee
