Workbook
Name Vermogen_Specificeren: #REF!

Sheet Rekentool
C8: Gele cellen invullen | I8: Aan dit document kan op geen enkele manier rechten worden ontleend
C9: Je leeftijd | F9: 38 | I9: Deze rekentool geeft een sterk vereenvoudigde weergave van de werkelijkheid, zonder met alle aspecten rekening te houden
C10: Fiscaal partner | F10: ja | I10: Voor professioneel advies is het verstandig een expert te raadplegen
C11: Aantal kinderen | F11: 2
C12: Vermogen in de BV | F12: 1000000
C13: Tot welke leeftijd wil je schenken | F13: 58
C14: Dividenduitkering per jaar naast schenken | F14: 1000
C16: Schenking per kind per jaar in contanten
C17: Schenking op papier per kind per jaar | F17: 6908
C21: Samenvatting
C23: Zonder schenkingsplan | G23: Met schenkingsplan | K23: Besparing
C24: Nalatenschap voor box 2 | E24: =F12-Hulptabel!AI1-Rekentool!E34 -> 986490.07 | G24: Nalatenschap voor box 2 | I24: =G53 -> 742938.28 | K24: =I24-E24 -> -243551.79
C25: Box 2 heffing bij overlijden | E25: =-IF(F10="ja",Dividend!H11,Dividend!G11) -> -296862.33 | G25: Box 2 heffing bij overlijden | I25: =-IF(F10="ja",Dividend!N11,Dividend!M11) -> -221361.28 | K25: =I25-E25 -> 75501.054
G26: Schenking op papier | I26: =-Hulptabel!J2 -> -276320 | K26: =I26-E26 -> -276320
C27: Nalatenschap | E27: =E24+E25 -> 689627.74 | G27: Nalatenschap | I27: =I24+I25+I26 -> 245257 | K27: =I27-E27 -> -444370.73
C28: Nalatenschap per kind | E28: =E27/F11 -> 344813.87 | G28: Nalatenschap per kind | I28: =I27/F11 -> 122628.5 | K28: =I28-E28 -> -222185.37
C29: Erfbelasting per kind | E29: =-Hulpberekening!H17 -> -47849.874 | G29: Erfbelasting per kind | I29: =-Hulpberekening!P17 -> -9639.8501 | K29: =I29-E29 -> 38210.023
C30: Erfbelasting totaal | E30: =E29*F11 -> -95699.747 | G30: =C30 -> Erfbelasting totaal | I30: =I29*F11 -> -19279.7 | K30: =I30-E30 -> 76420.047
G32: Schenkbelasting per kind | I32: =-Hulpberekening!P26*Rekentool!F89 -> 0 | K32: =I32-E32 -> 0
G33: Schenkbelasting totaal | I33: =-I32*F11 -> 0 | K33: =I33-E33 -> 0
C34: Box 2 belasting bij leven | E34: =-IF(F10="ja",Hulptabel!AO5,Hulptabel!AI5) -> -6490.0662 | G34: Box 2 belasting bij leven | I34: =-G52 -> -62980.122 | K34: =I34-E34 -> -56490.056
C36: Totaal belasting | E36: =E30+E25+E34 -> -399052.14 | G36: Totaal belasting | I36: =I30+I25+I34+I33 -> -303621.1 | K36: =I36-E36 -> 95431.046 | L36: Totale belastingbesparing
C38: Belastingdruk % | E38: =-E36/F12 -> 0.39905214 | G38: Belastingdruk % | I38: =-I36/F12 -> 0.3036211
C42: Details berekening
E44: Jaren | F44: Per kind | G44: Totaal
C45: Totaalbedrag schenking | E45: =F13-F9 -> 20 | F45: =E45*F16 -> 0 | G45: =F45*F11 -> 0
C46: Totaalbedrag schenking op papier | E46: =E45 -> 20 | F46: =Hulptabel!E4 -> 138160 | G46: =F46*F11 -> 276320
C47: Rente 6% op schenking op papier | E47: =E45 -> 20 | F47: =Hulptabel!E5 -> 87040.8 | G47: =F47*F11 -> 174081.6
C48: Totaal overgedragen vermogen | G48: =SUM(G45:G47) -> 450401.6
C50: Waarvan cash nodig uit BV voor contante schenking + rente | G50: =SUM(Hulptabel!J9:J114) -> 174081.6
C51: Totaal dividenduitkering | G51: =Hulptabel!AI1 -> 20000
C52: Box 2 heffing bij leven | G52: =IF(F10="ja",Hulptabel!X5,Hulptabel!R5) -> 62980.122
C53: Resterend vermogen in de BV | G53: =F12-G50-G51-G52 -> 742938.28
C59: Belastingtarieven 2026
C62: Erfbelasting kind 2025 | G62: Dividend + box 2 belasting zonder fiscaal partner
C64: Van | D64: Tot | E64: Percentage | G64: Van | H64: Tot | I64: Percentage
C65: 0 | D65: 26230 | E65: 0 | G65: 0 | H65: 68843 | I65: 0.245
C66: =D65 -> 26230 | D66: =C66+158669 -> 184899 | E66: 0.1 | G66: =H65 -> 68843 | I66: 0.31
C67: =D66 -> 184899 | E67: 0.2
C70: Schenkbelasting kind 2025 | G70: Dividend + box 2 belasting met fiscaal partner
...

Sheet Blad2
A1: ja
A2: nee

Sheet Hulptabel
G1: Cash nodig prive bij leven | J1: =SUM(J9:J114) -> 174081.6 | O1: 67804 | P1: 0.755 | Q1: 89806.623 | U1: 4196 | V1: 0.69 | W1: 6081.1594 | AG1: Totaal dividnd | AI1: =SUM(AC9:AC115) -> 20000
G2: Verrekening schenking op papire | J2: =SUM(E9:E114)*Rekentool!F11 -> 276320 | P2: 0.245 | Q2: 22002.623 | R2: 0.32450331 | V2: 0.31 | W2: 1885.1594 | X2: 0.44927536
D4: Totaal schenking | E4: =SUM(E9:E114) -> 138160 | M4: Dividend | R4: Geen FP box 2 belasting schenken | X4: Wel FP box 2 belasting schenken | AC4: Zonder schenkingsplan
D5: Totaal rente | E5: =SUM(F9:F114) -> 87040.8 | F5: 0.06 | M5: =Rekentool!$F$14 -> 1000 | R5: =SUM(R9:R114) -> 62980.122 | X5: =SUM(X9:X115) -> 62980.122 | AI5: =SUM(AI9:AI115) -> 6490.0662 | AO5: =SUM(AO9:AO114) -> 6490.0662
D6: Totaal | E6: =E4+E5 -> 225200.8
N7: Geen fiscaal partner | T7: Wel fiscaal partner | AE7: Geen fiscaal partner | AK7: Wel fiscaal partner
C8: Jaar | E8: Schenking op papier | F8: Rente | G8: Gewone schenking | H8: Aantal | J8: Cash nodig prive | K8: Dividend | L8: Totale cash behoefte prive | N8: Lage schijf | O8: Belasting | P8: Hoge schijf | Q8: Belasting | R8: Totaal belasting | T8: Lage schijf | U8: Belasting | V8: Hoge schijf | W8: Belasting | X8: Totaal belasting | AE8: Lage schijf | AF8: Belasting | AG8: Hoge schijf | AH8: Belasting | AI8: Totaal belasting | AK8: Lage schijf | AL8: Belasting | AM8: Hoge schijf | AN8: Belasting | AO8: Totaal belasting
C9: =Rekentool!E105 -> 20 | D9: =IF(C9>=0,C9,0) -> 20 | E9: =IF(D9>0,Rekentool!$F$17,0) -> 6908 | F9: =E9*D9*$F$5 -> 8289.6 | G9: =IF(D9>0,Rekentool!$F$16,0) -> 0 | H9: =Rekentool!$F$11 -> 2 | J9: =(F9+G9)*H9 -> 16579.2 | K9: =IF(C9>=0,$M$5,0) -> 1000 | L9: =J9+K9 -> 17579.2 | N9: =MIN(L9,Rekentool!$H$65) -> 17579.2 | O9: =N9*$R$2 -> 5704.5086 | P9: =L9-N9 -> 0 | Q9: =P9*$X$2 -> 0 | R9: =O9+Q9 -> 5704.5086 | T9: =MIN(L9,Rekentool!$H$73) -> 17579.2 | U9: =T9*$R$2 -> 5704.5086 | V9: =L9-T9 -> 0 | W9: =V9*$X$2 -> 0 | X9: =U9+W9 -> 5704.5086 | AC9: =IF(C9>0,$M$5,0) -> 1000 | AE9: =MIN(AC9,Rekentool!$H$65) -> 1000 | AF9: =AE9*$R$2 -> 324.50331 | AG9: =AC9-AE9 -> 0 | AH9: =AG9*$X$2 -> 0 | AI9: =AF9+AH9 -> 324.50331 | AK9: =MIN(AC9,Rekentool!$H$73) -> 1000 | AL9: =AK9*$R$2 -> 324.50331 | AM9: =AC9-AK9 -> 0 | AN9: =AM9*$X$2 -> 0 | AO9: =AL9+AN9 -> 324.50331
C10: =C9-1 -> 19 | D10: =IF(C10>=0,C10,0) -> 19 | E10: =IF(D10>0,Rekentool!$F$17,0) -> 6908 | F10: =E10*D10*$F$5 -> 7875.12 | G10: =IF(D10>0,Rekentool!$F$16,0) -> 0 | H10: =Rekentool!$F$11 -> 2 | J10: =(F10+G10)*H10 -> 15750.24 | K10: =IF(C10>=0,$M$5,0) -> 1000 | L10: =J10+K10 -> 16750.24 | N10: =MIN(L10,Rekentool!$H$65) -> 16750.24 | O10: =N10*$R$2 -> 5435.5083 | P10: =L10-N10 -> 0 | Q10: =P10*$X$2 -> 0 | R10: =O10+Q10 -> 5435.5083 | T10: =MIN(L10,Rekentool!$H$73) -> 16750.24 | U10: =T10*$R$2 -> 5435.5083 | V10: =L10-T10 -> 0 | W10: =V10*$X$2 -> 0 | X10: =U10+W10 -> 5435.5083 | AC10: =IF(C10>0,$M$5,0) -> 1000 | AE10: =MIN(AC10,Rekentool!$H$65) -> 1000 | AF10: =AE10*$R$2 -> 324.50331 | AG10: =AC10-AE10 -> 0 | AH10: =AG10*$X$2 -> 0 | AI10: =AF10+AH10 -> 324.50331 | AK10: =MIN(AC10,Rekentool!$H$73) -> 1000 | AL10: =AK10*$R$2 -> 324.50331 | AM10: =AC10-AK10 -> 0 | AN10: =AM10*$X$2 -> 0 | AO10: =AL10+AN10 -> 324.50331
C11: =C10-1 -> 18 | D11: =IF(C11>=0,C11,0) -> 18 | E11: =IF(D11>0,Rekentool!$F$17,0) -> 6908 | F11: =E11*D11*$F$5 -> 7460.64 | G11: =IF(D11>0,Rekentool!$F$16,0) -> 0 | H11: =Rekentool!$F$11 -> 2 | J11: =(F11+G11)*H11 -> 14921.28 | K11: =IF(C11>=0,$M$5,0) -> 1000 | L11: =J11+K11 -> 15921.28 | N11: =MIN(L11,Rekentool!$H$65) -> 15921.28 | O11: =N11*$R$2 -> 5166.5081 | P11: =L11-N11 -> 0 | Q11: =P11*$X$2 -> 0 | R11: =O11+Q11 -> 5166.5081 | T11: =MIN(L11,Rekentool!$H$73) -> 15921.28 | U11: =T11*$R$2 -> 5166.5081 | V11: =L11-T11 -> 0 | W11: =V11*$X$2 -> 0 | X11: =U11+W11 -> 5166.5081 | AC11: =IF(C11>0,$M$5,0) -> 1000 | AE11: =MIN(AC11,Rekentool!$H$65) -> 1000 | AF11: =AE11*$R$2 -> 324.50331 | AG11: =AC11-AE11 -> 0 | AH11: =AG11*$X$2 -> 0 | AI11: =AF11+AH11 -> 324.50331 | AK11: =MIN(AC11,Rekentool!$H$73) -> 1000 | AL11: =AK11*$R$2 -> 324.50331 | AM11: =AC11-AK11 -> 0 | AN11: =AM11*$X$2 -> 0 | AO11: =AL11+AN11 -> 324.50331
C12: =C11-1 -> 17 | D12: =IF(C12>=0,C12,0) -> 17 | E12: =IF(D12>0,Rekentool!$F$17,0) -> 6908 | F12: =E12*D12*$F$5 -> 7046.16 | G12: =IF(D12>0,Rekentool!$F$16,0) -> 0 | H12: =Rekentool!$F$11 -> 2 | J12: =(F12+G12)*H12 -> 14092.32 | K12: =IF(C12>=0,$M$5,0) -> 1000 | L12: =J12+K12 -> 15092.32 | N12: =MIN(L12,Rekentool!$H$65) -> 15092.32 | O12: =N12*$R$2 -> 4897.5078 | P12: =L12-N12 -> 0 | Q12: =P12*$X$2 -> 0 | R12: =O12+Q12 -> 4897.5078 | T12: =MIN(L12,Rekentool!$H$73) -> 15092.32 | U12: =T12*$R$2 -> 4897.5078 | V12: =L12-T12 -> 0 | W12: =V12*$X$2 -> 0 | X12: =U12+W12 -> 4897.5078 | AC12: =IF(C12>0,$M$5,0) -> 1000 | AE12: =MIN(AC12,Rekentool!$H$65) -> 1000 | AF12: =AE12*$R$2 -> 324.50331 | AG12: =AC12-AE12 -> 0 | AH12: =AG12*$X$2 -> 0 | AI12: =AF12+AH12 -> 324.50331 | AK12: =MIN(AC12,Rekentool!$H$73) -> 1000 | AL12: =AK12*$R$2 -> 324.50331 | AM12: =AC12-AK12 -> 0 | AN12: =AM12*$X$2 -> 0 | AO12: =AL12+AN12 -> 324.50331
C13: =C12-1 -> 16 | D13: =IF(C13>=0,C13,0) -> 16 | E13: =IF(D13>0,Rekentool!$F$17,0) -> 6908 | F13: =E13*D13*$F$5 -> 6631.68 | G13: =IF(D13>0,Rekentool!$F$16,0) -> 0 | H13: =Rekentool!$F$11 -> 2 | J13: =(F13+G13)*H13 -> 13263.36 | K13: =IF(C13>=0,$M$5,0) -> 1000 | L13: =J13+K13 -> 14263.36 | N13: =MIN(L13,Rekentool!$H$65) -> 14263.36 | O13: =N13*$R$2 -> 4628.5075 | P13: =L13-N13 -> 0 | Q13: =P13*$X$2 -> 0 | R13: =O13+Q13 -> 4628.5075 | T13: =MIN(L13,Rekentool!$H$73) -> 14263.36 | U13: =T13*$R$2 -> 4628.5075 | V13: =L13-T13 -> 0 | W13: =V13*$X$2 -> 0 | X13: =U13+W13 -> 4628.5075 | AC13: =IF(C13>0,$M$5,0) -> 1000 | AE13: =MIN(AC13,Rekentool!$H$65) -> 1000 | AF13: =AE13*$R$2 -> 324.50331 | AG13: =AC13-AE13 -> 0 | AH13: =AG13*$X$2 -> 0 | AI13: =AF13+AH13 -> 324.50331 | AK13: =MIN(AC13,Rekentool!$H$73) -> 1000 | AL13: =AK13*$R$2 -> 324.50331 | AM13: =AC13-AK13 -> 0 | AN13: =AM13*$X$2 -> 0 | AO13: =AL13+AN13 -> 324.50331
C14: =C13-1 -> 15 | D14: =IF(C14>=0,C14,0) -> 15 | E14: =IF(D14>0,Rekentool!$F$17,0) -> 6908 | F14: =E14*D14*$F$5 -> 6217.2 | G14: =IF(D14>0,Rekentool!$F$16,0) -> 0 | H14: =Rekentool!$F$11 -> 2 | J14: =(F14+G14)*H14 -> 12434.4 | K14: =IF(C14>=0,$M$5,0) -> 1000 | L14: =J14+K14 -> 13434.4 | N14: =MIN(L14,Rekentool!$H$65) -> 13434.4 | O14: =N14*$R$2 -> 4359.5073 | P14: =L14-N14 -> 0 | Q14: =P14*$X$2 -> 0 | R14: =O14+Q14 -> 4359.5073 | T14: =MIN(L14,Rekentool!$H$73) -> 13434.4 | U14: =T14*$R$2 -> 4359.5073 | V14: =L14-T14 -> 0 | W14: =V14*$X$2 -> 0 | X14: =U14+W14 -> 4359.5073 | AC14: =IF(C14>0,$M$5,0) -> 1000 | AE14: =MIN(AC14,Rekentool!$H$65) -> 1000 | AF14: =AE14*$R$2 -> 324.50331 | AG14: =AC14-AE14 -> 0 | AH14: =AG14*$X$2 -> 0 | AI14: =AF14+AH14 -> 324.50331 | AK14: =MIN(AC14,Rekentool!$H$73) -> 1000 | AL14: =AK14*$R$2 -> 324.50331 | AM14: =AC14-AK14 -> 0 | AN14: =AM14*$X$2 -> 0 | AO14: =AL14+AN14 -> 324.50331
C15: =C14-1 -> 14 | D15: =IF(C15>=0,C15,0) -> 14 | E15: =IF(D15>0,Rekentool!$F$17,0) -> 6908 | F15: =E15*D15*$F$5 -> 5802.72 | G15: =IF(D15>0,Rekentool!$F$16,0) -> 0 | H15: =Rekentool!$F$11 -> 2 | J15: =(F15+G15)*H15 -> 11605.44 | K15: =IF(C15>=0,$M$5,0) -> 1000 | L15: =J15+K15 -> 12605.44 | N15: =MIN(L15,Rekentool!$H$65) -> 12605.44 | O15: =N15*$R$2 -> 4090.507 | P15: =L15-N15 -> 0 | Q15: =P15*$X$2 -> 0 | R15: =O15+Q15 -> 4090.507 | T15: =MIN(L15,Rekentool!$H$73) -> 12605.44 | U15: =T15*$R$2 -> 4090.507 | V15: =L15-T15 -> 0 | W15: =V15*$X$2 -> 0 | X15: =U15+W15 -> 4090.507 | AC15: =IF(C15>0,$M$5,0) -> 1000 | AE15: =MIN(AC15,Rekentool!$H$65) -> 1000 | AF15: =AE15*$R$2 -> 324.50331 | AG15: =AC15-AE15 -> 0 | AH15: =AG15*$X$2 -> 0 | AI15: =AF15+AH15 -> 324.50331 | AK15: =MIN(AC15,Rekentool!$H$73) -> 1000 | AL15: =AK15*$R$2 -> 324.50331 | AM15: =AC15-AK15 -> 0 | AN15: =AM15*$X$2 -> 0 | AO15: =AL15+AN15 -> 324.50331
C16: =C15-1 -> 13 | D16: =IF(C16>=0,C16,0) -> 13 | E16: =IF(D16>0,Rekentool!$F$17,0) -> 6908 | F16: =E16*D16*$F$5 -> 5388.24 | G16: =IF(D16>0,Rekentool!$F$16,0) -> 0 | H16: =Rekentool!$F$11 -> 2 | J16: =(F16+G16)*H16 -> 10776.48 | K16: =IF(C16>=0,$M$5,0) -> 1000 | L16: =J16+K16 -> 11776.48 | N16: =MIN(L16,Rekentool!$H$65) -> 11776.48 | O16: =N16*$R$2 -> 3821.5068 | P16: =L16-N16 -> 0 | Q16: =P16*$X$2 -> 0 | R16: =O16+Q16 -> 3821.5068 | T16: =MIN(L16,Rekentool!$H$73) -> 11776.48 | U16: =T16*$R$2 -> 3821.5068 | V16: =L16-T16 -> 0 | W16: =V16*$X$2 -> 0 | X16: =U16+W16 -> 3821.5068 | AC16: =IF(C16>0,$M$5,0) -> 1000 | AE16: =MIN(AC16,Rekentool!$H$65) -> 1000 | AF16: =AE16*$R$2 -> 324.50331 | AG16: =AC16-AE16 -> 0 | AH16: =AG16*$X$2 -> 0 | AI16: =AF16+AH16 -> 324.50331 | AK16: =MIN(AC16,Rekentool!$H$73) -> 1000 | AL16: =AK16*$R$2 -> 324.50331 | AM16: =AC16-AK16 -> 0 | AN16: =AM16*$X$2 -> 0 | AO16: =AL16+AN16 -> 324.50331
C17: =C16-1 -> 12 | D17: =IF(C17>=0,C17,0) -> 12 | E17: =IF(D17>0,Rekentool!$F$17,0) -> 6908 | F17: =E17*D17*$F$5 -> 4973.76 | G17: =IF(D17>0,Rekentool!$F$16,0) -> 0 | H17: =Rekentool!$F$11 -> 2 | J17: =(F17+G17)*H17 -> 9947.52 | K17: =IF(C17>=0,$M$5,0) -> 1000 | L17: =J17+K17 -> 10947.52 | N17: =MIN(L17,Rekentool!$H$65) -> 10947.52 | O17: =N17*$R$2 -> 3552.5065 | P17: =L17-N17 -> 0 | Q17: =P17*$X$2 -> 0 | R17: =O17+Q17 -> 3552.5065 | T17: =MIN(L17,Rekentool!$H$73) -> 10947.52 | U17: =T17*$R$2 -> 3552.5065 | V17: =L17-T17 -> 0 | W17: =V17*$X$2 -> 0 | X17: =U17+W17 -> 3552.5065 | AC17: =IF(C17>0,$M$5,0) -> 1000 | AE17: =MIN(AC17,Rekentool!$H$65) -> 1000 | AF17: =AE17*$R$2 -> 324.50331 | AG17: =AC17-AE17 -> 0 | AH17: =AG17*$X$2 -> 0 | AI17: =AF17+AH17 -> 324.50331 | AK17: =MIN(AC17,Rekentool!$H$73) -> 1000 | AL17: =AK17*$R$2 -> 324.50331 | AM17: =AC17-AK17 -> 0 | AN17: =AM17*$X$2 -> 0 | AO17: =AL17+AN17 -> 324.50331
C18: =C17-1 -> 11 | D18: =IF(C18>=0,C18,0) -> 11 | E18: =IF(D18>0,Rekentool!$F$17,0) -> 6908 | F18: =E18*D18*$F$5 -> 4559.28 | G18: =IF(D18>0,Rekentool!$F$16,0) -> 0 | H18: =Rekentool!$F$11 -> 2 | J18: =(F18+G18)*H18 -> 9118.56 | K18: =IF(C18>=0,$M$5,0) -> 1000 | L18: =J18+K18 -> 10118.56 | N18: =MIN(L18,Rekentool!$H$65) -> 10118.56 | O18: =N18*$R$2 -> 3283.5062 | P18: =L18-N18 -> 0 | Q18: =P18*$X$2 -> 0 | R18: =O18+Q18 -> 3283.5062 | T18: =MIN(L18,Rekentool!$H$73) -> 10118.56 | U18: =T18*$R$2 -> 3283.5062 | V18: =L18-T18 -> 0 | W18: =V18*$X$2 -> 0 | X18: =U18+W18 -> 3283.5062 | AC18: =IF(C18>0,$M$5,0) -> 1000 | AE18: =MIN(AC18,Rekentool!$H$65) -> 1000 | AF18: =AE18*$R$2 -> 324.50331 | AG18: =AC18-AE18 -> 0 | AH18: =AG18*$X$2 -> 0 | AI18: =AF18+AH18 -> 324.50331 | AK18: =MIN(AC18,Rekentool!$H$73) -> 1000 | AL18: =AK18*$R$2 -> 324.50331 | AM18: =AC18-AK18 -> 0 | AN18: =AM18*$X$2 -> 0 | AO18: =AL18+AN18 -> 324.50331
C19: =C18-1 -> 10 | D19: =IF(C19>=0,C19,0) -> 10 | E19: =IF(D19>0,Rekentool!$F$17,0) -> 6908 | F19: =E19*D19*$F$5 -> 4144.8 | G19: =IF(D19>0,Rekentool!$F$16,0) -> 0 | H19: =Rekentool!$F$11 -> 2 | J19: =(F19+G19)*H19 -> 8289.6 | K19: =IF(C19>0,$M$5,0) -> 1000 | L19: =J19+K19 -> 9289.6 | N19: =MIN(L19,Rekentool!$H$65) -> 9289.6 | O19: =N19*$R$2 -> 3014.506 | P19: =L19-N19 -> 0 | Q19: =P19*$X$2 -> 0 | R19: =O19+Q19 -> 3014.506 | T19: =MIN(L19,Rekentool!$H$73) -> 9289.6 | U19: =T19*$R$2 -> 3014.506 | V19: =L19-T19 -> 0 | W19: =V19*$X$2 -> 0 | X19: =U19+W19 -> 3014.506 | AC19: =IF(C19>0,$M$5,0) -> 1000 | AE19: =MIN(AC19,Rekentool!$H$65) -> 1000 | AF19: =AE19*$R$2 -> 324.50331 | AG19: =AC19-AE19 -> 0 | AH19: =AG19*$X$2 -> 0 | AI19: =AF19+AH19 -> 324.50331 | AK19: =MIN(AC19,Rekentool!$H$73) -> 1000 | AL19: =AK19*$R$2 -> 324.50331 | AM19: =AC19-AK19 -> 0 | AN19: =AM19*$X$2 -> 0 | AO19: =AL19+AN19 -> 324.50331
C20: =C19-1 -> 9 | D20: =IF(C20>=0,C20,0) -> 9 | E20: =IF(D20>0,Rekentool!$F$17,0) -> 6908 | F20: =E20*D20*$F$5 -> 3730.32 | G20: =IF(D20>0,Rekentool!$F$16,0) -> 0 | H20: =Rekentool!$F$11 -> 2 | J20: =(F20+G20)*H20 -> 7460.64 | K20: =IF(C20>=0,$M$5,0) -> 1000 | L20: =J20+K20 -> 8460.64 | N20: =MIN(L20,Rekentool!$H$65) -> 8460.64 | O20: =N20*$R$2 -> 2745.5057 | P20: =L20-N20 -> 0 | Q20: =P20*$X$2 -> 0 | R20: =O20+Q20 -> 2745.5057 | T20: =MIN(L20,Rekentool!$H$73) -> 8460.64 | U20: =T20*$R$2 -> 2745.5057 | V20: =L20-T20 -> 0 | W20: =V20*$X$2 -> 0 | X20: =U20+W20 -> 2745.5057 | AC20: =IF(C20>0,$M$5,0) -> 1000 | AE20: =MIN(AC20,Rekentool!$H$65) -> 1000 | AF20: =AE20*$R$2 -> 324.50331 | AG20: =AC20-AE20 -> 0 | AH20: =AG20*$X$2 -> 0 | AI20: =AF20+AH20 -> 324.50331 | AK20: =MIN(AC20,Rekentool!$H$73) -> 1000 | AL20: =AK20*$R$2 -> 324.50331 | AM20: =AC20-AK20 -> 0 | AN20: =AM20*$X$2 -> 0 | AO20: =AL20+AN20 -> 324.50331
C21: =C20-1 -> 8 | D21: =IF(C21>=0,C21,0) -> 8 | E21: =IF(D21>0,Rekentool!$F$17,0) -> 6908 | F21: =E21*D21*$F$5 -> 3315.84 | G21: =IF(D21>0,Rekentool!$F$16,0) -> 0 | H21: =Rekentool!$F$11 -> 2 | J21: =(F21+G21)*H21 -> 6631.68 | K21: =IF(C21>=0,$M$5,0) -> 1000 | L21: =J21+K21 -> 7631.68 | N21: =MIN(L21,Rekentool!$H$65) -> 7631.68 | O21: =N21*$R$2 -> 2476.5054 | P21: =L21-N21 -> 0 | Q21: =P21*$X$2 -> 0 | R21: =O21+Q21 -> 2476.5054 | T21: =MIN(L21,Rekentool!$H$73) -> 7631.68 | U21: =T21*$R$2 -> 2476.5054 | V21: =L21-T21 -> 0 | W21: =V21*$X$2 -> 0 | X21: =U21+W21 -> 2476.5054 | AC21: =IF(C21>0,$M$5,0) -> 1000 | AE21: =MIN(AC21,Rekentool!$H$65) -> 1000 | AF21: =AE21*$R$2 -> 324.50331 | AG21: =AC21-AE21 -> 0 | AH21: =AG21*$X$2 -> 0 | AI21: =AF21+AH21 -> 324.50331 | AK21: =MIN(AC21,Rekentool!$H$73) -> 1000 | AL21: =AK21*$R$2 -> 324.50331 | AM21: =AC21-AK21 -> 0 | AN21: =AM21*$X$2 -> 0 | AO21: =AL21+AN21 -> 324.50331
C22: =C21-1 -> 7 | D22: =IF(C22>=0,C22,0) -> 7 | E22: =IF(D22>0,Rekentool!$F$17,0) -> 6908 | F22: =E22*D22*$F$5 -> 2901.36 | G22: =IF(D22>0,Rekentool!$F$16,0) -> 0 | H22: =Rekentool!$F$11 -> 2 | J22: =(F22+G22)*H22 -> 5802.72 | K22: =IF(C22>=0,$M$5,0) -> 1000 | L22: =J22+K22 -> 6802.72 | N22: =MIN(L22,Rekentool!$H$65) -> 6802.72 | O22: =N22*$R$2 -> 2207.5052 | P22: =L22-N22 -> 0 | Q22: =P22*$X$2 -> 0 | R22: =O22+Q22 -> 2207.5052 | T22: =MIN(L22,Rekentool!$H$73) -> 6802.72 | U22: =T22*$R$2 -> 2207.5052 | V22: =L22-T22 -> 0 | W22: =V22*$X$2 -> 0 | X22: =U22+W22 -> 2207.5052 | AC22: =IF(C22>0,$M$5,0) -> 1000 | AE22: =MIN(AC22,Rekentool!$H$65) -> 1000 | AF22: =AE22*$R$2 -> 324.50331 | AG22: =AC22-AE22 -> 0 | AH22: =AG22*$X$2 -> 0 | AI22: =AF22+AH22 -> 324.50331 | AK22: =MIN(AC22,Rekentool!$H$73) -> 1000 | AL22: =AK22*$R$2 -> 324.50331 | AM22: =AC22-AK22 -> 0 | AN22: =AM22*$X$2 -> 0 | AO22: =AL22+AN22 -> 324.50331
C23: =C22-1 -> 6 | D23: =IF(C23>=0,C23,0) -> 6 | E23: =IF(D23>0,Rekentool!$F$17,0) -> 6908 | F23: =E23*D23*$F$5 -> 2486.88 | G23: =IF(D23>0,Rekentool!$F$16,0) -> 0 | H23: =Rekentool!$F$11 -> 2 | J23: =(F23+G23)*H23 -> 4973.76 | K23: =IF(C23>=0,$M$5,0) -> 1000 | L23: =J23+K23 -> 5973.76 | N23: =MIN(L23,Rekentool!$H$65) -> 5973.76 | O23: =N23*$R$2 -> 1938.5049 | P23: =L23-N23 -> 0 | Q23: =P23*$X$2 -> 0 | R23: =O23+Q23 -> 1938.5049 | T23: =MIN(L23,Rekentool!$H$73) -> 5973.76 | U23: =T23*$R$2 -> 1938.5049 | V23: =L23-T23 -> 0 | W23: =V23*$X$2 -> 0 | X23: =U23+W23 -> 1938.5049 | AC23: =IF(C23>0,$M$5,0) -> 1000 | AE23: =MIN(AC23,Rekentool!$H$65) -> 1000 | AF23: =AE23*$R$2 -> 324.50331 | AG23: =AC23-AE23 -> 0 | AH23: =AG23*$X$2 -> 0 | AI23: =AF23+AH23 -> 324.50331 | AK23: =MIN(AC23,Rekentool!$H$73) -> 1000 | AL23: =AK23*$R$2 -> 324.50331 | AM23: =AC23-AK23 -> 0 | AN23: =AM23*$X$2 -> 0 | AO23: =AL23+AN23 -> 324.50331
C24: =C23-1 -> 5 | D24: =IF(C24>=0,C24,0) -> 5 | E24: =IF(D24>0,Rekentool!$F$17,0) -> 6908 | F24: =E24*D24*$F$5 -> 2072.4 | G24: =IF(D24>0,Rekentool!$F$16,0) -> 0 | H24: =Rekentool!$F$11 -> 2 | J24: =(F24+G24)*H24 -> 4144.8 | K24: =IF(C24>=0,$M$5,0) -> 1000 | L24: =J24+K24 -> 5144.8 | N24: =MIN(L24,Rekentool!$H$65) -> 5144.8 | O24: =N24*$R$2 -> 1669.5046 | P24: =L24-N24 -> 0 | Q24: =P24*$X$2 -> 0 | R24: =O24+Q24 -> 1669.5046 | T24: =MIN(L24,Rekentool!$H$73) -> 5144.8 | U24: =T24*$R$2 -> 1669.5046 | V24: =L24-T24 -> 0 | W24: =V24*$X$2 -> 0 | X24: =U24+W24 -> 1669.5046 | AC24: =IF(C24>0,$M$5,0) -> 1000 | AE24: =MIN(AC24,Rekentool!$H$65) -> 1000 | AF24: =AE24*$R$2 -> 324.50331 | AG24: =AC24-AE24 -> 0 | AH24: =AG24*$X$2 -> 0 | AI24: =AF24+AH24 -> 324.50331 | AK24: =MIN(AC24,Rekentool!$H$73) -> 1000 | AL24: =AK24*$R$2 -> 324.50331 | AM24: =AC24-AK24 -> 0 | AN24: =AM24*$X$2 -> 0 | AO24: =AL24+AN24 -> 324.50331
C25: =C24-1 -> 4 | D25: =IF(C25>=0,C25,0) -> 4 | E25: =IF(D25>0,Rekentool!$F$17,0) -> 6908 | F25: =E25*D25*$F$5 -> 1657.92 | G25: =IF(D25>0,Rekentool!$F$16,0) -> 0 | H25: =Rekentool!$F$11 -> 2 | J25: =(F25+G25)*H25 -> 3315.84 | K25: =IF(C25>=0,$M$5,0) -> 1000 | L25: =J25+K25 -> 4315.84 | N25: =MIN(L25,Rekentool!$H$65) -> 4315.84 | O25: =N25*$R$2 -> 1400.5044 | P25: =L25-N25 -> 0 | Q25: =P25*$X$2 -> 0 | R25: =O25+Q25 -> 1400.5044 | T25: =MIN(L25,Rekentool!$H$73) -> 4315.84 | U25: =T25*$R$2 -> 1400.5044 | V25: =L25-T25 -> 0 | W25: =V25*$X$2 -> 0 | X25: =U25+W25 -> 1400.5044 | AC25: =IF(C25>0,$M$5,0) -> 1000 | AE25: =MIN(AC25,Rekentool!$H$65) -> 1000 | AF25: =AE25*$R$2 -> 324.50331 | AG25: =AC25-AE25 -> 0 | AH25: =AG25*$X$2 -> 0 | AI25: =AF25+AH25 -> 324.50331 | AK25: =MIN(AC25,Rekentool!$H$73) -> 1000 | AL25: =AK25*$R$2 -> 324.50331 | AM25: =AC25-AK25 -> 0 | AN25: =AM25*$X$2 -> 0 | AO25: =AL25+AN25 -> 324.50331
C26: =C25-1 -> 3 | D26: =IF(C26>=0,C26,0) -> 3 | E26: =IF(D26>0,Rekentool!$F$17,0) -> 6908 | F26: =E26*D26*$F$5 -> 1243.44 | G26: =IF(D26>0,Rekentool!$F$16,0) -> 0 | H26: =Rekentool!$F$11 -> 2 | J26: =(F26+G26)*H26 -> 2486.88 | K26: =IF(C26>=0,$M$5,0) -> 1000 | L26: =J26+K26 -> 3486.88 | N26: =MIN(L26,Rekentool!$H$65) -> 3486.88 | O26: =N26*$R$2 -> 1131.5041 | P26: =L26-N26 -> 0 | Q26: =P26*$X$2 -> 0 | R26: =O26+Q26 -> 1131.5041 | T26: =MIN(L26,Rekentool!$H$73) -> 3486.88 | U26: =T26*$R$2 -> 1131.5041 | V26: =L26-T26 -> 0 | W26: =V26*$X$2 -> 0 | X26: =U26+W26 -> 1131.5041 | AC26: =IF(C26>0,$M$5,0) -> 1000 | AE26: =MIN(AC26,Rekentool!$H$65) -> 1000 | AF26: =AE26*$R$2 -> 324.50331 | AG26: =AC26-AE26 -> 0 | AH26: =AG26*$X$2 -> 0 | AI26: =AF26+AH26 -> 324.50331 | AK26: =MIN(AC26,Rekentool!$H$73) -> 1000 | AL26: =AK26*$R$2 -> 324.50331 | AM26: =AC26-AK26 -> 0 | AN26: =AM26*$X$2 -> 0 | AO26: =AL26+AN26 -> 324.50331
C27: =C26-1 -> 2 | D27: =IF(C27>=0,C27,0) -> 2 | E27: =IF(D27>0,Rekentool!$F$17,0) -> 6908 | F27: =E27*D27*$F$5 -> 828.96 | G27: =IF(D27>0,Rekentool!$F$16,0) -> 0 | H27: =Rekentool!$F$11 -> 2 | J27: =(F27+G27)*H27 -> 1657.92 | K27: =IF(C27>=0,$M$5,0) -> 1000 | L27: =J27+K27 -> 2657.92 | N27: =MIN(L27,Rekentool!$H$65) -> 2657.92 | O27: =N27*$R$2 -> 862.50384 | P27: =L27-N27 -> 0 | Q27: =P27*$X$2 -> 0 | R27: =O27+Q27 -> 862.50384 | T27: =MIN(L27,Rekentool!$H$73) -> 2657.92 | U27: =T27*$R$2 -> 862.50384 | V27: =L27-T27 -> 0 | W27: =V27*$X$2 -> 0 | X27: =U27+W27 -> 862.50384 | AC27: =IF(C27>0,$M$5,0) -> 1000 | AE27: =MIN(AC27,Rekentool!$H$65) -> 1000 | AF27: =AE27*$R$2 -> 324.50331 | AG27: =AC27-AE27 -> 0 | AH27: =AG27*$X$2 -> 0 | AI27: =AF27+AH27 -> 324.50331 | AK27: =MIN(AC27,Rekentool!$H$73) -> 1000 | AL27: =AK27*$R$2 -> 324.50331 | AM27: =AC27-AK27 -> 0 | AN27: =AM27*$X$2 -> 0 | AO27: =AL27+AN27 -> 324.50331
C28: =C27-1 -> 1 | D28: =IF(C28>=0,C28,0) -> 1 | E28: =IF(D28>0,Rekentool!$F$17,0) -> 6908 | F28: =E28*D28*$F$5 -> 414.48 | G28: =IF(D28>0,Rekentool!$F$16,0) -> 0 | H28: =Rekentool!$F$11 -> 2 | J28: =(F28+G28)*H28 -> 828.96 | K28: =IF(C28>=0,$M$5,0) -> 1000 | L28: =J28+K28 -> 1828.96 | N28: =MIN(L28,Rekentool!$H$65) -> 1828.96 | O28: =N28*$R$2 -> 593.50358 | P28: =L28-N28 -> 0 | Q28: =P28*$X$2 -> 0 | R28: =O28+Q28 -> 593.50358 | T28: =MIN(L28,Rekentool!$H$73) -> 1828.96 | U28: =T28*$R$2 -> 593.50358 | V28: =L28-T28 -> 0 | W28: =V28*$X$2 -> 0 | X28: =U28+W28 -> 593.50358 | AC28: =IF(C28>0,$M$5,0) -> 1000 | AE28: =MIN(AC28,Rekentool!$H$65) -> 1000 | AF28: =AE28*$R$2 -> 324.50331 | AG28: =AC28-AE28 -> 0 | AH28: =AG28*$X$2 -> 0 | AI28: =AF28+AH28 -> 324.50331 | AK28: =MIN(AC28,Rekentool!$H$73) -> 1000 | AL28: =AK28*$R$2 -> 324.50331 | AM28: =AC28-AK28 -> 0 | AN28: =AM28*$X$2 -> 0 | AO28: =AL28+AN28 -> 324.50331
C29: =C28-1 -> 0 | D29: =IF(C29>=0,C29,0) -> 0 | E29: =IF(D29>0,Rekentool!$F$17,0) -> 0 | F29: =E29*D29*$F$5 -> 0 | G29: =IF(D29>0,Rekentool!$F$16,0) -> 0 | H29: =Rekentool!$F$11 -> 2 | J29: =(F29+G29)*H29 -> 0 | K29: =IF(C29>0,$M$5,0) -> 0 | L29: =J29+K29 -> 0 | N29: =MIN(L29,Rekentool!$H$65) -> 0 | O29: =N29*$R$2 -> 0 | P29: =L29-N29 -> 0 | Q29: =P29*$X$2 -> 0 | R29: =O29+Q29 -> 0 | T29: =MIN(L29,Rekentool!$H$73) -> 0 | U29: =T29*$R$2 -> 0 | V29: =L29-T29 -> 0 | W29: =V29*$X$2 -> 0 | X29: =U29+W29 -> 0 | AC29: =IF(C29>0,$M$5,0) -> 0 | AE29: =MIN(AC29,Rekentool!$H$65) -> 0 | AF29: =AE29*$R$2 -> 0 | AG29: =AC29-AE29 -> 0 | AH29: =AG29*$X$2 -> 0 | AI29: =AF29+AH29 -> 0 | AK29: =MIN(AC29,Rekentool!$H$73) -> 0 | AL29: =AK29*$R$2 -> 0 | AM29: =AC29-AK29 -> 0 | AN29: =AM29*$X$2 -> 0 | AO29: =AL29+AN29 -> 0
C30: =C29-1 -> -1 | D30: =IF(C30>=0,C30,0) -> 0 | E30: =IF(D30>0,Rekentool!$F$17,0) -> 0 | F30: =E30*D30*$F$5 -> 0 | G30: =IF(D30>0,Rekentool!$F$16,0) -> 0 | H30: =Rekentool!$F$11 -> 2 | J30: =(F30+G30)*H30 -> 0 | K30: =IF(C30>=0,$M$5,0) -> 0 | L30: =J30+K30 -> 0 | N30: =MIN(L30,Rekentool!$H$65) -> 0 | O30: =N30*$R$2 -> 0 | P30: =L30-N30 -> 0 | Q30: =P30*$X$2 -> 0 | R30: =O30+Q30 -> 0 | T30: =MIN(L30,Rekentool!$H$73) -> 0 | U30: =T30*$R$2 -> 0 | V30: =L30-T30 -> 0 | W30: =V30*$X$2 -> 0 | X30: =U30+W30 -> 0 | AC30: =IF(C30>0,$M$5,0) -> 0 | AE30: =MIN(AC30,Rekentool!$H$65) -> 0 | AF30: =AE30*$R$2 -> 0 | AG30: =AC30-AE30 -> 0 | AH30: =AG30*$X$2 -> 0 | AI30: =AF30+AH30 -> 0 | AK30: =MIN(AC30,Rekentool!$H$73) -> 0 | AL30: =AK30*$R$2 -> 0 | AM30: =AC30-AK30 -> 0 | AN30: =AM30*$X$2 -> 0 | AO30: =AL30+AN30 -> 0
C31: =C30-1 -> -2 | D31: =IF(C31>=0,C31,0) -> 0 | E31: =IF(D31>0,Rekentool!$F$17,0) -> 0 | F31: =E31*D31*$F$5 -> 0 | G31: =IF(D31>0,Rekentool!$F$16,0) -> 0 | H31: =Rekentool!$F$11 -> 2 | J31: =(F31+G31)*H31 -> 0 | K31: =IF(C31>=0,$M$5,0) -> 0 | L31: =J31+K31 -> 0 | N31: =MIN(L31,Rekentool!$H$65) -> 0 | O31: =N31*$R$2 -> 0 | P31: =L31-N31 -> 0 | Q31: =P31*$X$2 -> 0 | R31: =O31+Q31 -> 0 | T31: =MIN(L31,Rekentool!$H$73) -> 0 | U31: =T31*$R$2 -> 0 | V31: =L31-T31 -> 0 | W31: =V31*$X$2 -> 0 | X31: =U31+W31 -> 0 | AC31: =IF(C31>0,$M$5,0) -> 0 | AE31: =MIN(AC31,Rekentool!$H$65) -> 0 | AF31: =AE31*$R$2 -> 0 | AG31: =AC31-AE31 -> 0 | AH31: =AG31*$X$2 -> 0 | AI31: =AF31+AH31 -> 0 | AK31: =MIN(AC31,Rekentool!$H$73) -> 0 | AL31: =AK31*$R$2 -> 0 | AM31: =AC31-AK31 -> 0 | AN31: =AM31*$X$2 -> 0 | AO31: =AL31+AN31 -> 0
C32: =C31-1 -> -3 | D32: =IF(C32>=0,C32,0) -> 0 | E32: =IF(D32>0,Rekentool!$F$17,0) -> 0 | F32: =E32*D32*$F$5 -> 0 | G32: =IF(D32>0,Rekentool!$F$16,0) -> 0 | H32: =Rekentool!$F$11 -> 2 | J32: =(F32+G32)*H32 -> 0 | K32: =IF(C32>=0,$M$5,0) -> 0 | L32: =J32+K32 -> 0 | N32: =MIN(L32,Rekentool!$H$65) -> 0 | O32: =N32*$R$2 -> 0 | P32: =L32-N32 -> 0 | Q32: =P32*$X$2 -> 0 | R32: =O32+Q32 -> 0 | T32: =MIN(L32,Rekentool!$H$73) -> 0 | U32: =T32*$R$2 -> 0 | V32: =L32-T32 -> 0 | W32: =V32*$X$2 -> 0 | X32: =U32+W32 -> 0 | AC32: =IF(C32>0,$M$5,0) -> 0 | AE32: =MIN(AC32,Rekentool!$H$65) -> 0 | AF32: =AE32*$R$2 -> 0 | AG32: =AC32-AE32 -> 0 | AH32: =AG32*$X$2 -> 0 | AI32: =AF32+AH32 -> 0 | AK32: =MIN(AC32,Rekentool!$H$73) -> 0 | AL32: =AK32*$R$2 -> 0 | AM32: =AC32-AK32 -> 0 | AN32: =AM32*$X$2 -> 0 | AO32: =AL32+AN32 -> 0
C33: =C32-1 -> -4 | D33: =IF(C33>=0,C33,0) -> 0 | E33: =IF(D33>0,Rekentool!$F$17,0) -> 0 | F33: =E33*D33*$F$5 -> 0 | G33: =IF(D33>0,Rekentool!$F$16,0) -> 0 | H33: =Rekentool!$F$11 -> 2 | J33: =(F33+G33)*H33 -> 0 | K33: =IF(C33>=0,$M$5,0) -> 0 | L33: =J33+K33 -> 0 | N33: =MIN(L33,Rekentool!$H$65) -> 0 | O33: =N33*$R$2 -> 0 | P33: =L33-N33 -> 0 | Q33: =P33*$X$2 -> 0 | R33: =O33+Q33 -> 0 | T33: =MIN(L33,Rekentool!$H$73) -> 0 | U33: =T33*$R$2 -> 0 | V33: =L33-T33 -> 0 | W33: =V33*$X$2 -> 0 | X33: =U33+W33 -> 0 | AC33: =IF(C33>0,$M$5,0) -> 0 | AE33: =MIN(AC33,Rekentool!$H$65) -> 0 | AF33: =AE33*$R$2 -> 0 | AG33: =AC33-AE33 -> 0 | AH33: =AG33*$X$2 -> 0 | AI33: =AF33+AH33 -> 0 | AK33: =MIN(AC33,Rekentool!$H$73) -> 0 | AL33: =AK33*$R$2 -> 0 | AM33: =AC33-AK33 -> 0 | AN33: =AM33*$X$2 -> 0 | AO33: =AL33+AN33 -> 0
C34: =C33-1 -> -5 | D34: =IF(C34>=0,C34,0) -> 0 | E34: =IF(D34>0,Rekentool!$F$17,0) -> 0 | F34: =E34*D34*$F$5 -> 0 | G34: =IF(D34>0,Rekentool!$F$16,0) -> 0 | H34: =Rekentool!$F$11 -> 2 | J34: =(F34+G34)*H34 -> 0 | K34: =IF(C34>=0,$M$5,0) -> 0 | L34: =J34+K34 -> 0 | N34: =MIN(L34,Rekentool!$H$65) -> 0 | O34: =N34*$R$2 -> 0 | P34: =L34-N34 -> 0 | Q34: =P34*$X$2 -> 0 | R34: =O34+Q34 -> 0 | T34: =MIN(L34,Rekentool!$H$73) -> 0 | U34: =T34*$R$2 -> 0 | V34: =L34-T34 -> 0 | W34: =V34*$X$2 -> 0 | X34: =U34+W34 -> 0 | AC34: =IF(C34>0,$M$5,0) -> 0 | AE34: =MIN(AC34,Rekentool!$H$65) -> 0 | AF34: =AE34*$R$2 -> 0 | AG34: =AC34-AE34 -> 0 | AH34: =AG34*$X$2 -> 0 | AI34: =AF34+AH34 -> 0 | AK34: =MIN(AC34,Rekentool!$H$73) -> 0 | AL34: =AK34*$R$2 -> 0 | AM34: =AC34-AK34 -> 0 | AN34: =AM34*$X$2 -> 0 | AO34: =AL34+AN34 -> 0
C35: =C34-1 -> -6 | D35: =IF(C35>=0,C35,0) -> 0 | E35: =IF(D35>0,Rekentool!$F$17,0) -> 0 | F35: =E35*D35*$F$5 -> 0 | G35: =IF(D35>0,Rekentool!$F$16,0) -> 0 | H35: =Rekentool!$F$11 -> 2 | J35: =(F35+G35)*H35 -> 0 | K35: =IF(C35>=0,$M$5,0) -> 0 | L35: =J35+K35 -> 0 | N35: =MIN(L35,Rekentool!$H$65) -> 0 | O35: =N35*$R$2 -> 0 | P35: =L35-N35 -> 0 | Q35: =P35*$X$2 -> 0 | R35: =O35+Q35 -> 0 | T35: =MIN(L35,Rekentool!$H$73) -> 0 | U35: =T35*$R$2 -> 0 | V35: =L35-T35 -> 0 | W35: =V35*$X$2 -> 0 | X35: =U35+W35 -> 0 | AC35: =IF(C35>0,$M$5,0) -> 0 | AE35: =MIN(AC35,Rekentool!$H$65) -> 0 | AF35: =AE35*$R$2 -> 0 | AG35: =AC35-AE35 -> 0 | AH35: =AG35*$X$2 -> 0 | AI35: =AF35+AH35 -> 0 | AK35: =MIN(AC35,Rekentool!$H$73) -> 0 | AL35: =AK35*$R$2 -> 0 | AM35: =AC35-AK35 -> 0 | AN35: =AM35*$X$2 -> 0 | AO35: =AL35+AN35 -> 0
C36: =C35-1 -> -7 | D36: =IF(C36>=0,C36,0) -> 0 | E36: =IF(D36>0,Rekentool!$F$17,0) -> 0 | F36: =E36*D36*$F$5 -> 0 | G36: =IF(D36>0,Rekentool!$F$16,0) -> 0 | H36: =Rekentool!$F$11 -> 2 | J36: =(F36+G36)*H36 -> 0 | K36: =IF(C36>=0,$M$5,0) -> 0 | L36: =J36+K36 -> 0 | N36: =MIN(L36,Rekentool!$H$65) -> 0 | O36: =N36*$R$2 -> 0 | P36: =L36-N36 -> 0 | Q36: =P36*$X$2 -> 0 | R36: =O36+Q36 -> 0 | T36: =MIN(L36,Rekentool!$H$73) -> 0 | U36: =T36*$R$2 -> 0 | V36: =L36-T36 -> 0 | W36: =V36*$X$2 -> 0 | X36: =U36+W36 -> 0 | AC36: =IF(C36>0,$M$5,0) -> 0 | AE36: =MIN(AC36,Rekentool!$H$65) -> 0 | AF36: =AE36*$R$2 -> 0 | AG36: =AC36-AE36 -> 0 | AH36: =AG36*$X$2 -> 0 | AI36: =AF36+AH36 -> 0 | AK36: =MIN(AC36,Rekentool!$H$73) -> 0 | AL36: =AK36*$R$2 -> 0 | AM36: =AC36-AK36 -> 0 | AN36: =AM36*$X$2 -> 0 | AO36: =AL36+AN36 -> 0
C37: =C36-1 -> -8 | D37: =IF(C37>=0,C37,0) -> 0 | E37: =IF(D37>0,Rekentool!$F$17,0) -> 0 | F37: =E37*D37*$F$5 -> 0 | G37: =IF(D37>0,Rekentool!$F$16,0) -> 0 | H37: =Rekentool!$F$11 -> 2 | J37: =(F37+G37)*H37 -> 0 | K37: =IF(C37>=0,$M$5,0) -> 0 | L37: =J37+K37 -> 0 | N37: =MIN(L37,Rekentool!$H$65) -> 0 | O37: =N37*$R$2 -> 0 | P37: =L37-N37 -> 0 | Q37: =P37*$X$2 -> 0 | R37: =O37+Q37 -> 0 | T37: =MIN(L37,Rekentool!$H$73) -> 0 | U37: =T37*$R$2 -> 0 | V37: =L37-T37 -> 0 | W37: =V37*$X$2 -> 0 | X37: =U37+W37 -> 0 | AC37: =IF(C37>0,$M$5,0) -> 0 | AE37: =MIN(AC37,Rekentool!$H$65) -> 0 | AF37: =AE37*$R$2 -> 0 | AG37: =AC37-AE37 -> 0 | AH37: =AG37*$X$2 -> 0 | AI37: =AF37+AH37 -> 0 | AK37: =MIN(AC37,Rekentool!$H$73) -> 0 | AL37: =AK37*$R$2 -> 0 | AM37: =AC37-AK37 -> 0 | AN37: =AM37*$X$2 -> 0 | AO37: =AL37+AN37 -> 0
C38: =C37-1 -> -9 | D38: =IF(C38>=0,C38,0) -> 0 | E38: =IF(D38>0,Rekentool!$F$17,0) -> 0 | F38: =E38*D38*$F$5 -> 0 | G38: =IF(D38>0,Rekentool!$F$16,0) -> 0 | H38: =Rekentool!$F$11 -> 2 | J38: =(F38+G38)*H38 -> 0 | K38: =IF(C38>=0,$M$5,0) -> 0 | L38: =J38+K38 -> 0 | N38: =MIN(L38,Rekentool!$H$65) -> 0 | O38: =N38*$R$2 -> 0 | P38: =L38-N38 -> 0 | Q38: =P38*$X$2 -> 0 | R38: =O38+Q38 -> 0 | T38: =MIN(L38,Rekentool!$H$73) -> 0 | U38: =T38*$R$2 -> 0 | V38: =L38-T38 -> 0 | W38: =V38*$X$2 -> 0 | X38: =U38+W38 -> 0 | AC38: =IF(C38>0,$M$5,0) -> 0 | AE38: =MIN(AC38,Rekentool!$H$65) -> 0 | AF38: =AE38*$R$2 -> 0 | AG38: =AC38-AE38 -> 0 | AH38: =AG38*$X$2 -> 0 | AI38: =AF38+AH38 -> 0 | AK38: =MIN(AC38,Rekentool!$H$73) -> 0 | AL38: =AK38*$R$2 -> 0 | AM38: =AC38-AK38 -> 0 | AN38: =AM38*$X$2 -> 0 | AO38: =AL38+AN38 -> 0
C39: =C38-1 -> -10 | D39: =IF(C39>=0,C39,0) -> 0 | E39: =IF(D39>0,Rekentool!$F$17,0) -> 0 | F39: =E39*D39*$F$5 -> 0 | G39: =IF(D39>0,Rekentool!$F$16,0) -> 0 | H39: =Rekentool!$F$11 -> 2 | J39: =(F39+G39)*H39 -> 0 | K39: =IF(C39>=0,$M$5,0) -> 0 | L39: =J39+K39 -> 0 | N39: =MIN(L39,Rekentool!$H$65) -> 0 | O39: =N39*$R$2 -> 0 | P39: =L39-N39 -> 0 | Q39: =P39*$X$2 -> 0 | R39: =O39+Q39 -> 0 | T39: =MIN(L39,Rekentool!$H$73) -> 0 | U39: =T39*$R$2 -> 0 | V39: =L39-T39 -> 0 | W39: =V39*$X$2 -> 0 | X39: =U39+W39 -> 0 | AC39: =IF(C39>0,$M$5,0) -> 0 | AE39: =MIN(AC39,Rekentool!$H$65) -> 0 | AF39: =AE39*$R$2 -> 0 | AG39: =AC39-AE39 -> 0 | AH39: =AG39*$X$2 -> 0 | AI39: =AF39+AH39 -> 0 | AK39: =MIN(AC39,Rekentool!$H$73) -> 0 | AL39: =AK39*$R$2 -> 0 | AM39: =AC39-AK39 -> 0 | AN39: =AM39*$X$2 -> 0 | AO39: =AL39+AN39 -> 0
C40: =C39-1 -> -11 | D40: =IF(C40>=0,C40,0) -> 0 | E40: =IF(D40>0,Rekentool!$F$17,0) -> 0 | F40: =E40*D40*$F$5 -> 0 | G40: =IF(D40>0,Rekentool!$F$16,0) -> 0 | H40: =Rekentool!$F$11 -> 2 | J40: =(F40+G40)*H40 -> 0 | K40: =IF(C40>=0,$M$5,0) -> 0 | L40: =J40+K40 -> 0 | N40: =MIN(L40,Rekentool!$H$65) -> 0 | O40: =N40*$R$2 -> 0 | P40: =L40-N40 -> 0 | Q40: =P40*$X$2 -> 0 | R40: =O40+Q40 -> 0 | T40: =MIN(L40,Rekentool!$H$73) -> 0 | U40: =T40*$R$2 -> 0 | V40: =L40-T40 -> 0 | W40: =V40*$X$2 -> 0 | X40: =U40+W40 -> 0 | AC40: =IF(C40>0,$M$5,0) -> 0 | AE40: =MIN(AC40,Rekentool!$H$65) -> 0 | AF40: =AE40*$R$2 -> 0 | AG40: =AC40-AE40 -> 0 | AH40: =AG40*$X$2 -> 0 | AI40: =AF40+AH40 -> 0 | AK40: =MIN(AC40,Rekentool!$H$73) -> 0 | AL40: =AK40*$R$2 -> 0 | AM40: =AC40-AK40 -> 0 | AN40: =AM40*$X$2 -> 0 | AO40: =AL40+AN40 -> 0
C41: =C40-1 -> -12 | D41: =IF(C41>=0,C41,0) -> 0 | E41: =IF(D41>0,Rekentool!$F$17,0) -> 0 | F41: =E41*D41*$F$5 -> 0 | G41: =IF(D41>0,Rekentool!$F$16,0) -> 0 | H41: =Rekentool!$F$11 -> 2 | J41: =(F41+G41)*H41 -> 0 | K41: =IF(C41>=0,$M$5,0) -> 0 | L41: =J41+K41 -> 0 | N41: =MIN(L41,Rekentool!$H$65) -> 0 | O41: =N41*$R$2 -> 0 | P41: =L41-N41 -> 0 | Q41: =P41*$X$2 -> 0 | R41: =O41+Q41 -> 0 | T41: =MIN(L41,Rekentool!$H$73) -> 0 | U41: =T41*$R$2 -> 0 | V41: =L41-T41 -> 0 | W41: =V41*$X$2 -> 0 | X41: =U41+W41 -> 0 | AC41: =IF(C41>0,$M$5,0) -> 0 | AE41: =MIN(AC41,Rekentool!$H$65) -> 0 | AF41: =AE41*$R$2 -> 0 | AG41: =AC41-AE41 -> 0 | AH41: =AG41*$X$2 -> 0 | AI41: =AF41+AH41 -> 0 | AK41: =MIN(AC41,Rekentool!$H$73) -> 0 | AL41: =AK41*$R$2 -> 0 | AM41: =AC41-AK41 -> 0 | AN41: =AM41*$X$2 -> 0 | AO41: =AL41+AN41 -> 0
...

Sheet Dividend
F1: Zonder plan | L1: Met plan
G3: Geen FP | H3: Wel FP | M3: Geen FP | N3: Wel FP
D4: Box 2 | F4: Nalatenschap | G4: =Rekentool!E24 -> 986490.07 | H4: =G4 -> 986490.07 | L4: Nalatenschap | M4: =Rekentool!G53 -> 742938.28 | N4: =M4 -> 742938.28
F5: Lage tarief | G5: =MIN(Rekentool!H65,G4) -> 68843 | H5: =MIN(Rekentool!H73,H4) -> 137686 | L5: Lage tarief | M5: =MIN(Rekentool!H65,M4) -> 68843 | N5: =MIN(Rekentool!H73,N4) -> 137686
F6: Hoge tarief | G6: =MAX(,(G4-G5),0) -> 917647.07 | H6: =MAX(,(H4-H5),0) -> 848804.07 | L6: Hoge tarief | M6: =MAX((M4-M5),0) -> 674095.28 | N6: =MAX((N4-N5),0) -> 605252.28
E8: 0.245 | G8: =G5*E8 -> 16866.535 | H8: =H5*E8 -> 33733.07 | K8: 0.245 | M8: =M5*K8 -> 16866.535 | N8: =N5*K8 -> 33733.07
E9: 0.31 | G9: =G6*E9 -> 284470.59 | H9: =H6*E9 -> 263129.26 | K9: 0.31 | M9: =M6*K9 -> 208969.54 | N9: =N6*K9 -> 187628.21
G11: =SUM(G8:G9) -> 301337.13 | H11: =SUM(H8:H9) -> 296862.33 | M11: =SUM(M8:M9) -> 225836.07 | N11: =SUM(N8:N9) -> 221361.28

Sheet Tarieven erf en schenkbelasting
B4: Schenkingsplan
B12: Erfbelasting kind 2025 | F12: Schenkbelasting kind 2025
B14: Van | C14: Tot | D14: Percentage | F14: Van | G14: Tot | H14: Percentage
B15: 0 | C15: =Rekentool!D65 -> 26230 | D15: 0 | F15: 0 | G15: =Rekentool!D73 -> 6908 | H15: 0
B16: =C15 -> 26230 | C16: =Rekentool!D66 -> 184899 | D16: 0.1 | F16: =G15 -> 6908 | G16: =Rekentool!D74 -> 165577 | H16: 0.1
B17: =C16 -> 184899 | D17: 0.2 | F17: =G16 -> 165577 | H17: 0.2

Sheet Hulpberekening
D6: Zonder ingrepen | K6: Na ingrepen
D8: =Rekentool!E28 -> 344813.87 | K8: Erfenis per kind | L8: =Rekentool!I28 -> 122628.5
K9: Schenking per kind | L9: =Rekentool!E89 -> 6908
C11: Erfbelasting kind 2026 | K11: Erfbelasting kind 2025
C13: Van | D13: Tot | E13: Percentage | G13: Bedrag | H13: Belasting | K13: Van | L13: Tot | M13: Percentage | O13: Bedrag | P13: Belasting
C14: 0 | D14: =Rekentool!D65 -> 26230 | E14: 0 | G14: =IF(D8<D14,D8,D14) -> 26230 | H14: =G14*E14 -> 0 | K14: 0 | L14: =D14 -> 26230 | M14: 0 | O14: =IF(L8<L14,L8,L14) -> 26230 | P14: =O14*M14 -> 0
C15: =D14 -> 26230 | D15: =Rekentool!D66 -> 184899 | E15: 0.1 | G15: =D8-G16-G14 -> 158669 | H15: =E15*G15 -> 15866.9 | K15: =L14 -> 26230 | L15: =Rekentool!D66 -> 184899 | M15: 0.1 | O15: =L8-O16-O14 -> 96398.501 | P15: =M15*O15 -> 9639.8501
C16: =D15 -> 184899 | E16: 0.2 | G16: =IF(D8<C16,0,D8-C16) -> 159914.87 | H16: =E16*G16 -> 31982.974 | K16: =L15 -> 184899 | M16: 0.2 | O16: =IF(L8<K16,0,L8-K16) -> 0 | P16: =M16*O16 -> 0
G17: =SUM(G14:G16) -> 344813.87 | H17: =SUM(H14:H16) -> 47849.874 | O17: =SUM(O14:O16) -> 122628.5 | P17: =SUM(P14:P16) -> 9639.8501
K20: Schenkbelasting
K22: Van | L22: Tot | M22: Percentage | O22: Bedrag | P22: Belasting
K23: 0 | L23: =Rekentool!D73 -> 6908 | M23: 0 | O23: =IF(L9<L23,L9,L23) -> 6908 | P23: =O23*M23 -> 0
K24: =L23 -> 6908 | L24: =Rekentool!D74 -> 165577 | M24: 0.1 | O24: =L9-O25-O23 -> 0 | P24: =M24*O24 -> 0
K25: =L24 -> 165577 | M25: 0.2 | O25: =IF(L9<K25,0,L9-K25) -> 0 | P25: =M25*O25 -> 0
O26: =SUM(O23:O25) -> 6908 | P26: =SUM(P23:P25) -> 0
